Workbook
Name _Toc383513958: 'EL INSTALACIJE'!#REF!
Name _Toc383513958: SVETILA!#REF!
Name _Toc383513959: 'EL INSTALACIJE'!#REF!
Name _Toc383513959: SVETILA!#REF!
Name _Toc383513961: 'EL INSTALACIJE'!#REF!
Name _Toc383513961: SVETILA!#REF!
Name _Toc385069958: 'EL INSTALACIJE'!#REF!
Name _Toc385069958: SVETILA!#REF!
Name _Toc471629816: 'EL INSTALACIJE'!#REF!
Name _Toc471629816: SVETILA!#REF!
Name _Toc471629818: 'EL INSTALACIJE'!#REF!
Name _Toc471629818: SVETILA!#REF!
Name _Toc471629819: 'EL INSTALACIJE'!#REF!
Name _Toc471629819: SVETILA!#REF!
Name _Toc471629821: 'EL INSTALACIJE'!#REF!
Name _Toc471629821: SVETILA!#REF!
Name _Toc471629824: 'EL INSTALACIJE'!#REF!
Name _Toc471629824: SVETILA!#REF!
Name _Toc509377973: 'EL INSTALACIJE'!#REF!
Name _Toc509377973: SVETILA!#REF!
Name _Toc6280374: 'EL INSTALACIJE'!#REF!
Name _Toc6280374: SVETILA!#REF!
Name _Toc6300552: 'EL INSTALACIJE'!#REF!
Name _Toc6300552: SVETILA!#REF!
Name _Toc99863562: 'EL INSTALACIJE'!#REF!
Name _Toc99863562: SVETILA!#REF!
Name _Toc99863563: 'EL INSTALACIJE'!#REF!
Name _Toc99863563: SVETILA!#REF!
Name _Toc99863565: 'EL INSTALACIJE'!#REF!
Name _Toc99863565: SVETILA!#REF!
Name _Toc99863570: 'EL INSTALACIJE'!#REF!
Name _Toc99863570: SVETILA!#REF!
Name _Toc99863571: 'EL INSTALACIJE'!#REF!
Name _Toc99863571: SVETILA!#REF!
Name _Toc99863572: 'EL INSTALACIJE'!#REF!
Name _Toc99863572: SVETILA!#REF!
Name _Toc99863573: 'EL INSTALACIJE'!#REF!
Name _Toc99863573: SVETILA!#REF!
Name EQS_IzvozVExcel: #REF!
Name EQS_IzvozVExcel: #REF!
Name EQS_IzvozVExcel: #REF!
Name EQS_IzvozVExcel: #REF!
Name KRATICEPLOCCNIK: #REF!
Name KRATICEPLOCCNIK: #REF!
Name KRATICEPLOCNIK: #REF!
Name KRATICEPLOCNIK: #REF!
Name KRATICEPLOCNIK: #REF!
Name KRATICEPLOCNIK: #REF!
Name LOL: #REF!
Name LOL: #REF!
Name OLE_LINK1: 'EL INSTALACIJE'!#REF!
Name OLE_LINK1: SVETILA!#REF!
Name PodPoglavje_1.1: #REF!
Name PodPoglavje_1.1: #REF!
Name PodPoglavje_1.1: #REF!
Name PodPoglavje_1.1: #REF!
Name PodPoglavje_1.2: #REF!
Name PodPoglavje_1.2: #REF!
Name PodPoglavje_1.2: #REF!
Name PodPoglavje_1.2: #REF!

Sheet SPLOŠNO
A1: SPLOŠNO (VELJA ZA CEL POPIS DEL)
A3: PRI VSEH POSTAVKAH POPISA DEL, KJER JE NAVEDEN TIP OPREME ALI MATERIALA, KI BI SE NAJ VGRADIL ALI UPORABIL JE DOVOLJENA UPORABA TUDI DRUGIH ENAKOVREDNIH MATERIALOV ALI OPREME ENAKO ALI BOLJ KVALITETNIH OD PREDVIDENEGA V PROJEKTU OZ. POPISU PO PREHODNEM DOGOVORU Z PROJEKTANTOM, NADZORNIKOM ALI INVESTITORJEM IN VPISOM V GRADBENO KNJIGO.
A4: V primeru da posamezne postavke v popisu ne zajemajo celotnega opisa potrebnega za funkcionalno dokončanje dela, mora izvajalec izvedbo le tega vključiti v ceno na enoto!
A5: Enotne cene morajo vsebovati:
A6: - vsa potrebna dokumentacija za začetek del.
A7: - vsa potrebna pripravljalna in pospravljalna dela
A8: - pregled in čiščenje podloge, nanos izravnalne mase, kjer je to potrebno.
A9: - snemanje potrebnih izmer na gradbišču in po načrtih, prenos višinskih točk, poterbnih za izvedbo zemeljskih del in podobno
A10: - prenos in obeleževanje višinskih točk na objektu.
A11: - po potrebi izdelava vzorca in vgradnja le-tega na objektu.
A12: - ves potrebni material: glavni, pomožni, pritrdilni in vezni material.
A13: - vse potrebne transporte in prenose.
... A35: Pri vseh delih je potrebno upoštevati standarde, ki se nanašajo na dela v postavkah.

Sheet REKAP - 1 - GO DELA
B2: NAROČNIK:
B3: MESTNA OBČINA MURSKA SOBOTA
B6: PONUDNIK:
B8: PONUDBA ŠT.:
B11: OBJEKT
B12: RAZSVETLJAVA NOGOMETNEGA STADIONA FAZANERIJA MURSKA SOBOTA
B14: SKLOP 1
B15: GRADBENO-OBRTNIŠKA DELA
B20: REKAPITULACIJA
B22: 1.1 PRIPRAVLJALNA DELA | G22: ='GO DELA'!F34 -> 0
B23: 1.2 ZEMELJSKA DELA | G23: ='GO DELA'!F59 -> 0
B24: 1.3 BETONSKA DELA | G24: ='GO DELA'!F88 -> 0
B25: 1.4 TESARSKA DELA | G25: ='GO DELA'!F108 -> 0
B26: 1.5 RAZNA DELA | G26: ='GO DELA'!F126 -> 0
B27: SKUPAJ | G27: =SUM(G22:G26) -> 0
B28: NEPREDVIDENA DELA | F28: 0.03 | G28: =G27*F28 -> 0
B29: SKUPAJ Z NEPREDVIDENIMI DELI | G29: =G27+G28 -> 0
B31: KOMERCIALNI POPUST | G31: =G29*F31 -> 0
B32: SKUPAJ S KOMERCIALNIM POPUSTOM | G32: =G29-G31 -> 0
B34: 22% DDV | F34: 0.22 | G34: =G32*F34 -> 0
B35: SKUPAJ Z 22% DDV | G35: =G32+G34 -> 0
B38: V / na | E38: Žig | G38: Podpis
B39: Dne:

Sheet GO DELA
A1: Zap. št. | B1: Opis del | C1: EM | D1: Količina | E1: Cena/EM | F1: Skupaj
A3: 1 | B3: GRADBENO-OBRTNIŠKA DELA
A5: 1.1 | B5: PRIPRAVLJALNA DELA
A7: 1.1.1 | B7: Priprava okolice okrog objekta (4x točkovni temelj dim. 600x600 cm), zavarovanje mimoidočih z oznakami ob objektu, čiščenje celotnega območja z odstranjevanjem in odvozom vseh elementov, ki se nahajajo na gradbišču ter postavitev gradbiščne ograde in zavarovanje gradbišča. V ograji predvideti vrata za dostop na gradbišče. V ceni zajeti tudi potrebna dela in strošek za odstranitev ograje po končanih delih. | C7: kom | D7: 1 | F7: =D7*E7 -> 0
F8: =D8*E8 -> 0
A9: 1.1.2 | B9: Izvedba zakoličbe objekta. Obračun po dejanskih stroških. | C9: kom | D9: 1 | F9: =D9*E9 -> 0
F10: =D10*E10 -> 0
A11: 1.1.3 | B11: Postavitev profilov iz lesenih soh in plohov z nanašanjem tlorisnih gabaritov na višinsko nivelirane profile. V ceni zajeti vsa potrebna dela in material za izvedbo kot tudi odstranitev profilov. | C11: kom | D11: 1 | F11: =D11*E11 -> 0
F12: =D12*E12 -> 0
A13: 1.1.4 | B13: Zarisovanje in označitev izkopa temeljev/ temeljne plošče na terenu z apnom. | C13: kom | D13: 1 | F13: =D13*E13 -> 0
F14: =D14*E14 -> 0
A15: 1.1.5 | B15: Izdelava in postavitev gradbišcne table po Pravilniku o gradbiščih Ur.l.RS 55/2008. | C15: kom | D15: 1 | F15: =D15*E15 -> 0
F16: =D16*E16 -> 0
A17: 1.1.6 | B17: Geodetski posnetek objekta po zaključku gradnje ter vnos objekta v kataster - obračun po dejanski stroških. | C17: kom | D17: 1 | F17: =D17*E17 -> 0
F18: =D18*E18 -> 0
A19: 1.1.7 | B19: Rezanje obstoječega asfalta deb. Do 15 cm na mestu izvedbe novih temeljev reflektorjev. | C19: m1 | D19: 40 | F19: =D19*E19 -> 0
F20: =D20*E20 -> 0
A21: 1.1.8 | B21: Kompletna odstranitev asfalta deb. do 15 cm. V ceno zajeti odvoz na končno deponijo, plačilo takse, prenosi in prevozi. | C21: m2 | D21: 60 | F21: =D21*E21 -> 0
F22: =D22*E22 -> 0
A23: 1.1.9 | B23: Kompletna pazljiva odstranitev bet. tlakovcev na mestu novih temeljev, začasno varno deponiranje zaradi ponovne položitve po izvedbi temelja. Obračun po m2. | C23: m2 | D23: 100 | F23: =D23*E23 -> 0
A25: 1.1.10 | B25: Kompletna odstranitev bet. Robnika dim. 7/25 cm. V ceno zajeti odvoz na končno deponijo, plačilo takse, prenosi in prevozi. | C25: m1 | D25: 15 | F25: =D25*E25 -> 0
F26: =D26*E26 -> 0
A27: 1.1.11 | B27: Kompletna odstranitev večjih dreves višine do 15 m. V ceno zajeti potrebna dvigala, mehanizacijo, odvoz na končno deponijo, plačilo takse. | C27: kom | D27: 2 | F27: =D27*E27 -> 0
F28: =D28*E28 -> 0
A29: 1.1.12 | B29: Odstranitev vej na drevesu, ki se ohrani. Veje dolžine cca. 10 m, na višini cca. 15 m. V ceno zajeti potrebna dvigala, mehanizacijo, odvoz na končno deponijo, plačilo takse. | C29: kom | D29: 1 | F29: =D29*E29 -> 0
A31: 1.1.13 | B31: Razna neprevidena dela | C31: % | D31: 0.1 | F31: =D31*E31 -> 0
B34: PRIPRAVLJALNA DELA | F34: =SUM(F7:F33) -> 0
A37: 1.2 | B37: ZEMELJSKA DELA
B39: OPOMBA
B40: Obračun izvršenih količin predstravljajo neto izkopane količine v raščenem stanju in porušene količine. Pristojbine za odlaganje materialov vkalkulirati v enotne cene. Zemeljska dela izvajati po navodilih geomehanika, katerega stroški morajo biti zajeti v enotnih cenah pri zemeljskih delih. Dokazovanje zbitosti tampona mora biti zajeto v enotnih cenah. Vsa zemeljska dela kot so; izkopi, zasipi in podobno, se morajo izvajati po določilih tehničnih predpisov in skladno z navodili na osnovi geotehničnega poročila.
A42: 1.2.1 | B42: Strojni izkop gradbene jame za objekt v terenu III. ktg globine 2 do 4 m z direktnim nakladanjem izkopane zemlje na kamion ter odvozom na stalno deponijo oddaljeno do 25 km ter razstiranjem na njej | C42: m3 | D42: 964.6 | F42: =D42*E42 -> 0
F43: =D43*E43 -> 0
A44: 1.2.2 | B44: Strojno - ročno planiranje planuma izkopa objekta s točnostjo +-3 cm s povprečnim izkopom 0,05 m3/m2 in odvozom odvečnega materiala na deponijo na gradbišču h ~ 50,00 m ter strojna utrditev planuma. | C44: m2 | D44: 256 | F44: =D44*E44 -> 0
F45: =D45*E45 -> 0
A46: 1.2.3 | B46: Dobava in rastiranje ter utrditev gramoznega tampona pod temeljem komplet z dobavo gramoza, z razgrinjanjem, planiranjem in strojnim utrjevanjem v plasteh do predpisane zbitosti tampona in do projektirane kote. Navoz v debelini 50-60 cm. | C46: m3 | D46: 153.6 | F46: =D46*E46 -> 0
F47: =D47*E47 -> 0
A48: 1.2.4 | B48: Zasip za temelji z dobavo in rastiranjem ter utrditev gramoznega tampona komplet z dobavo gramoza, z razgrinjanjem, planiranjem in strojnim utrjevanjem v plasteh do predpisane zbitosti tampona in do projektirane kote. | C48: m3 | D48: 433.6 | F48: =D48*E48 -> 0
F49: =D49*E49 -> 0
A50: 1.2.5 | B50: Naprava zgornje zaključen površine nad temelji z dobavo in rastiranjem ter utrditev gramoznega tampona komplet z dobavo gramoza, z razgrinjanjem, planiranjem in strojnim utrjevanjem v plasteh do predpisane zbitosti tampona in do projektirane kote. | C50: m2 | D50: 471.96 | F50: =D50*E50 -> 0
F51: =D51*E51 -> 0
...

Sheet REKAP - 2 - STEBRI
B2: NAROČNIK:
B3: MESTNA OBČINA MURSKA SOBOTA
B6: PONUDNIK:
B8: PONUDBA ŠT.:
B11: OBJEKT
B12: RAZSVETLJAVA NOGOMETNEGA STADIONA FAZANERIJA MURSKA SOBOTA
B14: SKLOP 2
B15: STEBRI
B20: REKAPITULACIJA
B22: 2. KLJUČAVNIČARSKA DELA | G22: =STEBRI!F10 -> 0
B23: SKUPAJ | G23: =SUM(G22:G22) -> 0
B24: NEPREDVIDENA DELA | F24: 0.03 | G24: =G23*F24 -> 0
B25: SKUPAJ Z NEPREDVIDENIMI DELI | G25: =G23+G24 -> 0
B27: KOMERCIALNI POPUST | G27: =G25*F27 -> 0
B28: SKUPAJ S KOMERCIALNIM POPUSTOM | G28: =G25-G27 -> 0
B30: 22% DDV | F30: 0.22 | G30: =G28*F30 -> 0
B31: SKUPAJ Z 22% DDV | G31: =G28+G30 -> 0
B34: V / na | E34: Žig | G34: Podpis
B35: Dne:

Sheet STEBRI
A1: Zap. št. | B1: Opis del | C1: EM | D1: Količina | E1: Cena/EM | F1: Skupaj
A3: 2 | B3: KLJUČAVNIČARSKA DELA
B5: Vsa ključavničarska dela je izvajati po projektih in ob upoštevanju statičnih izračunov ter delavniških načrtih, ki jih potrdi projektant oziroma nadzor.
B6: V ceno je poleg antikorozijske zaščite zajeti še ves potreben material za izdelavo in montažo kovinske konstrukcije, kot tudi vsa potrebna sidra, pom. dela, potrebne odre in vertikalne ter horizontalne transporte. Splošna navodila je upoštevati pri vseh ključavničarskih delih kot tudi vse varnostno tehnične predpise med izvedbo omenjenih del.
A8: 2.1. | B8: Dobava, izdelava in montaža jeklenega stebra razsvetljave z vsem spojnim in pritrdilnim materialom (vključno s sidri, ki se vgradijo v betonski temelj). Vsi elementi konstrukcije vroče cinkani. Nosilni steber za razsvetljavo je jekleni iz jekla S 275 in oblike prisekani stožec višine 37,0 m nad terenom in debeline stene 15 mm. Presek stebra ob vpetju je D/t = 1300/15 mm, presek na višini h=37.0 m pa je D/t = 800/15 mm. Teža stebra 17.500kg. V ceno je zajeti tudi podkonstrukcijo za reflektorje, ki je nameščena na višini 37 m. Podkonstrukcija je velikosti b/h= 4.0 x 6.15 m in jo sestavlja steber iz okrogle cevi D/t = 320/10 mm, na katerega so pritrjene horizontalne cevi razpona 2x3.05 m preseka 193,7/10 mm, na katere se pritrdijo reflektorji. Na podkonstrukcijo so s strani na treh višinah pritrjeni trije podesti in lestev s hrbtobranom za dostop do posameznih nivojev reflektorjev. Teža podkonstrukcije 3.500kg. V ceno je zajeti tudi lestev za dostop na vrh stebra dolžine 37 m. Lestev mora biti opremljena z vsemi predpisanimi varnostnimi elementi (hrbtobrani, vmesni podesti, zaporo s ključavnico, ki onemogoča dostop nepooblaščenim,...). Vse izvedeno v skladu s standardi in predpisi. Dovoljena je uporaba tipskih rešitev nosilnega stebra, konstrukcije za reflektorje, podestov in stopnic, v kolikor te zadostijo vse funkcionalne zahteve: višina stebrov, predvideno število reflektorjev, primeren dostop in vzdrževanje... Ponudnik mora v tem primeru podati vso ustrezno tehnično dokumentacijo (statični izračun, delavniški načrti,..) v potrditev projektantu gradbenih konstrukcij in nadzoru. | C8: kom | D8: 4 | F8: =D8*E8 -> 0
E10: SKUPAJ RAZSVETLJAVA | F10: =SUM(F8:F8) -> 0

Sheet REKAP - 3 - EL INSTALACIJE
B2: NAROČNIK:
B3: MESTNA OBČINA MURSKA SOBOTA
B6: PONUDNIK:
B8: PONUDBA ŠT.:
B11: OBJEKT
B12: RAZSVETLJAVA NOGOMETNEGA STADIONA FAZANERIJA MURSKA SOBOTA
B14: SKLOP 3
B15: ELEKTRO INSTALACIJE
B20: REKAPITULACIJA
B22: 1. INSTALACIJE | G22: ='EL INSTALACIJE'!F23 -> 0
B23: 2. STIKALNI BLOKI | G23: ='EL INSTALACIJE'!F85 -> 0
B24: 3. RAZSVETLJAVA | G24: ='EL INSTALACIJE'!F94 -> 0
B25: 4. OSTALO | G25: ='EL INSTALACIJE'!F102 -> 0
B26: SKUPAJ | G26: =SUM(G22:G25) -> 0
B27: NEPREDVIDENA DELA | F27: 0.03 | G27: =G26*F27 -> 0
B28: SKUPAJ Z NEPREDVIDENIMI DELI | G28: =G26+G27 -> 0
B30: KOMERCIALNI POPUST | G30: =G28*F30 -> 0
B31: SKUPAJ S KOMERCIALNIM POPUSTOM | G31: =G28-G30 -> 0
B33: 22% DDV | F33: 0.22 | G33: =G31*F33 -> 0
B34: SKUPAJ Z 22% DDV | G34: =G31+G33 -> 0
B37: V / na | E37: Žig | G37: Podpis
B38: Dne:

Sheet EL INSTALACIJE
A1: 1. Instalacije
A2: Dobava, polaganje in označevanje instalacijskega materiala:
A4: Zap. št. | B4: Opis del | C4: EM | D4: Količina | E4: Cena/EM | F4: Skupaj
A5: 1 | B5: negibljiva plastična zaščitna cev, vključno s priborom za montažo, PN Ø16mm | C5: m | D5: 30 | F5: =D5*E5 -> 0
A6: =A5+1 -> 2 | B6: dvoplaščna, gibljiva, plastična zaščitna cev, DWPØ65 mm | C6: m | D6: 580 | F6: =D6*E6 -> 0
A7: =A6+1 -> 3 | B7: dvoplaščna, gibljiva, plastična zaščitna cev, DWPØ110 mm | C7: m | D7: 1020 | F7: =D7*E7 -> 0
A8: =A7+1 -> 4 | B8: kabelska polica iz pocinkane pločevine, kompletno s priborom za montažo, pokrovom in ostalim drobnim materialom, širine 50 mm | C8: m | D8: 45 | F8: =D8*E8 -> 0
A9: =A8+1 -> 5 | B9: kabelska polica iz pocinkane pločevine, kompletno s priborom za montažo, pokrovom in ostalim drobnim materialom, širine 100 mm | C9: m | D9: 15 | F9: =D9*E9 -> 0
A10: =A9+1 -> 6 | B10: energetski kabel, NYY-J 5x2,5 mm2 | C10: m | D10: 680 | F10: =D10*E10 -> 0
A11: =A10+1 -> 7 | B11: energetski kabel, NYY-J 7x2,5 mm2 | C11: m | D11: 180 | F11: =D11*E11 -> 0
A12: =A11+1 -> 8 | B12: energetski kabel z zvijavimi vodniki, Y-JZ 3x2,5 mm2 | C12: m | D12: 4050 | F12: =D12*E12 -> 0
A13: =A12+1 -> 9 | B13: oklopljen energetski kabel z zvijavimi vodniki, SY-JZ 5x2,5 mm2 | C13: m | D13: 5 | F13: =D13*E13 -> 0
A14: =A13+1 -> 10 | B14: oklopljen energetski kabel z zvijavimi vodniki, SY-JZ 7x2,5 mm2 | C14: m | D14: 5 | F14: =D14*E14 -> 0
A15: =A14+1 -> 11 | B15: energetski kabel, NA2XY-J 4x150 mm2 | C15: m | D15: 530 | F15: =D15*E15 -> 0
A16: =A15+1 -> 12 | B16: zvijavi, energetski kabel, FG 7R 1x185 mm2 | C16: m | D16: 60 | F16: =D16*E16 -> 0
A17: =A16+1 -> 13 | B17: kanbelska glava za kabel 4x150mm2 Al | C17: kos | D17: 8 | F17: =D17*E17 -> 0
... A21: =A20+1 -> 17 | B21: meritve energetske, električne instalacije in ozemljitvenih upornosti ter izdaja poročila | C21: komp. | D21: 1 | F21: =D21*E21 -> 0
E23: SKUPAJ | F23: =SUM(F5:F21) -> 0
A26: 2. Stikalni bloki
A27: Dobava, montaža, vezava in označevanje opreme, ki se vgradi v stikalni blok:
A29: Zap. št. | B29: Opis del | C29: EM | D29: Količina | E29: Cena/EM | F29: Skupaj
B30: MO | C30: komp. | D30: 1 | F30: =D30*E30 -> 0
A31: 1 | B31: prostostoječa, plastična, razdelilna omara, dim.: 440x1065x322mm, vrati s tritočkovnim zapiranjem in enim izrezomn s prozornim okencem, IP54, kompletno z montažno ploščo, montažnim podstavkom in ostalim drobnim materialom | C31: kos | D31: 1
A32: =A31+1 -> 2 | B32: števčna plošča, namenjena montaži trifaznega števca el. energije | C32: kos | D32: 1
A33: =A32+1 -> 3 | B33: elektronska, trifazna, merilna garnitura za merjenje delovne in jalove moči ter 15 min. konične moči, primerna za polindirektno priključitev, kompletno z GSM/GPRS komunikacijskim vmesnikom | C33: kos | D33: 1
A34: =A33+1 -> 4 | B34: antena za GSM | C34: kos | D34: 1
A35: =A34+1 -> 5 | B35: merilna spončna garnitura | C35: kos | D35: 1
A36: =A35+1 -> 6 | B36: tripolni, prenapetostni odvodnik, Imp=12,5kA, (8/20µs) | C36: komp. | D36: 1
A37: =A36+1 -> 7 | B37: PEN bakrena zbiralka, vezni in ostali drobni material, označevanje, meritve in poročilo o preizkusu | C37: komp. | D37: 1
B39: R-rs | C39: komp. | D39: 1 | F39: =D39*E39 -> 0
A40: 1 | B40: prostostoječa, plastična, razdelilna omara, dim.: 440x1065x322mm, vrati s tritočkovnim zapiranjem in enim izrezomn s prozornim okencem, IP54, kompletno z montažno ploščo, montažnim podstavkom in ostalim drobnim materialom | C40: kos | D40: 2
A41: =A40+1 -> 2 | B41: prostostoječa, plastična, razdelilna omara, dim.: 785x1065x322mm, vrati s tritočkovnim zapiranjem in enim izrezomn s prozornim okencem, IP54, kompletno z montažno ploščo, montažnim podstavkom in ostalim drobnim materialom | C41: kos | D41: 1
A42: =A41+1 -> 3 | B42: prostostoječa, plastična, razdelilna omara, dim.: 1115x1065x322mm, vrati s tritočkovnim zapiranjem in enim izrezomn s prozornim okencem, IP54, kompletno z montažno ploščo, montažnim podstavkom in ostalim drobnim materialom | C42: kos | D42: 1
A43: =A42+1 -> 4 | B43: štiripolno, bremensko, preklopno stikalo (1,0,2), 800A, kompletno z mehanizmom in ročico | C43: kos | D43: 1
A44: =A43+1 -> 5 | B44: tripolna, varovalčna letev za montažo na 185 mm zbiralčni sistem, In=160A, komplet z NV varovalnimi vložki | C44: kos | D44: 7
A45: =A44+1 -> 6 | B45: tripolna, varovalčna letev za montažo na 185 mm zbiralčni sistem, In=250A, komplet z NV varovalnimi vložki | C45: kos | D45: 4
A46: =A45+1 -> 7 | B46: 185 mm, trifazni zbiralčni sistem, z bakrenimi zbiralkami Cu 50x10 mm (852A), kompletno s podporami, zaključki, pokrovi in ostalim drobnim in montažnim materialom | C46: m | D46: 1
A47: =A46+1 -> 8 | B47: merilni, tokovni transforamtor, 600/5A | C47: kos | D47: 3
A48: =A47+1 -> 9 | B48: trifazni, digitalni števec, 1 tarifa, priključek za tokovnik 5A(6A),RE | C48: kos | D48: 1
A49: =A48+1 -> 10 | B49: ABS ohišje-pokrov, prozorno, s tečaji, 344x289x117mm in DIN letvijo | D49: 1
...

Sheet REKAP - 4 - SVETILA
B2: NAROČNIK:
B3: MESTNA OBČINA MURSKA SOBOTA
B6: PONUDNIK:
B8: PONUDBA ŠT.:
B11: OBJEKT
B12: RAZSVETLJAVA NOGOMETNEGA STADIONA FAZANERIJA MURSKA SOBOTA
B14: SKLOP 4
B15: SVETILA
B20: REKAPITULACIJA
B22: DOBAVA SVETILK | G22: =SVETILA!F11 -> 0
B23: SKUPAJ | G23: =SUM(G22:G22) -> 0
B24: NEPREDVIDENA DELA | F24: 0.03 | G24: =G23*F24 -> 0
B25: SKUPAJ Z NEPREDVIDENIMI DELI | G25: =G23+G24 -> 0
B27: KOMERCIALNI POPUST | G27: =G25*F27 -> 0
B28: SKUPAJ S KOMERCIALNIM POPUSTOM | G28: =G25-G27 -> 0
B30: 22% DDV | F30: 0.22 | G30: =G28*F30 -> 0
B31: SKUPAJ Z 22% DDV | G31: =G28+G30 -> 0
B34: V / na | E34: Žig | G34: Podpis
B35: Dne:

Sheet SVETILA
A1: 1. Razsvetljava
A2: Samo dobava svetilk vključno s predstikalno napravo
A4: Zap. št. | B4: Opis del | C4: EM | D4: Količina | E4: Cena/EM | F4: Skupaj
A6: 1a | B6: Reflektor z ohišjem v celoti iz brizganega aluminija z minimalno vsebnostjo bakra, oblikovani za čimmanjšo upornost vetru in čimboljše hlajenje-hladilana rebra, obarvano s polisterskim prašnim barvanjem sive barve, kaljeno steklo, tesnila odporna proti staranju in UV žarkom, vroče cinkani nosilci reflektorja, priključna doza z vžigno napravo na ohišju reflektorja iz visoko temperaturno in UV odpornega termoplasta , na ohišju teflonski kompenzacijski filtri / izenačevalniki pritiska v reflektorju, IK08, teža največ 15 kg, izpostavljena površina proti vetru pri 70°naklonu največ 0,25 m2 , najmanj IP65, po EN60598-1 trajna uporaba pri 35°C in kratkotrajna pri 45°C, optike ločeno vgrajene v ohišju z različnimi svetlobnimi usmeritvami izdelane iz visokosjajnega galvaniziranega aluminija 99,99%, optike z natančno usmeritvijo svetlobnega snopa za čim manjše svetlobno razsipanje (in onesnaževanje) in čimboljši izkoristek. doseganje svetlobnih lastnosti projektne opreme, možnosti R1 do R9 , pozicioniranje reflektorja omogočeno na grobo z lestvico v stopinjah na ohišju in natančno z namenskim daljogledom, ki se namesti na ohišje, čelno krožna oblika, cca 470 x 470 mm, globina cca 320 mm, celotna višina cca 620 mm, celotna globina cca 500 mm, odstopanja +/- 50 mm, ustreznost EN 60598-1, atest ENEC, sijalka Osram ali Philips Short arc 2000 W kot HQITS2000/D/S HF min 230000 Lm max 2060 W od 5.000 do 6.500 °K, dušilka na pocinkani plošči, 2000 W , 400V, cos FI nad 0,9, cca 250 x 170 x 150 mm +/- 30 mm, cca 20 kg garancija 5 let, dobavljivost delov 10 let Kot npr.: Fael LIGHTMASTER ONE LM ONE R5 2SEZ.CL1 2000W HF 75115 | C6: kos | D6: 20 | F6: =D6*E6 -> 0
A7: 1b | B7: Reflektor z ohišjem v celoti iz brizganega aluminija z minimalno vsebnostjo bakra, oblikovani za čimmanjšo upornost vetru in čimboljše hlajenje-hladilana rebra, obarvano s polisterskim prašnim barvanjem sive barve, kaljeno steklo, tesnila odporna proti staranju in UV žarkom, vroče cinkani nosilci reflektorja, priključna doza z vžigno napravo na ohišju reflektorja iz visoko temperaturno in UV odpornega termoplasta , na ohišju teflonski kompenzacijski filtri / izenačevalniki pritiska v reflektorju, IK08, teža največ 15 kg, izpostavljena površina proti vetru pri 70°naklonu največ 0,25 m2 , najmanj IP65, po EN60598-1 trajna uporaba pri 35°C in kratkotrajna pri 45°C, optike ločeno vgrajene v ohišju z različnimi svetlobnimi usmeritvami izdelane iz visokosjajnega galvaniziranega aluminija 99,99%, optike z natančno usmeritvijo svetlobnega snopa za čim manjše svetlobno razsipanje (in onesnaževanje) in čimboljši izkoristek. doseganje svetlobnih lastnosti projektne opreme, možnosti R1 do R9 , pozicioniranje reflektorja omogočeno na grobo z lestvico v stopinjah na ohišju in natančno z namenskim daljogledom, ki se namesti na ohišje, čelno krožna oblika, cca 470 x 470 mm, globina cca 320 mm, celotna višina cca 620 mm, celotna globina cca 500 mm, odstopanja +/- 50 mm, ustreznost EN 60598-1, atest ENEC, sijalka Osram ali Philips Short arc 2000 W kot HQITS2000/D/S HF min 230000 Lm max 2060 W od 5.000 do 6.500 °K, dušilka na pocinkani plošči, 2000 W , 400V, cos FI nad 0,9, cca 250 x 170 x 150 mm +/- 30 mm, cca 20 kg garancija 5 let, dobavljivost delov 10 let Kot npr.: Fael LIGHTMASTER ONE LM ONE R3 2SEZ.CL1 2000W HF 75113 | C7: kos | D7: 24 | F7: =D7*E7 -> 0
A8: 1c | B8: Reflektor z ohišjem v celoti iz brizganega aluminija z minimalno vsebnostjo bakra, oblikovani za čimmanjšo upornost vetru in čimboljše hlajenje-hladilana rebra, obarvano s polisterskim prašnim barvanjem sive barve, kaljeno steklo, tesnila odporna proti staranju in UV žarkom, vroče cinkani nosilci reflektorja, priključna doza z vžigno napravo na ohišju reflektorja iz visoko temperaturno in UV odpornega termoplasta , na ohišju teflonski kompenzacijski filtri / izenačevalniki pritiska v reflektorju, IK08, teža največ 15 kg, izpostavljena površina proti vetru pri 70°naklonu največ 0,25 m2 , najmanj IP65, po EN60598-1 trajna uporaba pri 35°C in kratkotrajna pri 45°C, optike ločeno vgrajene v ohišju z različnimi svetlobnimi usmeritvami izdelane iz visokosjajnega galvaniziranega aluminija 99,99%, optike z natančno usmeritvijo svetlobnega snopa za čim manjše svetlobno razsipanje (in onesnaževanje) in čimboljši izkoristek. doseganje svetlobnih lastnosti projektne opreme, možnosti R1 do R9 , pozicioniranje reflektorja omogočeno na grobo z lestvico v stopinjah na ohišju in natančno z namenskim daljogledom, ki se namesti na ohišje, čelno krožna oblika, cca 470 x 470 mm, globina cca 320 mm, celotna višina cca 620 mm, celotna globina cca 500 mm, odstopanja +/- 50 mm, ustreznost EN 60598-1, atest ENEC, sijalka Osram ali Philips Short arc 2000 W kot HQITS2000/D/S HF min 230000 Lm max 2060 W od 5.000 do 6.500 °K, dušilka na pocinkani plošči, 2000 W , 400V, cos FI nad 0,9, cca 250 x 170 x 150 mm +/- 30 mm, cca 20 kg garancija 5 let, dobavljivost delov 10 let Kot npr.: Fael LIGHTMASTER ONE LM ONE R2 2SEZ.CL1 2000W HF 75112 | C8: kos | D8: 12 | F8: =D8*E8 -> 0
A9: 1d | B9: Reflektor z ohišjem v celoti iz brizganega aluminija z minimalno vsebnostjo bakra, oblikovani za čimmanjšo upornost vetru in čimboljše hlajenje-hladilana rebra, obarvano s polisterskim prašnim barvanjem sive barve, kaljeno steklo, tesnila odporna proti staranju in UV žarkom, vroče cinkani nosilci reflektorja, priključna doza z vžigno napravo na ohišju reflektorja iz visoko temperaturno in UV odpornega termoplasta , na ohišju teflonski kompenzacijski filtri / izenačevalniki pritiska v reflektorju, IK08, teža največ 15 kg, izpostavljena površina proti vetru pri 70°naklonu največ 0,25 m2 , najmanj IP65, po EN60598-1 trajna uporaba pri 35°C in kratkotrajna pri 45°C, optike ločeno vgrajene v ohišju z različnimi svetlobnimi usmeritvami izdelane iz visokosjajnega galvaniziranega aluminija 99,99%, optike z natančno usmeritvijo svetlobnega snopa za čim manjše svetlobno razsipanje (in onesnaževanje) in čimboljši izkoristek. doseganje svetlobnih lastnosti projektne opreme, možnosti R1 do R9 , pozicioniranje reflektorja omogočeno na grobo z lestvico v stopinjah na ohišju in natančno z namenskim daljogledom, ki se namesti na ohišje, čelno krožna oblika, cca 470 x 470 mm, globina cca 320 mm, celotna višina cca 620 mm, celotna globina cca 500 mm, odstopanja +/- 50 mm, ustreznost EN 60598-1, atest ENEC, sijalka Osram ali Philips Short arc 2000 W kot HQITS2000/D/S HF min 230000 Lm max 2060 W od 5.000 do 6.500 °K, dušilka na pocinkani plošči, 2000 W , 400V, cos FI nad 0,9, cca 250 x 170 x 150 mm +/- 30 mm, cca 20 kg garancija 5 let, dobavljivost delov 10 let Kot npr.: Fael LIGHTMASTER ONE LM ONE R1 2SEZ.CL1 2000W HF 75111 | C9: kos | D9: 40 | F9: =D9*E9 -> 0
E11: SKUPAJ RAZSVETLJAVA | F11: =SUM(F6:F9) -> 0
