Workbook
Name _Toc383513958: 'EL INSTALACIJE'!#REF!
Name _Toc383513958: SVETILA!#REF!
Name _Toc383513959: 'EL INSTALACIJE'!#REF!
Name _Toc383513959: SVETILA!#REF!
Name _Toc383513961: 'EL INSTALACIJE'!#REF!
Name _Toc383513961: SVETILA!#REF!
Name _Toc385069958: 'EL INSTALACIJE'!#REF!
Name _Toc385069958: SVETILA!#REF!
Name _Toc471629816: 'EL INSTALACIJE'!#REF!
Name _Toc471629816: SVETILA!#REF!
Name _Toc471629818: 'EL INSTALACIJE'!#REF!
Name _Toc471629818: SVETILA!#REF!
Name _Toc471629819: 'EL INSTALACIJE'!#REF!
Name _Toc471629819: SVETILA!#REF!
Name _Toc471629821: 'EL INSTALACIJE'!#REF!
Name _Toc471629821: SVETILA!#REF!
Name _Toc471629824: 'EL INSTALACIJE'!#REF!
Name _Toc471629824: SVETILA!#REF!
Name _Toc509377973: 'EL INSTALACIJE'!#REF!
Name _Toc509377973: SVETILA!#REF!
Name _Toc6280374: 'EL INSTALACIJE'!#REF!
Name _Toc6280374: SVETILA!#REF!
Name _Toc6300552: 'EL INSTALACIJE'!#REF!
Name _Toc6300552: SVETILA!#REF!
Name _Toc99863562: 'EL INSTALACIJE'!#REF!
Name _Toc99863562: SVETILA!#REF!
Name _Toc99863563: 'EL INSTALACIJE'!#REF!
Name _Toc99863563: SVETILA!#REF!
Name _Toc99863565: 'EL INSTALACIJE'!#REF!
Name _Toc99863565: SVETILA!#REF!
Name _Toc99863570: 'EL INSTALACIJE'!#REF!
Name _Toc99863570: SVETILA!#REF!
Name _Toc99863571: 'EL INSTALACIJE'!#REF!
Name _Toc99863571: SVETILA!#REF!
Name _Toc99863572: 'EL INSTALACIJE'!#REF!
Name _Toc99863572: SVETILA!#REF!
Name _Toc99863573: 'EL INSTALACIJE'!#REF!
Name _Toc99863573: SVETILA!#REF!
Name EQS_IzvozVExcel: #REF!
Name EQS_IzvozVExcel: #REF!
Name EQS_IzvozVExcel: #REF!
Name EQS_IzvozVExcel: #REF!
Name KRATICEPLOCCNIK: #REF!
Name KRATICEPLOCCNIK: #REF!
Name KRATICEPLOCNIK: #REF!
Name KRATICEPLOCNIK: #REF!
Name KRATICEPLOCNIK: #REF!
Name KRATICEPLOCNIK: #REF!
Name LOL: #REF!
Name LOL: #REF!
Name OLE_LINK1: 'EL INSTALACIJE'!#REF!
Name OLE_LINK1: SVETILA!#REF!
Name PodPoglavje_1.1: #REF!
Name PodPoglavje_1.1: #REF!
Name PodPoglavje_1.1: #REF!
Name PodPoglavje_1.1: #REF!
Name PodPoglavje_1.2: #REF!
Name PodPoglavje_1.2: #REF!
Name PodPoglavje_1.2: #REF!
Name PodPoglavje_1.2: #REF!

Sheet SPLOŠNO
A1: SPLOŠNO (VELJA ZA CEL POPIS DEL)
A3: PRI VSEH POSTAVKAH POPISA DEL, KJER JE NAVEDEN TIP OPREME ALI MATERIALA, KI BI SE NAJ VGRADIL ALI UPORABIL JE DOVOLJENA UPORABA TUDI DRUGIH ENAKOVREDNIH MATERIALOV ALI OPREME ENAKO ALI BOLJ KVALITETNIH OD PREDVIDENEGA V PROJEKTU OZ. POPISU PO PREHODNEM DOGOVORU Z PROJEKTANTOM, NADZORNIKOM ALI INVESTITORJEM IN VPISOM V GRADBENO KNJIGO.
A4: V primeru da posamezne postavke v popisu ne zajemajo celotnega opisa potrebnega za funkcionalno dokončanje dela, mora izvajalec izvedbo le tega vključiti v ceno na enoto!
A5: Enotne cene morajo vsebovati:
A6: - vsa potrebna dokumentacija za začetek del.
A7: - vsa potrebna pripravljalna in pospravljalna dela
A8: - pregled in čiščenje podloge, nanos izravnalne mase, kjer je to potrebno.
A9: - snemanje potrebnih izmer na gradbišču in po načrtih, prenos višinskih točk, poterbnih za izvedbo zemeljskih del in podobno
A10: - prenos in obeleževanje višinskih točk na objektu.
A11: - po potrebi izdelava vzorca in vgradnja le-tega na objektu.
A12: - ves potrebni material: glavni, pomožni, pritrdilni in vezni material.
A13: - vse potrebne transporte in prenose.
... A35: Pri vseh delih je potrebno upoštevati standarde, ki se nanašajo na dela v postavkah.

Sheet REKAP - 1 - GO DELA
B2: NAROČNIK:
B3: MESTNA OBČINA MURSKA SOBOTA
B6: PONUDNIK:
B8: PONUDBA ŠT.:
B11: OBJEKT
B12: RAZSVETLJAVA NOGOMETNEGA STADIONA FAZANERIJA MURSKA SOBOTA
B14: SKLOP 1
B15: GRADBENO-OBRTNIŠKA DELA
B20: REKAPITULACIJA
B22: 1.1 PRIPRAVLJALNA DELA | G22: ='GO DELA'!F34 -> 0
B23: 1.2 ZEMELJSKA DELA | G23: ='GO DELA'!F59 -> 0
B24: 1.3 BETONSKA DELA | G24: ='GO DELA'!F88 -> 0
B25: 1.4 TESARSKA DELA | G25: ='GO DELA'!F108 -> 0
B26: 1.5 RAZNA DELA | G26: ='GO DELA'!F126 -> 0
B27: SKUPAJ | G27: =SUM(G22:G26) -> 0
B28: NEPREDVIDENA DELA | F28: 0.03 | G28: =G27*F28 -> 0
B29: SKUPAJ Z NEPREDVIDENIMI DELI | G29: =G27+G28 -> 0
B31: KOMERCIALNI POPUST | G31: =G29*F31 -> 0
B32: SKUPAJ S KOMERCIALNIM POPUSTOM | G32: =G29-G31 -> 0
B34: 22% DDV | F34: 0.22 | G34: =G32*F34 -> 0
B35: SKUPAJ Z 22% DDV | G35: =G32+G34 -> 0
B38: V / na | E38: Žig | G38: Podpis
B39: Dne:

Sheet GO DELA
A1: Zap. št. | B1: Opis del | C1: EM | D1: Količina | E1: Cena/EM | F1: Skupaj
A3: 1 | B3: GRADBENO-OBRTNIŠKA DELA
A5: 1.1 | B5: PRIPRAVLJALNA DELA
A7: 1.1.1 | B7: Priprava okolice okrog objekta (4x točkovni temelj dim. 600x600 cm), zavarovanje mimoidočih z oznakami ob objektu, čiščenje celotnega območja z odstranjevanjem in odvozom vseh elementov, ki se nahajajo na gradbišču ter postavitev gradbiščne ograde in zavarovanje gradbišča. V ograji predvideti vrata za dostop na gradbišče. V ceni zajeti tudi potrebna dela in strošek za odstranitev ograje po končanih delih. | C7: kom | D7: 1 | F7: =D7*E7 -> 0
F8: =D8*E8 -> 0
A9: 1.1.2 | B9: Izvedba zakoličbe objekta. Obračun po dejanskih stroških. | C9: kom | D9: 1 | F9: =D9*E9 -> 0
F10: =D10*E10 -> 0
A11: 1.1.3 | B11: Postavitev profilov iz lesenih soh in plohov z nanašanjem tlorisnih gabaritov na višinsko nivelirane profile. V ceni zajeti vsa potrebna dela in material za izvedbo kot tudi odstranitev profilov. | C11: kom | D11: 1 | F11: =D11*E11 -> 0
F12: =D12*E12 -> 0
A13: 1.1.4 | B13: Zarisovanje in označitev izkopa temeljev/ temeljne plošče na terenu z apnom. | C13: kom | D13: 1 | F13: =D13*E13 -> 0
F14: =D14*E14 -> 0
A15: 1.1.5 | B15: Izdelava in postavitev gradbišcne table po Pravilniku o gradbiščih Ur.l.RS 55/2008. | C15: kom | D15: 1 | F15: =D15*E15 -> 0
F16: =D16*E16 -> 0
A17: 1.1.6 | B17: Geodetski posnetek objekta po zaključku gradnje ter vnos objekta v kataster - obračun po dejanski stroških. | C17: kom | D17: 1 | F17: =D17*E17 -> 0
F18: =D18*E18 -> 0
A19: 1.1.7 | B19: Rezanje obstoječega asfalta deb. Do 15 cm na mestu izvedbe novih temeljev reflektorjev. | C19: m1 | D19: 40 | F19: =D19*E19 -> 0
F20: =D20*E20 -> 0
A21: 1.1.8 | B21: Kompletna odstranitev asfalta deb. do 15 cm. V ceno zajeti odvoz na končno deponijo, plačilo takse, prenosi in prevozi. | C21: m2 | D21: 60 | F21: =D21*E21 -> 0
F22: =D22*E22 -> 0
A23: 1.1.9 | B23: Kompletna pazljiva odstranitev bet. tlakovcev na mestu novih temeljev, začasno varno deponiranje zaradi ponovne položitve po izvedbi temelja. Obračun po m2. | C23: m2 | D23: 100 | F23: =D23*E23 -> 0
A25: 1.1.10 | B25: Kompletna odstranitev bet. Robnika dim. 7/25 cm. V ceno zajeti odvoz na končno deponijo, plačilo takse, prenosi in prevozi. | C25: m1 | D25: 15 | F25: =D25*E25 -> 0
F26: =D26*E26 -> 0
A27: 1.1.11 | B27: Kompletna odstranitev večjih dreves višine do 15 m. V ceno zajeti potrebna dvigala, mehanizacijo, odvoz na končno deponijo, plačilo takse. | C27: kom | D27: 2 | F27: =D27*E27 -> 0
F28: =D28*E28 -> 0
A29: 1.1.12 | B29: Odstranitev vej na drevesu, ki se ohrani. Veje dolžine cca. 10 m, na višini cca. 15 m. V ceno zajeti potrebna dvigala, mehanizacijo, odvoz na končno deponijo, plačilo takse. | C29: kom | D29: 1 | F29: =D29*E29 -> 0
A31: 1.1.13 | B31: Razna neprevidena dela | C31: % | D31: 0.1 | F31: =D31*E31 -> 0
B34: PRIPRAVLJALNA DELA | F34: =SUM(F7:F33) -> 0
A37: 1.2 | B37: ZEMELJSKA DELA
B39: OPOMBA
B40: Obračun izvršenih količin predstravljajo neto izkopane količine v raščenem stanju in porušene količine. Pristojbine za odlaganje materialov vkalkulirati v enotne cene. Zemeljska dela izvajati po navodilih geomehanika, katerega stroški morajo biti zajeti v enotnih cenah pri zemeljskih delih. Dokazovanje zbitosti tampona mora biti zajeto v enotnih cenah. Vsa zemeljska dela kot so; izkopi, zasipi in podobno, se morajo izvajati po določilih tehničnih predpisov in skladno z navodili na osnovi geotehničnega poročila.
A42: 1.2.1 | B42: Strojni izkop gradbene jame za objekt v terenu III. ktg globine 2 do 4 m z direktnim nakladanjem izkopane zemlje na kamion ter odvozom na stalno deponijo oddaljeno do 25 km ter razstiranjem na njej | C42: m3 | D42: 964.6 | F42: =D42*E42 -> 0
F43: =D43*E43 -> 0
A44: 1.2.2 | B44: Strojno - ročno planiranje planuma izkopa objekta s točnostjo +-3 cm s povprečnim izkopom 0,05 m3/m2 in odvozom odvečnega materiala na deponijo na gradbišču h ~ 50,00 m ter strojna utrditev planuma. | C44: m2 | D44: 256 | F44: =D44*E44 -> 0
F45: =D45*E45 -> 0
A46: 1.2.3 | B46: Dobava in rastiranje ter utrditev gramoznega tampona pod temeljem komplet z dobavo gramoza, z razgrinjanjem, planiranjem in strojnim utrjevanjem v plasteh do predpisane zbitosti tampona in do projektirane kote. Navoz v debelini 50-60 cm. | C46: m3 | D46: 153.6 | F46: =D46*E46 -> 0
F47: =D47*E47 -> 0
A48: 1.2.4 | B48: Zasip za temelji z dobavo in rastiranjem ter utrditev gramoznega tampona komplet z dobavo gramoza, z razgrinjanjem, planiranjem in strojnim utrjevanjem v plasteh do predpisane zbitosti tampona in do projektirane kote. | C48: m3 | D48: 433.6 | F48: =D48*E48 -> 0
F49: =D49*E49 -> 0
A50: 1.2.5 | B50: Naprava zgornje zaključen površine nad temelji z dobavo in rastiranjem ter utrditev gramoznega tampona komplet z dobavo gramoza, z razgrinjanjem, planiranjem in strojnim utrjevanjem v plasteh do predpisane zbitosti tampona in do projektirane kote. | C50: m2 | D50: 471.96 | F50: =D50*E50 -> 0
F51: =D51*E51 -> 0
A52: 1.2.6 | B52: Nabava, dobava in polaganje geotekstila 300 g kot ločilni sloj med materialom (gramozni in izkopani material), ki se vgrajuje kot zasip za stenami in temelji do nivoja terena, vključno s potrebnimi preklopi 10%. | C52: m2 | D52: 400 | F52: =D52*E52 -> 0
A54: 1.2.7 | B54: Strojno/ročni (90/10%) izkop za potrebe položitve cevi kabelske kanalizacije, dim:0,4x1,0m, kompletno z zasipom, utrjevanjem po plasteh in končno ureditvijo trase | C54: m1 | D54: 350 | F54: =D54*E54 -> 0
A56: 1.2.8 | B56: Strojno/ročni (90/10%) izkop za potrebe položitve cevi kabelske kanalizacije, dim: 0,2x1,0m, kompletno z zasipom, utrjevanjem po plasteh in končno ureditvijo trase | C56: m | D56: 30 | F56: =D56*E56 -> 0
B59: ZEMELJSKA DELA | F59: =SUM(F42:F58) -> 0
A62: 1.3 | B62: BETONSKA DELA
B64: OPOMBA:
B65: V ceno zajeti vsa pomožna dela in prenose. Podpiranje zajeto pri tesarskih delih. Pred pričetkom del izdelati projekt betona, ki ga potrdi nadzornik. V ceni zajeti izdelavo, dobavo, vgraditev in vibriranje betona s predhodnim vlaženjem ali premazom opaža, potrebno armaturo ter potrebnim horizontalnim transportom na gradbišču in vertikalnim strojnim transportom. - Za konstrukcijske elemente predvideti jemanje vzorcev betona na gradbišču. - Pri vgrajevanju betona preprečiti segregacijo. - Zagotoviti tesne delovne stike. - Upoštevati kakovost betona iz projekta statike
B66: Konstrukcije iz betona morajo biti ravne, izdelane po opažnem načrtu, brez votlih mest in brez iztekanj cementnega gela na stikih opažev. Nega betona vsebuje zaščito vgrajenega betona do polne trdnosti pred prevelikim izhlapevanjem vode iz betona, kakor tudi zaščito pred nizkimi temperaturami. Izvajalec mora pustiti v vseh betonskih konstrukcijah odprtine za montažo instalacij. Splošno o izgledu betonov: Vsi betoni morajo biti izdelani v kvalitetnem opažu in ravni. Izgled betona mora slediti določilom, ki izhajajo iz smernic DBV/BDZ, osnova pa po DIN 18217 in DIN 18500, zatevani razred določen pri posameznih postavkah. Za natančnejšo definicijo zahtev glej tehnično poročilo. Betonska dela se morajo izvajati po določilih veljavnih tehničnih predpisih in normativih v soglasju s SIST EN 206-1 (uporaba skupaj s SIST 1026).
B67: Standardi za betonska dela vsebujejo poleg izdelave opisane v posameznih postavkah, še vsa potrebna pomožna dela in sicer: - dela in ukrepe po določilih veljavnih predpisih varstva pri delu. - čiščenje in močenje opažev neposredno pred betoniranjem. - čiščenje betonskega železa od blata, maščob in rje, ki se lušči, postavljanje podložk in začasno vezanje armature k opažu. - razna popravila opažev pri betoniranju. - vmetavanje betona v opaže, premeščanje lijaka med betoniranjem, premeščanje vibratorjev, ipd. - čiščenje prostorov in delovnih naprav po končanem delu. - nega betona (zaščita in močenje betona) skladno s projektom betona.
B68: Pred pričetkom vgrajevanja betona morata biti opaž in armatura popolnoma zalit z betonom;
B69: Beton mora biti gost in brez gnezd. Armatura mora ostati na svojem mestu in mora biti obdana s predpisanim zaščitnim slojem betona (glej statični izračun).
B70: Višina prostega pada betona ne sme biti večja od 1,00 m. V primeru da se mora beton vmetavati z večje višine je potrebno, da bi preprečili segregacijo, uporabiti eno od priznanih metod za vgrajevanje betona.
B71: Kvaliteta betona mora ustrezati zahtevam splošnih določil za betonska dela in opisu del.
B72: Kot vidne konstrukcije se smatrajo vse tiste konstrukcije iz betona, ki ostanejo po izdelavi neometane ali neobložene. Betonske površine morajo biti ravne in vertikalne skladno z DIN normativi za ustrezne objekte (DIN 18802). Vidne betonske površine ne smejo biti krpane ali kako drugače zidarsko obdelane. Dopustna je samo obdelava odprtin za vezanje opažev in sicer tako, da se jih zapre s plastičnimi čepi.
B73: Izvajalec je dolžan izdelati projekt betona pred izvajanjem betonerskih del. Projekt betona potrdi projektant.
A75: 1.3.1 | B75: Vgrajevanje betona C20/25 deb. 10 cm v nearmirane bet. konstrukcije - podložni beton. | C75: m3 | D75: 15.4 | F75: =D75*E75 -> 0
F76: =D76*E76 -> 0
A77: 1.3.2 | B77: Vgrajevanje betona C30/37 XC2 v armirane bet. konstrukcije - točkovni temelj višine 200 cm. | C77: m3 | D77: 288 | F77: =D77*E77 -> 0
F78: =D78*E78 -> 0
A79: 1.3.3 | B79: Vgrajevanje betona C30/37 XC4 v armirane bet. konstrukcije - nastavek višine 80 cm. | C79: m3 | D79: 6.56 | F79: =D79*E79 -> 0
F80: =D80*E80 -> 0
A81: 1.3.4 | B81: Naprava, dobava, položitev ter vezanje armature po armaturnih načrtih ter projektu statike, komplet z vsemi pom. deli in prenosi. Armatura iz bet. železa BST 500 S. | C81: kg | D81: 27000 | F81: =D81*E81 -> 0
F82: =D82*E82 -> 0
A83: 1.3.7 | B83: Izdelava jaška iz BC dimenzij Ø1,0x1,0m, z obbetoniranjem dna ješka, AB ploščo z litoželeznim pokrovom 0,6x0,6m 4t, kompletno z izkopom, zasutjem ter končno ureditvijo okolice jaška | C83: kom | D83: 4 | F83: =D83*E83 -> 0
F84: =D84*E84 -> 0
A85: 1.3.8 | B85: Izdelava jaška iz BC dimenzij Ø1,2x1,0m,z obbetoniranjem dna ješka, AB ploščo z litoželeznim pokrovom 0,6x0,6m 4t, kompletno z izkopom, zasutjem ter končno ureditvijo okolice jaška | C85: kom | D85: 1 | F85: =D85*E85 -> 0
B88: BETONSKA DELA | F88: =SUM(F75:F87) -> 0
A91: 1.4 | B91: TESARSKA DELA
B93: OPOMBA
B94: V postavke zajeti tudi potrebno opaževanje, razopaževanje, podpiranje kot tudi predpriprava opažev (premazi). Opaži AB elementov morajo zagotavljati gladko in čisto strukturo betona. Obračun izvršenih del po razviti površini opažev. V ceni zajeti potreben opažni, vezni in pritrdilni material za izdelavo stabilnega opaža, premaz z opažnim oljem, odstranitev opaža s čiščenjem in sortiranjem opažnega materiala po razopaženju in zlaganje materiala na gradbiščni deponiji
B96: Opaži morajo biti izdelani točno po merah v načrtu, z vsemi potrebnimi podporami, horizontalno in vertikalno povezavo, tako da so stabilni in sposobni za obtežbo z betonom. Notranje površine morajo biti čiste in ravne.
B97: Opaži morajo biti izdelani tako da se razopaževanje opravi brez pretresov in poškodovanja konstrukcije in opažev samih.
B98: Obračun se vrši po opisu v posamezni postavki, s tem da se upoštevajo pri obračunu notranje površine opažev, to je vidne površine konstrukcije.
B99: Standardi za tesarska dela vsebujejo poleg izdelave same, po opisu v posameznem opisu, še vsa potrebna pomožna dela, zlasti: a.) dela in ukrepe po določilih veljavnih predpisov varstva pri delu. b.) snemanje potrebnih izmer na mestu samem. c.) postavitev, premeščanje in odstranitev premičnih odrov višine do 2 m2, potrebnih za napravo tesarskih del. d.) zbiranje in sortiranje lesa po dimenzijah.
B100: Opis dela: kulkulativni elementi - kar mora biti zajeto v cenah posameznih postavk za izvedbo tesarskih del: a.) naprava opažev po opisu v posamezni postavki z vsemi prenosi in transporti vsega potrebnega materiala do mesta opaževanja in pospravljanje po končanih delih, vključno z nakladanjem in odvozom vsega opažnega in drugega materiala potrebnega za izvedbo tesarskih del po opisu: b.) podpiranje, zavetrovanje in vezanje opažev c.) razopaževanje d.) ruvanje žičnikov, čiščenje opažev, odnos lesa v deponijo ter sortiranje po dimenzijah e.) vsa pomožna dela potrebna za izvedbo tesarskih del po opisu ( kot je npr: zarisovanje, obeleževanje in prenos višinskih točk in podobno, montaža in demontaža raznih profilov, montaža in demontaža vseh pomožnih odrov za izvedbo tesarksih del…) ter odovoz vsega opažnega materiala v deponijo izvajalca. Ravnost in vertikalnost betonskih konstrukcij po DIN normah za tovrstne objekte.
A102: 1.4.1 | B102: Naprava opaža ter razopaž podložnega betona pasovnih temeljev višine do 10 cm. | C102: m1 | D102: 99.2 | F102: =D102*E102 -> 0
F103: =D103*E103 -> 0
A104: 1.4.2 | B104: Naprava enostranskega opaža točkovnih temeljev višine do 200 cm komplet z razopaženjem ter potrebnimi odri, pom. deli in prenosi. | C104: m2 | D104: 192 | F104: =D104*E104 -> 0
F105: =D105*E105 -> 0
A106: 1.4.3 | B106: Naprava opaža nastavka jeklene konstrukcije stebrov razsvetljave višine do 80 cm, premer nastavka fi 160 cm, komplet z razopaženjem ter potrebnimi odri, pom. deli in prenosi - opaž za vidni beton. | C106: kom | D106: 4 | F106: =D106*E106 -> 0
B108: TESARSKA DELA | F108: =SUM(F102:F107) -> 0
A111: 1.5 | B111: RAZNA DELA
A113: 1.5.1 | B113: Izdelava tlakovane obrabne plasti z obsotječimi betonskimi tlakovci z utrjeno površino deb. 6 cm, skupaj s peščeno podlago deb. 5 cm ki jo je dobaviti in zajeti v enotno ceno postavke, stiki zapolnjeni s peskom ter polaganjem geotekstila. | C113: m2 | D113: 100 | F113: =D113*E113 -> 0
A115: 1.5.2 | B115: Vgraditev predfabriciranih robnikov iz cementnega betona s prerezom 5/25 cm - ob fasadi novega objekta (mačje krogle) | C115: m1 | D115: 15 | F115: =D115*E115 -> 0
A117: 1.5.3 | B117: Izdelava stika z obstoječim asfaltu z frezanjem obst. asfalta. | C117: m1 | D117: 40 | F117: =D117*E117 -> 0
A119: 1.5.4 | B119: Pobrizg stika na obstoječem asfaltu z bitumensko emulzijo. | C119: m1 | D119: 40 | F119: =D119*E119 -> 0
A121: 1.5.5 | B121: Izdelava obrabnozaporne plasti bitumenskega betona na mestih novih točkovnih temeljev v obstoječem asfaltu, v debelini 10,0 cm. | C121: m2 | D121: 100 | F121: =D121*E121 -> 0
A123: 1.5.6 | B123: Demontaža in ponovna montaža kovinske zaščitne stojke v nasutju prodca višine do 100 cm komplet z odstranitvijo in ponovno izvedbo bet. Temelja, izkopom in zasutjem. | C123: kom | D123: 5 | F123: =D123*E123 -> 0
B126: RAZNA DELA | F126: =SUM(F113:F124) -> 0
B128: SKUPAJ GRADBENO-OBRTNIŠKA DELA | F128: =F34+F59+F88+F108+F126 -> 0

Sheet REKAP - 2 - STEBRI
B2: NAROČNIK:
B3: MESTNA OBČINA MURSKA SOBOTA
B6: PONUDNIK:
B8: PONUDBA ŠT.:
B11: OBJEKT
B12: RAZSVETLJAVA NOGOMETNEGA STADIONA FAZANERIJA MURSKA SOBOTA
B14: SKLOP 2
B15: STEBRI
B20: REKAPITULACIJA
B22: 2. KLJUČAVNIČARSKA DELA | G22: =STEBRI!F10 -> 0
B23: SKUPAJ | G23: =SUM(G22:G22) -> 0
B24: NEPREDVIDENA DELA | F24: 0.03 | G24: =G23*F24 -> 0
B25: SKUPAJ Z NEPREDVIDENIMI DELI | G25: =G23+G24 -> 0
B27: KOMERCIALNI POPUST | G27: =G25*F27 -> 0
B28: SKUPAJ S KOMERCIALNIM POPUSTOM | G28: =G25-G27 -> 0
B30: 22% DDV | F30: 0.22 | G30: =G28*F30 -> 0
B31: SKUPAJ Z 22% DDV | G31: =G28+G30 -> 0
B34: V / na | E34: Žig | G34: Podpis
B35: Dne:

Sheet STEBRI
A1: Zap. št. | B1: Opis del | C1: EM | D1: Količina | E1: Cena/EM | F1: Skupaj
A3: 2 | B3: KLJUČAVNIČARSKA DELA
B5: Vsa ključavničarska dela je izvajati po projektih in ob upoštevanju statičnih izračunov ter delavniških načrtih, ki jih potrdi projektant oziroma nadzor.
B6: V ceno je poleg antikorozijske zaščite zajeti še ves potreben material za izdelavo in montažo kovinske konstrukcije, kot tudi vsa potrebna sidra, pom. dela, potrebne odre in vertikalne ter horizontalne transporte. Splošna navodila je upoštevati pri vseh ključavničarskih delih kot tudi vse varnostno tehnične predpise med izvedbo omenjenih del.
A8: 2.1. | B8: Dobava, izdelava in montaža jeklenega stebra razsvetljave z vsem spojnim in pritrdilnim materialom (vključno s sidri, ki se vgradijo v betonski temelj). Vsi elementi konstrukcije vroče cinkani. Nosilni steber za razsvetljavo je jekleni iz jekla S 275 in oblike prisekani stožec višine 37,0 m nad terenom in debeline stene 15 mm. Presek stebra ob vpetju je D/t = 1300/15 mm, presek na višini h=37.0 m pa je D/t = 800/15 mm. Teža stebra 17.500kg. V ceno je zajeti tudi podkonstrukcijo za reflektorje, ki je nameščena na višini 37 m. Podkonstrukcija je velikosti b/h= 4.0 x 6.15 m in jo sestavlja steber iz okrogle cevi D/t = 320/10 mm, na katerega so pritrjene horizontalne cevi razpona 2x3.05 m preseka 193,7/10 mm, na katere se pritrdijo reflektorji. Na podkonstrukcijo so s strani na treh višinah pritrjeni trije podesti in lestev s hrbtobranom za dostop do posameznih nivojev reflektorjev. Teža podkonstrukcije 3.500kg. V ceno je zajeti tudi lestev za dostop na vrh stebra dolžine 37 m. Lestev mora biti opremljena z vsemi predpisanimi varnostnimi elementi (hrbtobrani, vmesni podesti, zaporo s ključavnico, ki onemogoča dostop nepooblaščenim,...). Vse izvedeno v skladu s standardi in predpisi. Dovoljena je uporaba tipskih rešitev nosilnega stebra, konstrukcije za reflektorje, podestov in stopnic, v kolikor te zadostijo vse funkcionalne zahteve: višina stebrov, predvideno število reflektorjev, primeren dostop in vzdrževanje... Ponudnik mora v tem primeru podati vso ustrezno tehnično dokumentacijo (statični izračun, delavniški načrti,..) v potrditev projektantu gradbenih konstrukcij in nadzoru. | C8: kom | D8: 4 | F8: =D8*E8 -> 0
E10: SKUPAJ RAZSVETLJAVA | F10: =SUM(F8:F8) -> 0

Sheet REKAP - 3 - EL INSTALACIJE
B2: NAROČNIK:
B3: MESTNA OBČINA MURSKA SOBOTA
B6: PONUDNIK:
B8: PONUDBA ŠT.:
B11: OBJEKT
B12: RAZSVETLJAVA NOGOMETNEGA STADIONA FAZANERIJA MURSKA SOBOTA
B14: SKLOP 3
B15: ELEKTRO INSTALACIJE
B20: REKAPITULACIJA
B22: 1. INSTALACIJE | G22: ='EL INSTALACIJE'!F23 -> 0
B23: 2. STIKALNI BLOKI | G23: ='EL INSTALACIJE'!F85 -> 0
B24: 3. RAZSVETLJAVA | G24: ='EL INSTALACIJE'!F94 -> 0
B25: 4. OSTALO | G25: ='EL INSTALACIJE'!F102 -> 0
B26: SKUPAJ | G26: =SUM(G22:G25) -> 0
B27: NEPREDVIDENA DELA | F27: 0.03 | G27: =G26*F27 -> 0
B28: SKUPAJ Z NEPREDVIDENIMI DELI | G28: =G26+G27 -> 0
B30: KOMERCIALNI POPUST | G30: =G28*F30 -> 0
B31: SKUPAJ S KOMERCIALNIM POPUSTOM | G31: =G28-G30 -> 0
B33: 22% DDV | F33: 0.22 | G33: =G31*F33 -> 0
B34: SKUPAJ Z 22% DDV | G34: =G31+G33 -> 0
B37: V / na | E37: Žig | G37: Podpis
B38: Dne:

Sheet EL INSTALACIJE
A1: 1. Instalacije
A2: Dobava, polaganje in označevanje instalacijskega materiala:
A4: Zap. št. | B4: Opis del | C4: EM | D4: Količina | E4: Cena/EM | F4: Skupaj
A5: 1 | B5: negibljiva plastična zaščitna cev, vključno s priborom za montažo, PN Ø16mm | C5: m | D5: 30 | F5: =D5*E5 -> 0
A6: =A5+1 -> 2 | B6: dvoplaščna, gibljiva, plastična zaščitna cev, DWPØ65 mm | C6: m | D6: 580 | F6: =D6*E6 -> 0
A7: =A6+1 -> 3 | B7: dvoplaščna, gibljiva, plastična zaščitna cev, DWPØ110 mm | C7: m | D7: 1020 | F7: =D7*E7 -> 0
A8: =A7+1 -> 4 | B8: kabelska polica iz pocinkane pločevine, kompletno s priborom za montažo, pokrovom in ostalim drobnim materialom, širine 50 mm | C8: m | D8: 45 | F8: =D8*E8 -> 0
A9: =A8+1 -> 5 | B9: kabelska polica iz pocinkane pločevine, kompletno s priborom za montažo, pokrovom in ostalim drobnim materialom, širine 100 mm | C9: m | D9: 15 | F9: =D9*E9 -> 0
A10: =A9+1 -> 6 | B10: energetski kabel, NYY-J 5x2,5 mm2 | C10: m | D10: 680 | F10: =D10*E10 -> 0
A11: =A10+1 -> 7 | B11: energetski kabel, NYY-J 7x2,5 mm2 | C11: m | D11: 180 | F11: =D11*E11 -> 0
A12: =A11+1 -> 8 | B12: energetski kabel z zvijavimi vodniki, Y-JZ 3x2,5 mm2 | C12: m | D12: 4050 | F12: =D12*E12 -> 0
A13: =A12+1 -> 9 | B13: oklopljen energetski kabel z zvijavimi vodniki, SY-JZ 5x2,5 mm2 | C13: m | D13: 5 | F13: =D13*E13 -> 0
A14: =A13+1 -> 10 | B14: oklopljen energetski kabel z zvijavimi vodniki, SY-JZ 7x2,5 mm2 | C14: m | D14: 5 | F14: =D14*E14 -> 0
A15: =A14+1 -> 11 | B15: energetski kabel, NA2XY-J 4x150 mm2 | C15: m | D15: 530 | F15: =D15*E15 -> 0
A16: =A15+1 -> 12 | B16: zvijavi, energetski kabel, FG 7R 1x185 mm2 | C16: m | D16: 60 | F16: =D16*E16 -> 0
A17: =A16+1 -> 13 | B17: kanbelska glava za kabel 4x150mm2 Al | C17: kos | D17: 8 | F17: =D17*E17 -> 0
... A21: =A20+1 -> 17 | B21: meritve energetske, električne instalacije in ozemljitvenih upornosti ter izdaja poročila | C21: komp. | D21: 1 | F21: =D21*E21 -> 0
E23: SKUPAJ | F23: =SUM(F5:F21) -> 0
A26: 2. Stikalni bloki
A27: Dobava, montaža, vezava in označevanje opreme, ki se vgradi v stikalni blok:
A29: Zap. št. | B29: Opis del | C29: EM | D29: Količina | E29: Cena/EM | F29: Skupaj
B30: MO | C30: komp. | D30: 1 | F30: =D30*E30 -> 0
A31: 1 | B31: prostostoječa, plastična, razdelilna omara, dim.: 440x1065x322mm, vrati s tritočkovnim zapiranjem in enim izrezomn s prozornim okencem, IP54, kompletno z montažno ploščo, montažnim podstavkom in ostalim drobnim materialom | C31: kos | D31: 1
A32: =A31+1 -> 2 | B32: števčna plošča, namenjena montaži trifaznega števca el. energije | C32: kos | D32: 1
A33: =A32+1 -> 3 | B33: elektronska, trifazna, merilna garnitura za merjenje delovne in jalove moči ter 15 min. konične moči, primerna za polindirektno priključitev, kompletno z GSM/GPRS komunikacijskim vmesnikom | C33: kos | D33: 1
A34: =A33+1 -> 4 | B34: antena za GSM | C34: kos | D34: 1
A35: =A34+1 -> 5 | B35: merilna spončna garnitura | C35: kos | D35: 1
A36: =A35+1 -> 6 | B36: tripolni, prenapetostni odvodnik, Imp=12,5kA, (8/20µs) | C36: komp. | D36: 1
A37: =A36+1 -> 7 | B37: PEN bakrena zbiralka, vezni in ostali drobni material, označevanje, meritve in poročilo o preizkusu | C37: komp. | D37: 1
B39: R-rs | C39: komp. | D39: 1 | F39: =D39*E39 -> 0
A40: 1 | B40: prostostoječa, plastična, razdelilna omara, dim.: 440x1065x322mm, vrati s tritočkovnim zapiranjem in enim izrezomn s prozornim okencem, IP54, kompletno z montažno ploščo, montažnim podstavkom in ostalim drobnim materialom | C40: kos | D40: 2
A41: =A40+1 -> 2 | B41: prostostoječa, plastična, razdelilna omara, dim.: 785x1065x322mm, vrati s tritočkovnim zapiranjem in enim izrezomn s prozornim okencem, IP54, kompletno z montažno ploščo, montažnim podstavkom in ostalim drobnim materialom | C41: kos | D41: 1
A42: =A41+1 -> 3 | B42: prostostoječa, plastična, razdelilna omara, dim.: 1115x1065x322mm, vrati s tritočkovnim zapiranjem in enim izrezomn s prozornim okencem, IP54, kompletno z montažno ploščo, montažnim podstavkom in ostalim drobnim materialom | C42: kos | D42: 1
A43: =A42+1 -> 4 | B43: štiripolno, bremensko, preklopno stikalo (1,0,2), 800A, kompletno z mehanizmom in ročico | C43: kos | D43: 1
A44: =A43+1 -> 5 | B44: tripolna, varovalčna letev za montažo na 185 mm zbiralčni sistem, In=160A, komplet z NV varovalnimi vložki | C44: kos | D44: 7
A45: =A44+1 -> 6 | B45: tripolna, varovalčna letev za montažo na 185 mm zbiralčni sistem, In=250A, komplet z NV varovalnimi vložki | C45: kos | D45: 4
A46: =A45+1 -> 7 | B46: 185 mm, trifazni zbiralčni sistem, z bakrenimi zbiralkami Cu 50x10 mm (852A), kompletno s podporami, zaključki, pokrovi in ostalim drobnim in montažnim materialom | C46: m | D46: 1
A47: =A46+1 -> 8 | B47: merilni, tokovni transforamtor, 600/5A | C47: kos | D47: 3
A48: =A47+1 -> 9 | B48: trifazni, digitalni števec, 1 tarifa, priključek za tokovnik 5A(6A),RE | C48: kos | D48: 1
A49: =A48+1 -> 10 | B49: ABS ohišje-pokrov, prozorno, s tečaji, 344x289x117mm in DIN letvijo | D49: 1
A50: =A49+1 -> 11 | B50: modularni, logični rele s prikazovalnikom, šestimi digitalnimi vhodi, štirimi relejskimi izhodi | C50: kos | D50: 1
A51: =A50+1 -> 12 | B51: razširitveni modul logičnega releja s šestimi digitalnimi vhodi, štirimi relejskimi izhodi | C51: kos | D51: 4
A52: =A51+1 -> 13 | B52: Grelec za omare MINI 10W s priključnim kablom 0,3 m | C52: kos | D52: 1
A53: =A52+1 -> 14 | B53: Termostat za grelec, 0 - 60° C, 1 mirni kontakt | C53: kos | D53: 1
A54: =A53+1 -> 15 | B54: CEE-vtičnica nadometna 5x63A 400V IP44 | C54: kos | D54: 2
A55: =A54+1 -> 16 | B55: PEN bakrena zbiralka, vezni in ostali drobni material, označevanje, meritve in poročilo o preizkusu | C55: komp. | D55: 1
B57: R-rs1, R-rs2, R-rs3, R-rs4, | C57: komp. | D57: 4 | F57: =D57*E57 -> 0
A58: 1 | B58: po naročilu izdelana, dvostranska, prostostoječa, razdelilna omara iz nerjavečega jekla AISI 304L, dim.: 1500x2000x600mm, dvema vratoma na vsaki strani s tritočkovnim zapiranjem, IP55, kompletno z montažno ploščo na sredini omare za težo montirane opreme ~850kg, podstavkom višine 500mm in ostalim drobnim materialom | C58: kos | D58: 1
A59: =(A58+1) -> 2 | B59: tripolno, glavno stikalo (odklopnik, brez zaščitne enote), 250A, 36kA, kompletno z mehanizmom in ročico | C59: kos | D59: 1
A60: =(A59+1) -> 3 | B60: adapter za montažo odklopnika na zbiralčni sistem, 250A | C60: kos | D60: 1
A61: =(A60+1) -> 4 | B61: tripolno, varovalčno stikalo za montažo na 60 mm zbiralčni sistem, In=160A, komplet z NV varovalnimi vložki | C61: kos | D61: 6
A62: =(A61+1) -> 5 | B62: tripolno, varovalčno stikalo za montažo na 60 mm zbiralčni sistem, In=250A, komplet z NV varovalnimi vložki | C62: kos | D62: 1
A63: =(A62+1) -> 6 | B63: 60 mm, trifazni zbiralčni sistem, z bakrenimi zbiralkami Cu 30x5 mm (379A), kompletno s podporami, zaključki, pokrovi in ostalim drobnim in montažnim materialom | C63: m | D63: 1
A64: =(A63+1) -> 7 | B64: tripolni, prenapetostni odvodnik, odvodniškega razreda C | C64: komp. | D64: 1
A65: =(A64+1) -> 8 | B65: instalacijski odklopnik, 10kA | C65: kos | D65: 1
A66: =(A65+1) -> 9 | B66: dvopolni, instalacijski odklopnik, 10kA, C16A | C66: kos | D66: 42
A67: =(A66+1) -> 10 | B67: tripolni kontaktor, 22kW, 50A AC3, 230V AC | C67: kos | D67: 1
A68: =(A67+1) -> 11 | B68: tripolni kontaktor, 30kW, 62A AC3, 230V AC | C68: kos | D68: 3
A69: =(A68+1) -> 12 | B69: enopolno, tripoložajno (1,0,2) grebenasto stikalo za pritrditev na letev | C69: kos | D69: 4
A70: =(A69+1) -> 13 | B70: rele z dvema preklopnima kontaktoma, 6A, 230VAC, kompletno s podnožjem za pritrditev na DIN letev | C70: kos | D70: 4
... A74: =(A73+1) -> 17 | B74: samo montaža in priklop dušilke s kondenzatorjem, dim:~350x150x150mm, teža: ~20kg | C74: kos | D74: 24
A75: =A74+1 -> 18 | B75: PEN bakrena zbiralka, vezni in ostali drobni material, označevanje, meritve in poročilo o preizkusu | C75: komp. | D75: 1
B77: R-prižig | C77: komp. | D77: 1 | F77: =D77*E77 -> 0
A78: 1 | B78: plastično, nadometno ohišje za tri elemente, dim.:153x80x56mm | C78: kos | D78: 1
A79: =A78+1 -> 2 | B79: Tipkalo dvojno,premer 22,5 mm,IP67, kompletno z adapterjem za čelno pritrditev, 2x delovni kontakt, 1x LED signalna svetilka 230VAC | C79: kos | D79: 3
A80: =A79+1 -> 3 | B80: tipka z enim delovnim kontaktom (zelena) | C80: kos | D80: 3
A81: =A80+1 -> 4 | B81: tipka z enim delovnim kontaktom (rdeča) | C81: kos | D81: 3
A82: =A81+1 -> 5 | B82: LED signalna svetilka, zelena, 230VAC | C82: kos | D82: 3
A83: =A82+1 -> 6 | B83: vrstne sponke, vezni in ostali drobni material, označevanje, meritve in poročilo o preizkusu | C83: komp. | D83: 1
E85: SKUPAJ | F85: =SUM(F30:F83) -> 0
A87: 3. Razsvetljava
A88: Samo montaža in nastavitev svetilk
A90: Zap. št. | B90: Opis del | C90: EM | D90: Količina | E90: Cena/EM | F90: Skupaj
A91: 1 | B91: samo montaža reflektorske svetilke na konstrukcijo na stebru in priključitev reflektorja (teža cca. 15kg), kompletno z usmeritvijo reflektorja z uporabo optičnega namerilnika | C91: kos | D91: 96 | F91: =D91*E91 -> 0
A92: =A91+1 -> 2 | B92: izračun osvetljenosti ter meritev osvetljenosti stadiona za dva, različna nivoja osvetljenosti (200lux, 800lux) | C92: kos | D92: 1 | F92: =D92*E92 -> 0
E94: SKUPAJ | F94: =SUM(F91:F92) -> 0
A96: 4. Ostalo
A98: Zap. št. | B98: Opis del | C98: EM | D98: Količina | E98: Cena/EM | F98: Skupaj
A99: 1 | B99: izdelava programa za logični krmilnik z digitalnimi I/O moduli (Schneider SR3B101FU+4xSR3XT101FU), z uporabljenimi šestimi digitalnimi vhodi in dvajsetimi digitalnimi izhodi (časovno zamaknjeno prižiganje reflektorjev na posameznem stebru za tri različne nivoje osvetljenosti, indikacija vklapljanja - utripanje ter dokončane sekvence vklopa za posamezni nivo osvetljenosti), preizkus delovanja, izdelava dokumentacije z opisom delovanja ter predaja izvorne programske kode v tiskani in elektronski obliki | C99: kos | D99: 1 | F99: =D99*E99 -> 0
A100: =A99+1 -> 2 | B100: vnos sprememb med gradnjo v dokumentacijo PZI, priprava tehnične dokumentacije (izjava o zanesljivosti objekta, cerifikati vgrajenega materiala, navodila za obratovanje in vzdrževanje naprav...), sodelovanje na tehničnem pregledu | C100: komp. | D100: 1 | F100: =D100*E100 -> 0
E102: SKUPAJ | F102: =SUM(F99:F100) -> 0
E104: SKUPAJ ELEKTROINSTALACIJE | F104: =F23+F85+F94+F102 -> 0

Sheet REKAP - 4 - SVETILA
B2: NAROČNIK:
B3: MESTNA OBČINA MURSKA SOBOTA
B6: PONUDNIK:
B8: PONUDBA ŠT.:
B11: OBJEKT
B12: RAZSVETLJAVA NOGOMETNEGA STADIONA FAZANERIJA MURSKA SOBOTA
B14: SKLOP 4
B15: SVETILA
B20: REKAPITULACIJA
B22: DOBAVA SVETILK | G22: =SVETILA!F11 -> 0
B23: SKUPAJ | G23: =SUM(G22:G22) -> 0
B24: NEPREDVIDENA DELA | F24: 0.03 | G24: =G23*F24 -> 0
B25: SKUPAJ Z NEPREDVIDENIMI DELI | G25: =G23+G24 -> 0
B27: KOMERCIALNI POPUST | G27: =G25*F27 -> 0
B28: SKUPAJ S KOMERCIALNIM POPUSTOM | G28: =G25-G27 -> 0
B30: 22% DDV | F30: 0.22 | G30: =G28*F30 -> 0
B31: SKUPAJ Z 22% DDV | G31: =G28+G30 -> 0
B34: V / na | E34: Žig | G34: Podpis
B35: Dne:

Sheet SVETILA
A1: 1. Razsvetljava
A2: Samo dobava svetilk vključno s predstikalno napravo
A4: Zap. št. | B4: Opis del | C4: EM | D4: Količina | E4: Cena/EM | F4: Skupaj
A6: 1a | B6: Reflektor z ohišjem v celoti iz brizganega aluminija z minimalno vsebnostjo bakra, oblikovani za čimmanjšo upornost vetru in čimboljše hlajenje-hladilana rebra, obarvano s polisterskim prašnim barvanjem sive barve, kaljeno steklo, tesnila odporna proti staranju in UV žarkom, vroče cinkani nosilci reflektorja, priključna doza z vžigno napravo na ohišju reflektorja iz visoko temperaturno in UV odpornega termoplasta , na ohišju teflonski kompenzacijski filtri / izenačevalniki pritiska v reflektorju, IK08, teža največ 15 kg, izpostavljena površina proti vetru pri 70°naklonu največ 0,25 m2 , najmanj IP65, po EN60598-1 trajna uporaba pri 35°C in kratkotrajna pri 45°C, optike ločeno vgrajene v ohišju z različnimi svetlobnimi usmeritvami izdelane iz visokosjajnega galvaniziranega aluminija 99,99%, optike z natančno usmeritvijo svetlobnega snopa za čim manjše svetlobno razsipanje (in onesnaževanje) in čimboljši izkoristek. doseganje svetlobnih lastnosti projektne opreme, možnosti R1 do R9 , pozicioniranje reflektorja omogočeno na grobo z lestvico v stopinjah na ohišju in natančno z namenskim daljogledom, ki se namesti na ohišje, čelno krožna oblika, cca 470 x 470 mm, globina cca 320 mm, celotna višina cca 620 mm, celotna globina cca 500 mm, odstopanja +/- 50 mm, ustreznost EN 60598-1, atest ENEC, sijalka Osram ali Philips Short arc 2000 W kot HQITS2000/D/S HF min 230000 Lm max 2060 W od 5.000 do 6.500 °K, dušilka na pocinkani plošči, 2000 W , 400V, cos FI nad 0,9, cca 250 x 170 x 150 mm +/- 30 mm, cca 20 kg garancija 5 let, dobavljivost delov 10 let Kot npr.: Fael LIGHTMASTER ONE LM ONE R5 2SEZ.CL1 2000W HF 75115 | C6: kos | D6: 20 | F6: =D6*E6 -> 0
A7: 1b | B7: Reflektor z ohišjem v celoti iz brizganega aluminija z minimalno vsebnostjo bakra, oblikovani za čimmanjšo upornost vetru in čimboljše hlajenje-hladilana rebra, obarvano s polisterskim prašnim barvanjem sive barve, kaljeno steklo, tesnila odporna proti staranju in UV žarkom, vroče cinkani nosilci reflektorja, priključna doza z vžigno napravo na ohišju reflektorja iz visoko temperaturno in UV odpornega termoplasta , na ohišju teflonski kompenzacijski filtri / izenačevalniki pritiska v reflektorju, IK08, teža največ 15 kg, izpostavljena površina proti vetru pri 70°naklonu največ 0,25 m2 , najmanj IP65, po EN60598-1 trajna uporaba pri 35°C in kratkotrajna pri 45°C, optike ločeno vgrajene v ohišju z različnimi svetlobnimi usmeritvami izdelane iz visokosjajnega galvaniziranega aluminija 99,99%, optike z natančno usmeritvijo svetlobnega snopa za čim manjše svetlobno razsipanje (in onesnaževanje) in čimboljši izkoristek. doseganje svetlobnih lastnosti projektne opreme, možnosti R1 do R9 , pozicioniranje reflektorja omogočeno na grobo z lestvico v stopinjah na ohišju in natančno z namenskim daljogledom, ki se namesti na ohišje, čelno krožna oblika, cca 470 x 470 mm, globina cca 320 mm, celotna višina cca 620 mm, celotna globina cca 500 mm, odstopanja +/- 50 mm, ustreznost EN 60598-1, atest ENEC, sijalka Osram ali Philips Short arc 2000 W kot HQITS2000/D/S HF min 230000 Lm max 2060 W od 5.000 do 6.500 °K, dušilka na pocinkani plošči, 2000 W , 400V, cos FI nad 0,9, cca 250 x 170 x 150 mm +/- 30 mm, cca 20 kg garancija 5 let, dobavljivost delov 10 let Kot npr.: Fael LIGHTMASTER ONE LM ONE R3 2SEZ.CL1 2000W HF 75113 | C7: kos | D7: 24 | F7: =D7*E7 -> 0
A8: 1c | B8: Reflektor z ohišjem v celoti iz brizganega aluminija z minimalno vsebnostjo bakra, oblikovani za čimmanjšo upornost vetru in čimboljše hlajenje-hladilana rebra, obarvano s polisterskim prašnim barvanjem sive barve, kaljeno steklo, tesnila odporna proti staranju in UV žarkom, vroče cinkani nosilci reflektorja, priključna doza z vžigno napravo na ohišju reflektorja iz visoko temperaturno in UV odpornega termoplasta , na ohišju teflonski kompenzacijski filtri / izenačevalniki pritiska v reflektorju, IK08, teža največ 15 kg, izpostavljena površina proti vetru pri 70°naklonu največ 0,25 m2 , najmanj IP65, po EN60598-1 trajna uporaba pri 35°C in kratkotrajna pri 45°C, optike ločeno vgrajene v ohišju z različnimi svetlobnimi usmeritvami izdelane iz visokosjajnega galvaniziranega aluminija 99,99%, optike z natančno usmeritvijo svetlobnega snopa za čim manjše svetlobno razsipanje (in onesnaževanje) in čimboljši izkoristek. doseganje svetlobnih lastnosti projektne opreme, možnosti R1 do R9 , pozicioniranje reflektorja omogočeno na grobo z lestvico v stopinjah na ohišju in natančno z namenskim daljogledom, ki se namesti na ohišje, čelno krožna oblika, cca 470 x 470 mm, globina cca 320 mm, celotna višina cca 620 mm, celotna globina cca 500 mm, odstopanja +/- 50 mm, ustreznost EN 60598-1, atest ENEC, sijalka Osram ali Philips Short arc 2000 W kot HQITS2000/D/S HF min 230000 Lm max 2060 W od 5.000 do 6.500 °K, dušilka na pocinkani plošči, 2000 W , 400V, cos FI nad 0,9, cca 250 x 170 x 150 mm +/- 30 mm, cca 20 kg garancija 5 let, dobavljivost delov 10 let Kot npr.: Fael LIGHTMASTER ONE LM ONE R2 2SEZ.CL1 2000W HF 75112 | C8: kos | D8: 12 | F8: =D8*E8 -> 0
A9: 1d | B9: Reflektor z ohišjem v celoti iz brizganega aluminija z minimalno vsebnostjo bakra, oblikovani za čimmanjšo upornost vetru in čimboljše hlajenje-hladilana rebra, obarvano s polisterskim prašnim barvanjem sive barve, kaljeno steklo, tesnila odporna proti staranju in UV žarkom, vroče cinkani nosilci reflektorja, priključna doza z vžigno napravo na ohišju reflektorja iz visoko temperaturno in UV odpornega termoplasta , na ohišju teflonski kompenzacijski filtri / izenačevalniki pritiska v reflektorju, IK08, teža največ 15 kg, izpostavljena površina proti vetru pri 70°naklonu največ 0,25 m2 , najmanj IP65, po EN60598-1 trajna uporaba pri 35°C in kratkotrajna pri 45°C, optike ločeno vgrajene v ohišju z različnimi svetlobnimi usmeritvami izdelane iz visokosjajnega galvaniziranega aluminija 99,99%, optike z natančno usmeritvijo svetlobnega snopa za čim manjše svetlobno razsipanje (in onesnaževanje) in čimboljši izkoristek. doseganje svetlobnih lastnosti projektne opreme, možnosti R1 do R9 , pozicioniranje reflektorja omogočeno na grobo z lestvico v stopinjah na ohišju in natančno z namenskim daljogledom, ki se namesti na ohišje, čelno krožna oblika, cca 470 x 470 mm, globina cca 320 mm, celotna višina cca 620 mm, celotna globina cca 500 mm, odstopanja +/- 50 mm, ustreznost EN 60598-1, atest ENEC, sijalka Osram ali Philips Short arc 2000 W kot HQITS2000/D/S HF min 230000 Lm max 2060 W od 5.000 do 6.500 °K, dušilka na pocinkani plošči, 2000 W , 400V, cos FI nad 0,9, cca 250 x 170 x 150 mm +/- 30 mm, cca 20 kg garancija 5 let, dobavljivost delov 10 let Kot npr.: Fael LIGHTMASTER ONE LM ONE R1 2SEZ.CL1 2000W HF 75111 | C9: kos | D9: 40 | F9: =D9*E9 -> 0
E11: SKUPAJ RAZSVETLJAVA | F11: =SUM(F6:F9) -> 0
