Workbook

Sheet 2-zobna
A1: ZDRAVSTVENI DOM MURSKA SOBOTA
B3: OBJEKT 2 - zobna ambulanta
B5: OPOMBA:
B7: Ponudbenih postavk ni dovoljeno spreminjati. Pri izdelavi
B8: ponudbe je potrebno upoštevati detajle iz projektne dokumentacije.
B13: OPOZORILO!
B14: IZVAJALEC MORA PRED PRIČETKOM DEL OBVEZNO PREVERITI VSE MERE NA OBJEKTU!
B15: IZVAJALEC DEL MORA SKLADNO Z ZAKONOM O GRADITVI OBJEKTOV (ZGO-I) VGRAJEVATI USTREZNE GRADBENE PROIZVODE Z VNAPREJ IZDELANIMI DELAVNIŠKIMI NAČRTI, KI MORAJO BITI POTRJENI S STRANI PROJEKTANTA.
B16: Enota cene mora vsebovati:
B17: vsa potrebna pripravljalna dela
B18: vsa potrebna merjenja na objektu
B19: vse potrebne transporte do mesta vgrajevanja
B20: skladiščenje materiala na gradbišču
... B31: A. FASADA
A33: I. | B33: Rušitvena dela, povezana z izvedbo kontaktne fasade | C33: enota | D33: količina | E33: cena/enoto | F33: znesek
A35: 1. | B35: Demontaža vseh predmetov na fasadi: luči,, kamere, žice, instalacijske omarice,ročaji, napisne table... in ponovna montaža po dokončanju kontaktne fasade, ocenjeno
B36: a.) instalacijske omarice | C36: kos | D36: 8 | F36: =(D36*E36) -> 0
B37: b.) rešetke in zračniki | C37: kos | D37: 4 | F37: =(D37*E37) -> 0
B38: c.) poštni nabiralniki | C38: kos | D38: 4 | F38: =(D38*E38) -> 0
B39: d.) luči pri vhodih | C39: kos | D39: 4 | F39: =(D39*E39) -> 0
B40: e.) instalacijski drog | C40: kos | D40: 1 | F40: =(D40*E40) -> 0
A42: 2. | B42: Demontaža zunanjih enot hladilnih naprav zaradi izdelave kontaktne fasade in ponovna montaža le teh, s potrebnimi podaljški inštalacijskih cevi na novo lokacijo na fasadi in ponovnim polnjenejm ter zagonom. V ceni je potrebno zajeti nove nosilce. | C42: kos | D42: 20 | F42: =(D42*E42) -> 0
A44: 3. | B44: Demontaža kleparskih izdelkov na fasadi objekta vključno z odvozom demontiranih izdelkov v trajno deponijo in s plačilom takse na odlagališču oziroma ponovna montaža po dokončanju fasade vključno z morebitnim podaljšanjem nosilcev ali pa vgradnja nove obrobe
B45: a.) trapezna pločevina na fasadi r.š. cca 60cm | C45: m' | D45: 124 | F45: =D45*E45 -> 0
B46: b.) ležeči žlebovi skupaj z masko r.š. cca 80cm | C46: m' | D46: 94 | F46: =D46*E46 -> 0
B47: c.) čelne in slemenske zaključne obrobe r.š. cca 60cm | C47: m' | D47: 185 | F47: =D47*E47 -> 0
B48: d.) odtočne cevi | C48: m' | D48: 29 | F48: =D48*E48 -> 0
A50: 4. | B50: Demontaža pločevinaste kritine nad nadstreški nad vhodi skupaj z obrobami, vključno z odvozom demontiranih izdelkov v trajno deponijo in s plačilom takse na odlagališču. | C50: m2 | D50: 14 | F50: =(D50*E50) -> 0
A52: 5. | B52: Rušenje peskolovov iz B.C. fi 30cm, vključno s pokrovom, nakladanjem in odvozom ruševin v trajno deponijo na razdaljo do 15km ter naprava novih peskolovov vse komplet ( izkop, zasip, betonska cev, obdelava dna, pokrov ). | C52: kos | D52: 9 | F52: =(D52*E52) -> 0
A54: 6. | B54: Demontaža pločevinastih zunanjih okenskih polic, na oknih, ki se ne zamenjajo, zaradi dodatne izolacije vključno z odvozom demontiranih izdelkov v trajno deponijo in s plačilom takse na odlagališču. | C54: m' | D54: 114 | F54: =D54*E54 -> 0
A56: 7. | B56: Odrezanje obstoječe betonske plošče sosednjega objekta z nakladanjem ruševin, odvozom v trajno deponijo in s plačilom takse na odlagališču. | C56: m3 | D56: 0.15 | F56: =(D56*E56) -> 0
A58: 8. | B58: Demontaža zunanjih alu žaluzij skupaj s škatlo zaradi dodatne izolacije fasade s spravljanjem in s prenosom v deponijo na gradbišču in deponiranje v času izvedbe del zaradi kasnejše ponovne montaže. | C58: kos | D58: 7 | F58: =(D58*E58) -> 0
A60: 9. | B60: Demontaža strelovodne napeljave na fasadi objekta in ponovna montaža po dokončanju kontaktne fasade vključno z morebitnim podaljšanjem nosilcev strelovoda | C60: m' | D60: 29 | F60: =(D60*E60) -> 0
A62: 10. | B62: Odkop terena ob objektu ( ob zelenicah in nasutju) v globino cca 10cm in širino 40cm zaradi izvedbe toplotne izolacije ter zasip in vzpostavitev prvotnega stanja. | C62: m' | D62: 115 | F62: =(D62*E62) -> 0
B65: SKUPAJ: | F65: =SUM(F35:F63) -> 0
A67: II. | B67: IZOLACIJSKO OPLAŠČENJE FASADE | C67: enota | D67: količina | E67: cena/enoto | F67: znesek
B69: OPOMBA: v količinah odprtine za okna in vel. do 3,00m2 niso odbite. Pri odprtinah večjih od 3,00m2 pa je odbito 3,00m2 in špalete niso dodane.
A71: 1. | B71: Naprava termoizolacijske fasade na podstavku iz vodoodpornih XPS plošč deb. 14cm kot. npr. STIROCOKL ali enakovredno (50cm nad terenom in 10cm pod terenom). Plošče so prilepljene in dodatno pritrjene s sidri ( 6 kosov/m2) na obstoječo fasado, skupaj z dvoslojni nanosom paropropustne malte deb. 6- 8 mm z vtapljanjem mrežice in zaključnim tankoslojnim pralnim nanosom, kot npr. kulir plast . Dela se izajajo po navodilih proizvajalca. | C71: m2 | D71: 146 | F71: =D71*E71 -> 0
A73: 2. | B73: Izvedba tesnenja podstavka s tesnilno izravnalno maso kot npr. Röfix Optiflex 2K ali enakovredno. | C73: m' | D73: 230 | F73: =D73*E73 -> 0
A75: 3. | B75: Termoizolacijsko fasadno oplaščenje s toplotno izolacijo iz ekspandiranega polistirena deb. 14cm prilepljenega in dodatno pritrjenega s sidri ( 6 kosov/m2) na obstoječo fasado, z dvoslojnim nanosom paropropustne malte deb. 6-8 mm z vtapljanjem mrežice. Zaključni sloj je tankoslojni vodoodbojni silikatni barvni omet vključno s sistemsko predpisanim prednamazom, barva po izboruarhitekta iz barvne lestvice; difuzijska upornost prehoda vodne pare µ 30 - 40; koeficient vodovpojnosti < 0,2 kg/m2h0,5, (struktura 2 mm). Izvedba po navodilih proizvajalca. | C75: m2 | D75: 1020 | F75: =D75*E75 -> 0
...

Sheet 3+5-otroski
A1: ZDRAVSTVENI DOM MURSKA SOBOTA
B3: OBJEKT 3 in 5 pljučni in otroški oddelek
B5: OPOMBA:
B7: Ponudbenih postavk ni dovoljeno spreminjati. Pri izdelavi
B8: ponudbe je potrebno upoštevati detajle iz projektne dokumentacije.
B13: OPOZORILO!
B14: IZVAJALEC MORA PRED PRIČETKOM DEL OBVEZNO PREVERITI VSE MERE NA OBJEKTU!
B15: IZVAJALEC DEL MORA SKLADNO Z ZAKONOM O GRADITVI OBJEKTOV (ZGO-I) VGRAJEVATI USTREZNE GRADBENE PROIZVODE Z VNAPREJ IZDELANIMI DELAVNIŠKIMI NAČRTI, KI MORAJO BITI POTRJENI S STRANI PROJEKTANTA.
B16: Enota cene mora vsebovati:
B17: vsa potrebna pripravljalna dela
B18: vsa potrebna merjenja na objektu
B19: vse potrebne transporte do mesta vgrajevanja
B20: skladiščenje materiala na gradbišču
... B31: A. FASADA
A33: I. | B33: Rušitvena dela, povezana z izvedbo kontaktne fasade | C33: enota | D33: količina | E33: cena/enoto | F33: znesek
A35: 1. | B35: Demontaža vseh predmetov na fasadi: luči,, kamere, žice, instalacijske omarice,ročaji, napisne table... in ponovna montaža po dokončanju kontaktne fasade, ocenjeno | C35: ocenjeno
A37: 2. | B37: Demontaža zunanjih enot hladilnih naprav zaradi izdelave kontaktne fasade in ponovna montaža le teh, s potrebnimi podaljški inštalacijskih cevi na novo lokacijo na fasadi in ponovnim polnjenejm ter zagonom. V ceni je potrebno zajeti nove nosilce. | C37: kos | D37: 30 | F37: =(D37*E37) -> 0
A39: 3. | B39: Demontaža kleparskih izdelkov na fasadi objekta vključno z odvozom demontiranih izdelkov v trajno deponijo in s plačilom takse na odlagališču.
B40: a.) venci pod žlebovi r.š. cca 80cm | C40: m' | D40: 181 | F40: =D40*E40 -> 0
B41: b.) ležeči žlebovi r.š. cca 40cm | C41: m' | D41: 181 | F41: =D41*E41 -> 0
B42: c.) čelne zaključne obrobe skupaj s prekritjem zidov r.š. cca 60cm | C42: m' | D42: 116 | F42: =D42*E42 -> 0
B43: e.) odtočne cevi | C43: m' | D43: 99 | F43: =D43*E43 -> 0
B44: f.) odkapne police pod parapeti | C44: m' | D44: 106 | F44: =D44*E44 -> 0
B45: g. demontaža prezračevalnih in zamenjava novih prezračevalnih kov. rešetk dim. cca 20 x 20cm | C45: kom | D45: 30 | F45: =D45*E45 -> 0
A47: 4. | B47: Naprava izravnalnega ometa na obstoječ kamniti in neometan opečni zid v debelini cca 4-5cm v PM 1:3:9, z vsemi pomožnimi deli in prenosi. | C47: m2 | D47: 45 | F47: =(D47*E47) -> 0
A49: 5. | B49: Rušenje peskolovov iz B.C. fi 30cm, vključno s pokrovom, nakladanjem in odvozom ruševin v trajno deponijo na razdaljo do 15km ter naprava novih peskolovov vse komplet ( izkop, zasip, betonska cev, obdelava dna, pokrov ). | C49: kos | D49: 13 | F49: =(D49*E49) -> 0
A51: 6. | B51: Demontaža pločevinastih zunanjih okenskih polic, na oknih, ki se ne zamenjajo, zaradi dodatne izolacije vključno z odvozom demontiranih izdelkov v trajno deponijo in s plačilom takse na odlagališču. | C51: m' | D51: 66 | F51: =D51*E51 -> 0
A53: 7. | B53: Demontaža horizontalnih alu fiksnih brisolejev skupaj s podkonstrukcijo širine cca 80cm z odvozom demontiranih izdelkov v trajno deponijo in s plačilom takse na odlagališču. | C53: m' | D53: 85 | F53: =D53*E53 -> 0
A55: 8. | B55: Odstranitev obstoječe pločevinaste kritine z ravnih streh ozirona gramoza minimalnega nagiba skupaj z zaključki in obrobami, z odvozom demontiranih izdelkov v trajno deponijo in s plačilom takse na odlagališču. | C55: m2 | D55: 205 | F55: =(D55*E55) -> 0
A57: 9. | B57: Odrezanje obstoječega betonskega okvirja okoli oken vel. cca 20x15cm z nakladanjem ruševin, odvozom v trajno deponijo in s plačilom takse na odlagališču. | C57: m' | D57: 16 | F57: =(D57*E57) -> 0
A59: 10. | B59: Demontaža zunanjih alu žaluzij skupaj s škatlo zaradi dodatne izolacije fasade s spravljanjem in s prenosom v deponijo na gradbišču in deponiranje v času izvedbe del zaradi kasnejše ponovne montaže. | C59: kos | D59: 55 | F59: =(D59*E59) -> 0
A61: 11. | B61: Demontaža strelovodne napeljave na fasadi objekta in ponovna montaža po dokončanju kontaktne fasade vključno z morebitnim podaljšanjem nosilcev strelovoda | C61: m' | D61: 99 | F61: =(D61*E61) -> 0
A63: 12. | B63: Demontaža okvirjev skupaj z rešetkami ali mrežico vel. do 0,50m2 z odvozom demontiranih izdelkov v trajno deponijo in s plačilom takse na odlagališču, ocena | C63: kos | D63: 30 | F63: =(D63*E63) -> 0
A65: 13. | B65: Odrezanje obstoječe izolacijske fasade iz stiroporja v pasu nad in ob oknih deb. 5cm, ki se ga nadomesti s kameno volno, z odvozom v trajno deponijo. | C65: m2 | D65: 35 | F65: =(D65*E65) -> 0
A67: 14. | B67: Odkop terena ob objektu v globino cca 10cm in širino 40cm zaradi izvedbe toplotne izolacije ter zasip in vzpostavitev prvotnega stanja | C67: m' | D67: 243 | F67: =(D67*E67) -> 0
B70: SKUPAJ: | F70: =SUM(F33:F68) -> 0
A72: II. | B72: IZOLACIJSKO OPLAŠČENJE FASADE | C72: enota | D72: količina | E72: cena/enoto | F72: znesek
B74: OPOMBA: v količinah odprtine za okna in vrata niso odbite, ker ne presegajo 3,00m2 in špalete niso dodane
A76: 1. | B76: Izvedba dodatne izolacije iz kamene volne oziroma iz ekspandiranega polistirena debeline cca 4-5cm med stebri oziroma na parapetih zaradi ploskovne izravnave fasade, objekt 3. | C76: m2 | D76: 134 | F76: =(D76*E76) -> 0
A78: 2. | B78: Izvedba dodatne izolacije iz kamene volne oziroma iz ekspandiranega polistirena debeline cca 3-4cm med stebri oziroma na parapetih zaradi ploskovne izravnave fasade, objekt 5. | C78: m2 | D78: 190 | F78: =(D78*E78) -> 0
...

Sheet 4-resevalna
A1: ZDRAVSTVENI DOM MURSKA SOBOTA
B4: OBJEKT4 - reševalna postaja
B6: OPOMBA:
B8: Ponudbenih postavk ni dovoljeno spreminjati. Pri izdelavi
B9: ponudbe je potrebno upoštevati detajle iz projektne dokumentacije.
B14: OPOZORILO!
B15: IZVAJALEC MORA PRED PRIČETKOM DEL OBVEZNO PREVERITI VSE MERE NA OBJEKTU!
B16: IZVAJALEC DEL MORA SKLADNO Z ZAKONOM O GRADITVI OBJEKTOV (ZGO-I) VGRAJEVATI USTREZNE GRADBENE PROIZVODE Z VNAPREJ IZDELANIMI DELAVNIŠKIMI NAČRTI, KI MORAJO BITI POTRJENI S STRANI PROJEKTANTA.
B17: Enota cene mora vsebovati:
B18: vsa potrebna pripravljalna dela
B19: vsa potrebna merjenja na objektu
B20: vse potrebne transporte do mesta vgrajevanja
B21: skladiščenje materiala na gradbišču
... B32: A. FASADA
A34: I. | B34: Rušitvena dela, povezana z izvedbo kontaktne fasade | C34: enota | D34: količina | E34: cena/enoto | F34: znesek
A36: 1. | B36: Demontaža vseh predmetov na fasadi: luči,, kamere, žice, instalacijske omarice,ročaji, napisne table... in ponovna montaža po dokončanju kontaktne fasade, ocenjeno
B37: a.) instalacijske omarice | C37: kos | D37: 5 | F37: =(D37*E37) -> 0
B38: b.) rešetke in zračniki | C38: kos | D38: 4 | F38: =(D38*E38) -> 0
B39: c.) žarometi | C39: kos | D39: 2 | F39: =(D39*E39) -> 0
B40: d.) luči | C40: kos | D40: 7 | F40: =(D40*E40) -> 0
A42: 2. | B42: Demontaža zunanjih enot hladilnih naprav zaradi izdelave kontaktne fasade in ponovna montaža le teh, s potrebnimi podaljški inštalacijskih cevi na novo lokacijo na fasadi in ponovnim polnjenejm ter zagonom. V ceni je potrebno zajeti nove nosilce. | C42: kos | D42: 1 | F42: =(D42*E42) -> 0
A44: 3. | B44: Demontaža kleparskih izdelkov na fasadi objekta in ponovna montaža po dokončanju fasade vključno z morebitnim podaljšanjem nosilcev ali pa vgradnja nove obrobe
B45: a.) viseči žlebovi r.š. cca 40cm | C45: m' | D45: 24 | F45: =D45*E45 -> 0
B46: b.) odtočne cevi | C46: m' | D46: 81 | F46: =D46*E46 -> 0
A48: 4. | B48: Rušenje peskolovov iz B.C. fi 30cm, vključno s pokrovom, nakladanjem in odvozom ruševin v trajno deponijo na razdaljo do 15km ter naprava novih peskolovov vse komplet ( izkop, zasip, betonska cev, obdelava dna, pokrov ). | C48: kos | D48: 5 | F48: =(D48*E48) -> 0
A50: 5. | B50: Demontaža pločevinastih zunanjih okenskih polic, na oknih, ki se ne zamenjajo, zaradi dodatne izolacije vključno z odvozom demontiranih izdelkov v trajno deponijo in s plačilom takse na odlagališču. | C50: m' | D50: 20 | F50: =D50*E50 -> 0
A52: 6. | B52: Odstranitev obstoječe kritine iz evala na terasi z odvozom demontiranih izdelkov v trajno deponijo in s plačilom takse na odlagališču. | C52: m2 | D52: 11 | F52: =(D52*E52) -> 0
A54: 7. | B54: Demontaža strelovodne napeljave na fasadi objekta in ponovna montaža po dokončanju kontaktne fasade vključno z morebitnim podaljšanjem nosilcev strelovoda | C54: m' | D54: 12 | F54: =(D54*E54) -> 0
A56: 8. | B56: Odkop terena ob objektu v globino cca 10cm in širino 40cm zaradi izvedbe toplotne izolacije ter zasip in vzpostavitev prvotnega stanja | C56: m' | D56: 43 | F56: =(D56*E56) -> 0
B59: SKUPAJ: | F59: =SUM(F35:F57) -> 0
A61: II. | B61: IZOLACIJSKO OPLAŠČENJE FASADE | C61: enota | D61: količina | E61: cena/enoto | F61: znesek
B63: OPOMBA: v količinah odprtine za okna in vrata niso odbite, ker ne presegajo 3,00m2 in špalete niso dodane
A65: 1. | B65: Naprava termoizolacijske fasade na podstavku iz vodoodpornih XPS plošč deb. 14cm kot. npr. STIROCOKL ali enakovredno. Plošče so prilepljene in dodatno pritrjene s sidri ( 6 kosov/m2) na obstoječo fasado, skupaj z dvoslojni nanosom paropropustne malte deb. 6- 8 mm z vtapljanjem mrežice in zaključnim tankoslojnim pralnim nanosom, kot npr. kulir plast . Dela se izajajo po navodilih proizvajalca. | C65: m2 | D65: 55 | F65: =D65*E65 -> 0
A67: 2. | B67: Izvedba tesnenja podstavka s tesnilno izravnalno maso kot npr. Röfix Optiflex 2K ali enakovredno. | C67: m' | D67: 74 | F67: =D67*E67 -> 0
A69: 3. | B69: Termoizolacijsko fasadno oplaščenje s toplotno izolacijo iz ekspandiranega polistirena deb. 14cm prilepljenega in dodatno pritrjenega s sidri ( 6 kosov/m2) na obstoječo fasado, z dvoslojnim nanosom paropropustne malte deb. 6-8 mm z vtapljanjem mrežice. Zaključni sloj je tankoslojni vodoodbojni silikatni barvni omet vključno s sistemsko predpisanim prednamazom, barva po izboruarhitekta iz barvne lestvice; difuzijska upornost prehoda vodne pare µ 30 - 40; koeficient vodovpojnosti < 0,2 kg/m2h0,5, (struktura 2 mm). Izvedba po navodilih proizvajalca. | C69: m2 | D69: 243 | F69: =D69*E69 -> 0
A71: 4. | B71: Izvedba obloge na napušču s trdimi stirodur ploščami deb. 2cm skupaj s podkonstrukcijo in zaključnim silikatnim slojem, v enaki izvedbi kot so stene fasade. | C71: m2 | D71: 94 | F71: =D71*E71 -> 0
A73: 5. | B73: Dobava in oblaganje sten ob vhodih s finalno obdelanimi lesenimi deskami iz sibirskega macesna dim. 90x20mm s 7mm razmakom, 3x UV zaščita. V ceni je potrebno zajeti les. morale 20x20mm (zračni sloj), paropropustno folijo, leseno horizontalno in vertikalno podkonstrukcijo med katero je vstavljena toplotna izolacija iz kamene volne deb. 14cm - po detajlu (les. podkontrukcija se laho zamenja z alu sidri). | C73: m2 | D73: 20 | F73: =D73*E73 -> 0
A75: 6. | B75: Dobava, montaža, demontaža in amortizacija lahkega fasadnega odra višine do 10 m vključno s protiprašno zaščito. Oder po izboru Izvajalcaza prevzem obremenitev, potrebnih za izvedbo lastnih del. | C75: m2 | D75: 417 | F75: =D75*E75 -> 0
B77: SKUPAJ: | F77: =SUM(F63:F75) -> 0
A80: III. | B80: KLEPARSKA DELA | C80: enota | D80: količina | E80: cena/enoto | F80: znesek
...

Sheet 6-laboratorij
A1: ZDRAVSTVENI DOM MURSKA SOBOTA
B4: OBJEKT 6 - laboratorij
B6: OPOMBA:
B8: Ponudbenih postavk ni dovoljeno spreminjati. Pri izdelavi
B9: ponudbe je potrebno upoštevati detajle iz projektne dokumentacije.
B14: OPOZORILO!
B15: IZVAJALEC MORA PRED PRIČETKOM DEL OBVEZNO PREVERITI VSE MERE NA OBJEKTU!
B16: IZVAJALEC DEL MORA SKLADNO Z ZAKONOM O GRADITVI OBJEKTOV (ZGO-I) VGRAJEVATI USTREZNE GRADBENE PROIZVODE Z VNAPREJ IZDELANIMI DELAVNIŠKIMI NAČRTI, KI MORAJO BITI POTRJENI S STRANI PROJEKTANTA.
B17: Enota cene mora vsebovati:
B18: vsa potrebna pripravljalna dela
B19: vsa potrebna merjenja na objektu
B20: vse potrebne transporte do mesta vgrajevanja
B21: skladiščenje materiala na gradbišču
... B32: A. FASADA
A34: I. | B34: Rušitvena dela, povezana z izvedbo kontaktne fasade | C34: enota | D34: količina | E34: cena/enoto | F34: znesek
A36: 1. | B36: Demontaža vseh predmetov na fasadi: luči,, kamere, žice, instalacijske omarice,ročaji, napisne table... in ponovna montaža po dokončanju kontaktne fasade, ocenjeno
B37: a.) instalacijske omarice | C37: kos | D37: 3 | F37: =(D37*E37) -> 0
B38: b.) rešetke in zračniki | C38: kos | D38: 8 | F38: =(D38*E38) -> 0
B39: c.) napisne table | C39: kos | D39: 1 | F39: =(D39*E39) -> 0
B40: d.) luči | C40: kos | D40: 2 | F40: =(D40*E40) -> 0
A42: 2. | B42: Demontaža zunanjih enot hladilnih naprav zaradi izdelave kontaktne fasade in ponovna montaža le teh, s potrebnimi podaljški inštalacijskih cevi na novo lokacijo na fasadi in ponovnim polnjenejm ter zagonom. V ceni je potrebno zajeti nove nosilce. | C42: kos | D42: 9 | F42: =(D42*E42) -> 0
A44: 3. | B44: Demontaža kleparskih izdelkov na fasadi objekta in ponovna montaža po dokončanju fasade vključno z morebitnim podaljšanjem nosilcev ali pa vgradnja nove obrobe
B45: a.) viseči žlebovi r.š. cca 40cm | C45: m' | D45: 54 | F45: =D45*E45 -> 0
B46: b.) odtočne cevi | C46: m' | D46: 9 | F46: =D46*E46 -> 0
A48: 4. | B48: Rušenje peskolovov iz B.C. fi 30cm, vključno s pokrovom, nakladanjem in odvozom ruševin v trajno deponijo na razdaljo do 15km ter naprava novih peskolovov vse komplet ( izkop, zasip, betonska cev, obdelava dna, pokrov ). | C48: kos | D48: 2 | F48: =(D48*E48) -> 0
A50: 5. | B50: Demontaža pločevinastih zunanjih okenskih polic, na oknih, ki se ne zamenjajo, zaradi dodatne izolacije vključno z odvozom demontiranih izdelkov v trajno deponijo in s plačilom takse na odlagališču. | C50: m' | D50: 12 | F50: =D50*E50 -> 0
A52: 6. | B52: Demontaža strelovodne napeljave na fasadi objekta in ponovna montaža po dokončanju kontaktne fasade vključno z morebitnim podaljšanjem nosilcev strelovoda | C52: m' | D52: 21 | F52: =(D52*E52) -> 0
A54: 7. | B54: Odkop terena ob objektu v globino cca 10cm in širino 40cm zaradi izvedbe toplotne izolacije ter zasip in vzpostavitev prvotnega stanja | C54: m' | D54: 69 | F54: =(D54*E54) -> 0
B57: SKUPAJ: | F57: =SUM(F35:F55) -> 0
A59: II. | B59: IZOLACIJSKO OPLAŠČENJE FASADE
B61: OPOMBA: v količinah odprtine za okna in vrata niso odbite, ker ne presegajo 3,00m2 in špalete niso dodane
A63: 1. | B63: Naprava termoizolacijske fasade na podstavku iz vodoodpornih XPS plošč deb. 14cm kot. npr. STIROCOKL ali enakovredno. Plošče so prilepljene in dodatno pritrjene s sidri ( 6 kosov/m2) na obstoječo fasado, skupaj z dvoslojni nanosom paropropustne malte deb. 6- 8 mm z vtapljanjem mrežice in zaključnim tankoslojnim pralnim nanosom, kot npr. kulir plast . Dela se izajajo po navodilih proizvajalca. | C63: m2 | D63: 43 | F63: =D63*E63 -> 0
A65: 2. | B65: Izvedba tesnenja podstavka s tesnilno izravnalno maso kot npr. Röfix Optiflex 2K ali enakovredno. | C65: m' | D65: 72 | F65: =D65*E65 -> 0
A67: 3. | B67: Termoizolacijsko fasadno oplaščenje s toplotno izolacijo iz ekspandiranega polistirena deb. 14cm prilepljenega in dodatno pritrjenega s sidri ( 6 kosov/m2) na obstoječo fasado, z dvoslojnim nanosom paropropustne malte deb. 6-8 mm z vtapljanjem mrežice. Zaključni sloj je tankoslojni vodoodbojni silikatni barvni omet vključno s sistemsko predpisanim prednamazom, barva po izboruarhitekta iz barvne lestvice; difuzijska upornost prehoda vodne pare µ 30 - 40; koeficient vodovpojnosti < 0,2 kg/m2h0,5, (struktura 2 mm). Izvedba po navodilih proizvajalca. | C67: m2 | D67: 258 | F67: =D67*E67 -> 0
A69: 4. | B69: Izvedba obloge na napušču s trdimi stirodur ploščami deb. 2cm skupaj s podkonstrukcijo in zaključnim silikatnim slojem, v enaki izvedbi kot so stene fasade. | C69: m2 | D69: 50 | F69: =D69*E69 -> 0
A71: 5. | B71: Dobava in oblaganje sten ob vhodih s finalno obdelanimi lesenimi deskami iz sibirskega macesna dim. 90x20mm s 7mm razmakom, 3x UV zaščita. V ceni je potrebno zajeti les. morale 20x20mm (zračni sloj), paropropustno folijo, leseno horizontalno in vertikalno podkonstrukcijo med katero je vstavljena toplotna izolacija iz kamene volne deb. 14cm - po detajlu (les. podkontrukcija se laho zamenja z alu sidri). | C71: m2 | D71: 13 | F71: =D71*E71 -> 0
A73: 6. | B73: Dobava, montaža, demontaža in amortizacija lahkega fasadnega odra višine do 10 m vključno s protiprašno zaščito. Oder po izboru Izvajalcaza prevzem obremenitev, potrebnih za izvedbo lastnih del. | C73: m2 | D73: 365 | F73: =D73*E73 -> 0
B75: SKUPAJ: | F75: =SUM(F61:F73) -> 0
A78: III. | B78: KLEPARSKA DELA | C78: enota | D78: količina | E78: cena/enoto | F78: znesek
B80: Pred pričetkom del je izvajalec dolžan preveriti vse količine in dejanske mere na objektu. Za vse vgrajene elemente je sprotno dostavljati dokazila o ustreznosti materiala, za konstrukcijske elemente pa je dostaviti tudi poročilo pooblaščene institucije o ustreznosti izvedbe. Stroške pridobitve atestov in poročil je vključiti v c.e.m..
...

Sheet ventili
A1: ZDRAVSTVENI DOM MURSKA SOBOTA
B4: ZAMENJAVA RADIATORSKIH VENTILOV | C4: enota | D4: količina | E4: cena/enoto | F4: znesek
B6: VSI OBJEKTI, SKUPAJ
A8: 4. | B8: Demontaža obstoječih radiatorskih ventilov ter dobava in montaža termostatske radiatorske glave s termostatskim radiatorskim ventilom proizvod kot npr. Danfoss, tip RA 2990, komplet z vsem potrebnim spojnim in montažnim materialom, dim DN20 | C8: kom | D8: 180 | F8: =(D8*E8) -> 0
B10: SKUPAJ: | F10: =SUM(F8:F9) -> 0

Sheet rekapitulacija
A1: ENERGETSKA SANACIJA OBJEKTOV ZDRAVSTVENEGA DOMA MURSKA SOBOTA V MURSKI SOBOTI
B4: PONUDNIK
A5: NAZIV
A6: NASLOV
B12: OBJEKT 2 - zobna | E12: ='2-zobna'!F172+'2-zobna'!F185 -> 0
B14: OBJEKT 3+5 pljučni+otroški | E14: =+'3+5-otroski'!F230 -> 0
B16: OBJEKT 4 - reševalna | E16: =+'4-resevalna'!F154 -> 0
B17: OBJEKT 6 - laboratorij | E17: =+'6-laboratorij'!F142 -> 0
B19: ZAMENJAVA VENTILOV | E19: =+ventili!F10 -> 0
B21: SKUPAJ: | E21: =SUM(E12:E20) -> 0
B23: DDV | E23: =E21*0.22 -> 0
B25: SKUPAJ Z DDV | E25: =E21+E23 -> 0
