Workbook

Sheet 2-zobna
A1: ZDRAVSTVENI DOM MURSKA SOBOTA
B3: OBJEKT 2 - zobna ambulanta
B5: OPOMBA:
B7: Ponudbenih postavk ni dovoljeno spreminjati. Pri izdelavi
B8: ponudbe je potrebno upoštevati detajle iz projektne dokumentacije.
B13: OPOZORILO!
B14: IZVAJALEC MORA PRED PRIČETKOM DEL OBVEZNO PREVERITI VSE MERE NA OBJEKTU!
B15: IZVAJALEC DEL MORA SKLADNO Z ZAKONOM O GRADITVI OBJEKTOV (ZGO-I) VGRAJEVATI USTREZNE GRADBENE PROIZVODE Z VNAPREJ IZDELANIMI DELAVNIŠKIMI NAČRTI, KI MORAJO BITI POTRJENI S STRANI PROJEKTANTA.
B16: Enota cene mora vsebovati:
B17: vsa potrebna pripravljalna dela
B18: vsa potrebna merjenja na objektu
B19: vse potrebne transporte do mesta vgrajevanja
B20: skladiščenje materiala na gradbišču
... B31: A. FASADA
A33: I. | B33: Rušitvena dela, povezana z izvedbo kontaktne fasade | C33: enota | D33: količina | E33: cena/enoto | F33: znesek
A35: 1. | B35: Demontaža vseh predmetov na fasadi: luči,, kamere, žice, instalacijske omarice,ročaji, napisne table... in ponovna montaža po dokončanju kontaktne fasade, ocenjeno
B36: a.) instalacijske omarice | C36: kos | D36: 8 | F36: =(D36*E36) -> 0
B37: b.) rešetke in zračniki | C37: kos | D37: 4 | F37: =(D37*E37) -> 0
B38: c.) poštni nabiralniki | C38: kos | D38: 4 | F38: =(D38*E38) -> 0
B39: d.) luči pri vhodih | C39: kos | D39: 4 | F39: =(D39*E39) -> 0
B40: e.) instalacijski drog | C40: kos | D40: 1 | F40: =(D40*E40) -> 0
A42: 2. | B42: Demontaža zunanjih enot hladilnih naprav zaradi izdelave kontaktne fasade in ponovna montaža le teh, s potrebnimi podaljški inštalacijskih cevi na novo lokacijo na fasadi in ponovnim polnjenejm ter zagonom. V ceni je potrebno zajeti nove nosilce. | C42: kos | D42: 20 | F42: =(D42*E42) -> 0
A44: 3. | B44: Demontaža kleparskih izdelkov na fasadi objekta vključno z odvozom demontiranih izdelkov v trajno deponijo in s plačilom takse na odlagališču oziroma ponovna montaža po dokončanju fasade vključno z morebitnim podaljšanjem nosilcev ali pa vgradnja nove obrobe
B45: a.) trapezna pločevina na fasadi r.š. cca 60cm | C45: m' | D45: 124 | F45: =D45*E45 -> 0
B46: b.) ležeči žlebovi skupaj z masko r.š. cca 80cm | C46: m' | D46: 94 | F46: =D46*E46 -> 0
B47: c.) čelne in slemenske zaključne obrobe r.š. cca 60cm | C47: m' | D47: 185 | F47: =D47*E47 -> 0
B48: d.) odtočne cevi | C48: m' | D48: 29 | F48: =D48*E48 -> 0
A50: 4. | B50: Demontaža pločevinaste kritine nad nadstreški nad vhodi skupaj z obrobami, vključno z odvozom demontiranih izdelkov v trajno deponijo in s plačilom takse na odlagališču. | C50: m2 | D50: 14 | F50: =(D50*E50) -> 0
A52: 5. | B52: Rušenje peskolovov iz B.C. fi 30cm, vključno s pokrovom, nakladanjem in odvozom ruševin v trajno deponijo na razdaljo do 15km ter naprava novih peskolovov vse komplet ( izkop, zasip, betonska cev, obdelava dna, pokrov ). | C52: kos | D52: 9 | F52: =(D52*E52) -> 0
A54: 6. | B54: Demontaža pločevinastih zunanjih okenskih polic, na oknih, ki se ne zamenjajo, zaradi dodatne izolacije vključno z odvozom demontiranih izdelkov v trajno deponijo in s plačilom takse na odlagališču. | C54: m' | D54: 114 | F54: =D54*E54 -> 0
A56: 7. | B56: Odrezanje obstoječe betonske plošče sosednjega objekta z nakladanjem ruševin, odvozom v trajno deponijo in s plačilom takse na odlagališču. | C56: m3 | D56: 0.15 | F56: =(D56*E56) -> 0
A58: 8. | B58: Demontaža zunanjih alu žaluzij skupaj s škatlo zaradi dodatne izolacije fasade s spravljanjem in s prenosom v deponijo na gradbišču in deponiranje v času izvedbe del zaradi kasnejše ponovne montaže. | C58: kos | D58: 7 | F58: =(D58*E58) -> 0
A60: 9. | B60: Demontaža strelovodne napeljave na fasadi objekta in ponovna montaža po dokončanju kontaktne fasade vključno z morebitnim podaljšanjem nosilcev strelovoda | C60: m' | D60: 29 | F60: =(D60*E60) -> 0
A62: 10. | B62: Odkop terena ob objektu ( ob zelenicah in nasutju) v globino cca 10cm in širino 40cm zaradi izvedbe toplotne izolacije ter zasip in vzpostavitev prvotnega stanja. | C62: m' | D62: 115 | F62: =(D62*E62) -> 0
B65: SKUPAJ: | F65: =SUM(F35:F63) -> 0
A67: II. | B67: IZOLACIJSKO OPLAŠČENJE FASADE | C67: enota | D67: količina | E67: cena/enoto | F67: znesek
B69: OPOMBA: v količinah odprtine za okna in vel. do 3,00m2 niso odbite. Pri odprtinah večjih od 3,00m2 pa je odbito 3,00m2 in špalete niso dodane.
A71: 1. | B71: Naprava termoizolacijske fasade na podstavku iz vodoodpornih XPS plošč deb. 14cm kot. npr. STIROCOKL ali enakovredno (50cm nad terenom in 10cm pod terenom). Plošče so prilepljene in dodatno pritrjene s sidri ( 6 kosov/m2) na obstoječo fasado, skupaj z dvoslojni nanosom paropropustne malte deb. 6- 8 mm z vtapljanjem mrežice in zaključnim tankoslojnim pralnim nanosom, kot npr. kulir plast . Dela se izajajo po navodilih proizvajalca. | C71: m2 | D71: 146 | F71: =D71*E71 -> 0
A73: 2. | B73: Izvedba tesnenja podstavka s tesnilno izravnalno maso kot npr. Röfix Optiflex 2K ali enakovredno. | C73: m' | D73: 230 | F73: =D73*E73 -> 0
A75: 3. | B75: Termoizolacijsko fasadno oplaščenje s toplotno izolacijo iz ekspandiranega polistirena deb. 14cm prilepljenega in dodatno pritrjenega s sidri ( 6 kosov/m2) na obstoječo fasado, z dvoslojnim nanosom paropropustne malte deb. 6-8 mm z vtapljanjem mrežice. Zaključni sloj je tankoslojni vodoodbojni silikatni barvni omet vključno s sistemsko predpisanim prednamazom, barva po izboruarhitekta iz barvne lestvice; difuzijska upornost prehoda vodne pare µ 30 - 40; koeficient vodovpojnosti < 0,2 kg/m2h0,5, (struktura 2 mm). Izvedba po navodilih proizvajalca. | C75: m2 | D75: 1020 | F75: =D75*E75 -> 0
A77: 4. | B77: Naprava toplotno izolacijske fasade na spodnji strani napušča v enaki izvedbi kot na stenah z debelino izolacije 5cm. | C77: m2 | D77: 64 | F77: =D77*E77 -> 0
A79: 5. | B79: Naprava toplotno izolacijske fasade na stropu nad vhodi v enaki izvedbi kot na stenah z debelino izolacije 8cm. | C79: m2 | D79: 8 | F79: =D79*E79 -> 0
A81: 6. | B81: Termoizolacijsko fasadno oplaščenje s toplotno izolacijo iz ekspandiranega polistirena deb. 5cm prilepljenega in dodatno pritrjenega s sidri ( 6 kosov/m2) na obstoječo fasado, z dvoslojnim nanosom paropropustne malte deb. 6-8 mm z vtapljanjem mrežice. Zaključni sloj je tankoslojni vodoodbojni silikatni barvni omet vključno s sistemsko predpisanim prednamazom, barva po izboruarhitekta iz barvne lestvice; difuzijska upornost prehoda vodne pare µ 30 - 40; koeficient vodovpojnosti < 0,2 kg/m2h0,5, (struktura 2 mm). Izvedba po navodilih proizvajalca, - zidovi nad napušči. | C81: m2 | D81: 46 | F81: =D81*E81 -> 0
A83: 7. | B83: Dobava in oblaganje sten ob vhodih s finalno obdelanimi lesenimi deskami iz sibirskega macesna dim. 90x20mm s 7mm razmakom, 3x UV zaščita.. V ceni je potrebno zajeti les. morale 20x20mm (zračni sloj), paropropustno folijo, leseno horizontalno in vertikalno podkonstrukcijo med katero je vstavljena toplotna izolacija iz kamene volne deb. 14cm - po detajlu (les. podkontrukcija se laho zamenja z alu sidri). | C83: m2 | D83: 22 | F83: =D83*E83 -> 0
A85: 8. | B85: Dobava, montaža, demontaža in amortizacija lahkega fasadnega odra višine do 10 m vključno s protiprašno zaščito. Oder po izboru Izvajalcaza prevzem obremenitev, potrebnih za izvedbo lastnih del. | C85: m2 | D85: 1511 | F85: =D85*E85 -> 0
B87: SKUPAJ: | F87: =SUM(F71:F85) -> 0
A89: III. | B89: KLEPARSKA DELA | C89: enota | D89: količina | E89: cena/enoto | F89: znesek
B91: Pred pričetkom del je izvajalec dolžan preveriti vse količine in dejanske mere na objektu. Za vse vgrajene elemente je sprotno dostavljati dokazila o ustreznosti materiala, za konstrukcijske elemente pa je dostaviti tudi poročilo pooblaščene institucije o ustreznosti izvedbe. Stroške pridobitve atestov in poročil je vključiti v c.e.m..
B92: Z izvajalcem gradbenih del ter ostalimi izvajalci je pravočasno dogovoriti in uskladiti vgradnjo raznih podlog, ki služijo za kasnejšo montažo elementov.
A94: 1. | B94: Obloga kovinskega ogrodja maske pred skritim žlebom z alu barvano profilirane pločevine r.š. cca 80cm, deb. 0,6 mm | C94: m' | D94: 108 | F94: =D94*E94 -> 0
A96: 2. | B96: Naprava zaključne obrobe z alu barvano pločevino r.š. cca 60 deb. 0,6mm. | C96: m' | D96: 185 | F96: =D96*E96 -> 0
A98: 3. | B98: Izdelava in montaža žlebnega kotlička za odtočne cevi iz barvane alu pločevine debeline 0,60 mm, premera fi 12cm. | C98: kos | D98: 9 | F98: =(D98*E98) -> 0
A100: 4. | B100: Prekritje ravnih vencev na južni strani z alu barvano pločevino deb. 0,6mm skupaj z napravo zidne obrobe in odkapnim žlebom. V ceni je zajeta dodatna 5cm toplotna izolacija vhodi iz XPS (ekstrudiran polystiren) plošč položena na obstoječo pločevino. | C100: m2 | D100: 50 | F100: =D100*E100 -> 0
A102: 5. | B102: Prekritje ravnih streh nad vhodi z alu barvano pločevino deb. 0,6mm skupaj z napravo zidne obrobe, zaključki in s polaganjem strešne lepenke pod pločevino. | C102: m2 | D102: 14 | F102: =D102*E102 -> 0
A104: 6. | B104: Dobava in oblaganje zaključkov plošč, vencev ob nadstreških z alu barvano pločevino deb. 1,00mm r.š. cca 60cm pritrjeno na kovinsko podkonstrukcijo, z vsemi zaključki. | C104: m1 | D104: 56 | F104: =D104*E104 -> 0
A106: 7. | B106: Dobava in montaža odtokov skozi venec na ravnih strehah oz. napuščih in izvedba priključka na odtočno cev. | C106: kos | D106: 5 | F106: =(D106*E106) -> 0
A108: 8. | B108: Dobava in vgradnja zunanjih alu okenskih polic iz alu barvane pločevine deb. 1,0mm, r.š. cca 30cm, vključno z namestitvijo predfabriciranih bočnih zaključkov. | C108: m' | D108: 114 | F108: =D108*E108 -> 0
B111: SKUPAJ | F111: =SUM(F92:F108) -> 0
A113: IV. | B113: PVC OKNA IN VRATA NA FASADI | C113: enota | D113: količina | E113: cena/enoto | F113: znesek
B115: SPLOŠNO: Okna in vrata morajo biti izdelane iz več komornega PVC profila, katerega toplotna prevodnost skupaj z zasteklitvijo ne presega U=1,10 W/m2K. Vsa okna morajo biti zastekljena z izolacijskim steklom U=1,17 W/m2K in zvočna izolativnosti 32 dB. V ceni so zajete tudi zunanje okenske police iz barvane alu pločevine in notranje iz laminata. V ceno po enoti mere je vključiti zatesnitev stika oken z notranjo polico s trajno elastičnim kitom. V ceno po enoti mere je vključiti tudi demontažo dotrajanega stavbnega pohištva ter odvoz le tega v trajno deponijo. Okna se bodo vgrajevala v obstoječe odprtine. V ceno po enoti mere je vključiti sistem vgradnje in način tesnjenja med oknom in steno z enoslojno RAL montažo. Izvajalec je dolžan ob zamenjavi oken sprotno očistiti notranje prostore nesnage, ki nastane ob demontaži/montaži oken oz obdelavi špalet. Ob predaji objekta je predati poročilo o ravnanju z gradbenimi odpadki.
A117: 1. | B117: Izdelava, dobava in montaža PVC oken. Okna so izdelana po vzorcu obstoječih z vrtljivim nagibnim kvalitetnim okovjem (kot npr. HOPPE, WINKHAUS ali enakovredno) in dvojnim tesnenjem (tesnila naj bodo silikonska ali Q-Ion). Zasteklitev oken je z dvoslojnim izolacijsim steklom. Faktor toplotne prehodnosti novih oken mora znašati max. U = 1,17 W/m2K. Zunanje police so iz alu barvane pločevine šir. cca 30cm, notranja pa iz laminata. Notranjo špaleto pa je treba zidarsko in pleskarsko obdelati. Delitev in odpiranje oken po shemah. Za točne izmere poskrbi izvajalec pred izdelavo oken in vrat. Okna so opremljena ali z zunanjimi ali z notranjimi alu žaluzijami.
B118: a.) 4-delno 4-krilno okno vel. 230x195cm, zgornji krili se odpirata v obeh smereh, spodnji pa okoli spodnje horizontalne osi, POZ A01 | C118: kos | D118: 2 | F118: =E118*D118 -> 0
B119: b.) 2-delno 2-krilno okno vel. 110x195cm, zgornje krilo se odpira v obeh smereh, spodnje pa okoli spodnje horizontalne osi, POZ A02 | C119: kos | D119: 2 | F119: =E119*D119 -> 0
B120: c.) 4-delno 4-krilno okno vel. 265x195cm, zgornji krili se odpirata v obeh smereh, spodnji pa okoli spodnje horizontalne osi, POZ A03 | C120: kos | D120: 1 | F120: =E120*D120 -> 0
B121: d.) 4-delno 4-krilno okno vel. 205x210cm, zgornji krili se odpirata v obeh smereh, spodnji pa okoli spodnje horizontalne osi, POZ A06 | C121: kos | D121: 1 | F121: =E121*D121 -> 0
B122: e.) 2-delno 2-krilno okno vel. 160x210cm, zgornje krilo se odpira v obeh smereh, spodnje pa okoli spodnje horizontalne osi, POZ A07 | C122: kos | D122: 1 | F122: =E122*D122 -> 0
B123: f.) 4-delno 4-krilno okno vel. 240x210cm, zgornji krili se odpirata v obeh smereh, spodnji pa okoli spodnje horizontalne osi, POZ A08 | C123: kos | D123: 3 | F123: =E123*D123 -> 0
A125: 2. | B125: Izdelava, dobava in montaža PVC oken. Okna so izdelana po vzorcu obstoječih z vrtljivim nagibnim kvalitetnim okovjem (kot npr. HOPPE, WINKHAUS ali enakovredno) in dvojnim tesnenjem (tesnila naj bodo silikonska ali Q-Ion). Zasteklitev oken je z dvoslojnim izolacijsim steklom. Faktor toplotne prehodnosti novih oken mora znašati max. U = 1,17 W/m2K. Zunanje police so iz alu barvane pločevine šir. cca 30cm, notranja pa iz laminata. Notranjo špaleto pa je treba zidarsko in pleskarsko obdelati. Delitev in odpiranje oken po shemah. Za točne izmere poskrbi izvajalec pred izdelavo oken in vrat. Okna so opremljena z notranjimi alu žaluzijami
B126: a.) 6-delno 4-krilno okno vel. 330x195cm, zgornji krajni krili se odpirata v obeh smereh, spodnji krajni pa okoli spodnje horizontalne osi, POZ A04 | C126: kos | D126: 2 | F126: =E126*D126 -> 0
B127: b.) 4-delno 4-krilno okno vel. 240x200cm, zgornji krili se odpirata v obeh smereh, spodnji pa okoli spodnje horizontalne osi, POZ A05 | C127: kos | D127: 3 | F127: =E127*D127 -> 0
B128: c.)4-delno dvokrilno okno vel. 450x210/295cm,polovica so dvojna balkonska vrata višine 295cm s kljuko, POZ A09 | C128: kos | D128: 1 | F128: =E128*D128 -> 0
A130: 3. | B130: Odrezanje obstoječih žaluzij in škatle višine cca 200cm zaradi dodatne izolacije na špaletah, delno popravilo ter ponovna montaža na obstoječa okna. | C130: kos | D130: 7 | F130: =E130*D130 -> 0
B133: SKUPAJ: | F133: =SUM(F117:F131) -> 0
A136: V. | B136: ALU DELA Z ZASTEKLITVIJO | C136: enota | D136: količina | E136: cena/enoto | F136: znesek
B138: V ceno po enoti mere je vključiti tudi demontažo dotrajanega stavbnega pohištva ter odvoz le tega v trajno deponijo.
A140: 1. | B140: Izdelava, dobava in montaža dvokrilnih zastekljenih vrat z nadsvetlobo in stransko zasteklitvijo skupne vel. 300x290cm. Okvir je iz tipskih alu profilov z dodatnim 14cm nabitkom v barvi po izbiri arhitekta. Vrata, stena in nadsvetloba so zastekljena z varnostnim izolacijskim mat steklom s potiskom. Vrata vel. 2x90x215cm so opremljena s potrebnim okovjem, kljuko in cilindrično ključavnico. Obstoječa vrata se iztrgajo notranja špaleta pa se zidarsko in pleskarsko obdela. Stena se vstavi v obstoječo odprtino. Za točne izmere poskrbi izvajalec pred izdelavo vrat. POZ AV1 in AV1* | C140: kos | D140: 2 | F140: =E140*D140 -> 0
A142: 2. | B142: Izdelava, dobava in montaža dvokrilnih zastekljenih vrat z nadsvetlobo in stransko zasteklitvijo skupne vel. 295x280cm. Okvir je iz tipskih alu profilov z dodatnim 14cm nabitkom v barvi po izbiri arhitekta. Vrata, stena in nadsvetloba so zastekljena z varnostnim izolacijskim mat steklom s potiskom. Vrata vel. 2x90x215cm so opremljena s potrebnim okovjem, kljuko in cilindrično ključavnico. Obstoječa vrata se iztrgajo notranja špaleta pa se zidarsko in pleskarsko obdela. Stena se vstavi v obstoječo odprtino. Za točne izmere poskrbi izvajalec pred izdelavo vrat. POZ AV2 | C142: kos | D142: 1 | F142: =E142*D142 -> 0
A144: 3. | B144: Izdelava, dobava in montaža enokrilnih zastekljenih vrat z nadsvetlobo vel. 120x280cm. Okvir je iz tipskih alu profilov z dodatnim 14cm nabitkom v barvi po izbiri arhitekta. Vrata so zastekljena z varnostnim izolacijskim mat steklom s potiskom. Vrata vel. 88x215cm so opremljena s potrebnim okovjem, kljuko in cilindrično ključavnico. Obstoječa vrata se iztrgajo notranja špaleta pa se zidarsko in pleskarsko obdela. Stena se vstavi v obstoječo odprtino. Za točne izmere poskrbi izvajalec pred izdelavo vrat. POZ AV3 | C144: kos | D144: 1 | F144: =E144*D144 -> 0
B146: SKUPAJ: | F146: =SUM(F139:F144) -> 0
A149: VI. | B149: KLJUČAVNIČARSKA DELA | C149: enota | D149: količina | E149: cena/enoto | F149: znesek
B151: SPLOšNO: Pred pričetkom del je izvajalec dolžan preveriti mere in količine.
A153: 1. | B153: Izdelava, dobava in montaža kovinske podkonstrukcije za venec ob ravnih strehah iz standardnih profilov 40x40mm s finalno obdelavo. | C153: m2 | D153: 28 | F153: =E153*D153 -> 0
B154: SKUPAJ: | F154: =SUM(F153:F153) -> 0
A156: VII. | B156: OSTALO | C156: enota | D156: količina | E156: cena/enoto | F156: znesek
A158: 1. | B158: Projektantski nadzor | C158: ur | D158: 20 | F158: =D158*E158 -> 0
B161: SKUPNA REKAPITULACIJA:
A164: I. | B164: Rušitvena dela, povezana z izvedbo kontaktne fasade | F164: =SUM(F65) -> 0
A165: II. | B165: IZOLACIJSKO OPLAŠČENJE FASADE | F165: =SUM(F87) -> 0
A166: III. | B166: KLEPARSKA DELA | F166: =SUM(F111) -> 0
A167: IV. | B167: PVC OKNA IN VRATA NA FASADI | F167: =SUM(F133) -> 0
A168: V. | B168: ALU DELA Z ZASTEKLITVIJO | F168: =SUM(F146) -> 0
A169: VI. | B169: KLJUČAVNIČARSKA DELA | F169: =SUM(F154) -> 0
A170: VII. | B170: OSTALO | F170: =F158 -> 0
B172: SKUPAJ: | F172: =SUM(F164:F170) -> 0
B175: NEUPRAVIČEN STROŠEK | C175: enota | D175: količina | E175: cena/enoto | F175: znesek
B177: ALU DELA Z ZASTEKLITVIJO
B179: V ceno po enoti mere je vključiti tudi demontažo dotrajanega stavbnega pohištva ter odvoz le tega v trajno deponijo.
A181: 1. | B181: Izdelava, dobava in montaža notranjih dvokrilnih zastekljenih vrat z nadsvetlobo in stransko zasteklitvijo skupne vel. 300x290cm. Okvir je iz tipskih alu profilov z dodatnim 14cm nabitkom v barvi po izbiri arhitekta. Vrata, stena in nadsvetloba so zastekljena z varnostnim mat steklom s potiskom. Vrata vel. 2x90x215cm so opremljena s potrebnim okovjem, kljuko in cilindrično ključavnico. Obstoječa vrata se iztrgajo notranja špaleta pa se zidarsko in pleskarsko obdela. Stena se vstavi v obstoječo odprtino. Za točne izmere poskrbi izvajalec pred izdelavo vrat. POZ AV1, AV1* in AV2 notranja vrata v vetrolovu | C181: kos | D181: 3 | F181: =E181*D181 -> 0
A183: 2. | B183: Izdelava, dobava in montaža notranjih enokrilnih zastekljenih vrat z nadsvetlobo vel. 120x280cm. Okvir je iz tipskih alu profilov z dodatnim 14cm nabitkom v barvi po izbiri arhitekta. Vrata so zastekljena z varnostnim mat steklom s potiskom. Vrata vel. 88x215cm so opremljena s potrebnim okovjem, kljuko in cilindrično ključavnico. Obstoječa vrata se iztrgajo notranja špaleta pa se zidarsko in pleskarsko obdela. Stena se vstavi v obstoječo odprtino. Za točne izmere poskrbi izvajalec pred izdelavo vrat. POZ AV3- notranja vrata v vetrolovu | C183: kos | D183: 1 | F183: =E183*D183 -> 0
B185: SKUPAJ: | F185: =SUM(F181:F183) -> 0

Sheet 3+5-otroski
A1: ZDRAVSTVENI DOM MURSKA SOBOTA
B3: OBJEKT 3 in 5 pljučni in otroški oddelek
B5: OPOMBA:
B7: Ponudbenih postavk ni dovoljeno spreminjati. Pri izdelavi
B8: ponudbe je potrebno upoštevati detajle iz projektne dokumentacije.
B13: OPOZORILO!
B14: IZVAJALEC MORA PRED PRIČETKOM DEL OBVEZNO PREVERITI VSE MERE NA OBJEKTU!
B15: IZVAJALEC DEL MORA SKLADNO Z ZAKONOM O GRADITVI OBJEKTOV (ZGO-I) VGRAJEVATI USTREZNE GRADBENE PROIZVODE Z VNAPREJ IZDELANIMI DELAVNIŠKIMI NAČRTI, KI MORAJO BITI POTRJENI S STRANI PROJEKTANTA.
B16: Enota cene mora vsebovati:
B17: vsa potrebna pripravljalna dela
B18: vsa potrebna merjenja na objektu
B19: vse potrebne transporte do mesta vgrajevanja
B20: skladiščenje materiala na gradbišču
... B31: A. FASADA
A33: I. | B33: Rušitvena dela, povezana z izvedbo kontaktne fasade | C33: enota | D33: količina | E33: cena/enoto | F33: znesek
A35: 1. | B35: Demontaža vseh predmetov na fasadi: luči,, kamere, žice, instalacijske omarice,ročaji, napisne table... in ponovna montaža po dokončanju kontaktne fasade, ocenjeno | C35: ocenjeno
A37: 2. | B37: Demontaža zunanjih enot hladilnih naprav zaradi izdelave kontaktne fasade in ponovna montaža le teh, s potrebnimi podaljški inštalacijskih cevi na novo lokacijo na fasadi in ponovnim polnjenejm ter zagonom. V ceni je potrebno zajeti nove nosilce. | C37: kos | D37: 30 | F37: =(D37*E37) -> 0
A39: 3. | B39: Demontaža kleparskih izdelkov na fasadi objekta vključno z odvozom demontiranih izdelkov v trajno deponijo in s plačilom takse na odlagališču.
B40: a.) venci pod žlebovi r.š. cca 80cm | C40: m' | D40: 181 | F40: =D40*E40 -> 0
B41: b.) ležeči žlebovi r.š. cca 40cm | C41: m' | D41: 181 | F41: =D41*E41 -> 0
B42: c.) čelne zaključne obrobe skupaj s prekritjem zidov r.š. cca 60cm | C42: m' | D42: 116 | F42: =D42*E42 -> 0
B43: e.) odtočne cevi | C43: m' | D43: 99 | F43: =D43*E43 -> 0
B44: f.) odkapne police pod parapeti | C44: m' | D44: 106 | F44: =D44*E44 -> 0
B45: g. demontaža prezračevalnih in zamenjava novih prezračevalnih kov. rešetk dim. cca 20 x 20cm | C45: kom | D45: 30 | F45: =D45*E45 -> 0
A47: 4. | B47: Naprava izravnalnega ometa na obstoječ kamniti in neometan opečni zid v debelini cca 4-5cm v PM 1:3:9, z vsemi pomožnimi deli in prenosi. | C47: m2 | D47: 45 | F47: =(D47*E47) -> 0
A49: 5. | B49: Rušenje peskolovov iz B.C. fi 30cm, vključno s pokrovom, nakladanjem in odvozom ruševin v trajno deponijo na razdaljo do 15km ter naprava novih peskolovov vse komplet ( izkop, zasip, betonska cev, obdelava dna, pokrov ). | C49: kos | D49: 13 | F49: =(D49*E49) -> 0
A51: 6. | B51: Demontaža pločevinastih zunanjih okenskih polic, na oknih, ki se ne zamenjajo, zaradi dodatne izolacije vključno z odvozom demontiranih izdelkov v trajno deponijo in s plačilom takse na odlagališču. | C51: m' | D51: 66 | F51: =D51*E51 -> 0
A53: 7. | B53: Demontaža horizontalnih alu fiksnih brisolejev skupaj s podkonstrukcijo širine cca 80cm z odvozom demontiranih izdelkov v trajno deponijo in s plačilom takse na odlagališču. | C53: m' | D53: 85 | F53: =D53*E53 -> 0
A55: 8. | B55: Odstranitev obstoječe pločevinaste kritine z ravnih streh ozirona gramoza minimalnega nagiba skupaj z zaključki in obrobami, z odvozom demontiranih izdelkov v trajno deponijo in s plačilom takse na odlagališču. | C55: m2 | D55: 205 | F55: =(D55*E55) -> 0
A57: 9. | B57: Odrezanje obstoječega betonskega okvirja okoli oken vel. cca 20x15cm z nakladanjem ruševin, odvozom v trajno deponijo in s plačilom takse na odlagališču. | C57: m' | D57: 16 | F57: =(D57*E57) -> 0
A59: 10. | B59: Demontaža zunanjih alu žaluzij skupaj s škatlo zaradi dodatne izolacije fasade s spravljanjem in s prenosom v deponijo na gradbišču in deponiranje v času izvedbe del zaradi kasnejše ponovne montaže. | C59: kos | D59: 55 | F59: =(D59*E59) -> 0
A61: 11. | B61: Demontaža strelovodne napeljave na fasadi objekta in ponovna montaža po dokončanju kontaktne fasade vključno z morebitnim podaljšanjem nosilcev strelovoda | C61: m' | D61: 99 | F61: =(D61*E61) -> 0
A63: 12. | B63: Demontaža okvirjev skupaj z rešetkami ali mrežico vel. do 0,50m2 z odvozom demontiranih izdelkov v trajno deponijo in s plačilom takse na odlagališču, ocena | C63: kos | D63: 30 | F63: =(D63*E63) -> 0
A65: 13. | B65: Odrezanje obstoječe izolacijske fasade iz stiroporja v pasu nad in ob oknih deb. 5cm, ki se ga nadomesti s kameno volno, z odvozom v trajno deponijo. | C65: m2 | D65: 35 | F65: =(D65*E65) -> 0
A67: 14. | B67: Odkop terena ob objektu v globino cca 10cm in širino 40cm zaradi izvedbe toplotne izolacije ter zasip in vzpostavitev prvotnega stanja | C67: m' | D67: 243 | F67: =(D67*E67) -> 0
B70: SKUPAJ: | F70: =SUM(F33:F68) -> 0
A72: II. | B72: IZOLACIJSKO OPLAŠČENJE FASADE | C72: enota | D72: količina | E72: cena/enoto | F72: znesek
B74: OPOMBA: v količinah odprtine za okna in vrata niso odbite, ker ne presegajo 3,00m2 in špalete niso dodane
A76: 1. | B76: Izvedba dodatne izolacije iz kamene volne oziroma iz ekspandiranega polistirena debeline cca 4-5cm med stebri oziroma na parapetih zaradi ploskovne izravnave fasade, objekt 3. | C76: m2 | D76: 134 | F76: =(D76*E76) -> 0
A78: 2. | B78: Izvedba dodatne izolacije iz kamene volne oziroma iz ekspandiranega polistirena debeline cca 3-4cm med stebri oziroma na parapetih zaradi ploskovne izravnave fasade, objekt 5. | C78: m2 | D78: 190 | F78: =(D78*E78) -> 0
A80: 3. | B80: Naprava termoizolacijske fasade na podstavku iz vodoodpornih XPS plošč deb. 10cm kot. npr. STIROCOKL ali enakovredno. Plošče so prilepljene in dodatno pritrjene s sidri ( 6 kosov/m2) na obstoječo fasado, skupaj z dvoslojni nanosom paropropustne malte deb. 6- 8 mm z vtapljanjem mrežice in zaključnim tankoslojnim pralnim nanosom, kot npr. kulir plast . Dela se izajajo po navodilih proizvajalca, novejši del objekta 3. | C80: m2 | D80: 26 | F80: =D80*E80 -> 0
A82: 4. | B82: Naprava termoizolacijske fasade na podstavku iz vodoodpornih XPS plošč deb. 14cm kot. npr. STIROCOKL ali enakovredno. Plošče so prilepljene in dodatno pritrjene s sidri ( 6 kosov/m2) na obstoječo fasado, skupaj z dvoslojni nanosom paropropustne malte deb. 6-8 mm z vtapljanjem mrežice in zaključnim tankoslojnim pralnim nanosom, kot npr. kulir plast . Dela se izajajo po navodilih proizvajalca, del objekta 3 in objekt 5. | C82: m2 | D82: 120 | F82: =D82*E82 -> 0
A84: 5. | B84: Izvedba dodatne izolacije iz kamene volne deb. 5cm nad nad okni v pasu širine 50cm in ob oknih širine 10cm po odstranitvi obstoječega stiroporja. | C84: m2 | D84: 35 | F84: =(D84*E84) -> 0
A86: 6. | B86: Izvedba tesnenja podstavka s tesnilno izravnalno maso kot npr. Röfix Optiflex 2K ali enakovredno. | C86: m' | D86: 242 | F86: =D86*E86 -> 0
A88: 7. | B88: Termoizolacijsko fasadno oplaščenje s kameno volno deb. 10cm prilepljeno in dodatno pritrjeno s sidri ( 6 kosov/m2) na obstoječo fasado, z dvoslojnim nanosom paropropustne malte deb. 6-8 mm z vtapljanjem mrežice ( 50cm pas nad okni, 10cm pas vertikalno ob oknih) . Zaključni sloj je silikatni vodoodbojni tankoslojni barvni omet vključno s sistemsko predpisanim prednamazom, barva po izboru arhitekta iz barvne lestvice; difuzijska upornost prehoda vodne pare µ 30 - 40; koeficient vodovpojnosti < 0,2 kg/m2h0,5, (struktura 2 mm). Izvedba po navodilih proizvajalca, novejši del objekta 3.. | C88: m2 | D88: 33 | F88: =D88*E88 -> 0
A90: 8. | B90: Termoizolacijsko fasadno oplaščenje s kameno volno deb. 14cm prilepljeno in dodatno pritrjeno s sidri ( 6 kosov/m2) na obstoječo fasado, z dvoslojnim nanosom paropropustne malte deb. 6-8 mm z vtapljanjem mrežice ( 50cm pas nad okni, 10cm pas vertikalno ob oknih) . Zaključni sloj je vodoodbojni silikatni tankoslojni barvni omet vključno s sistemsko predpisanim prednamazom, barva po izboru naročnika iz barvne lestvice; difuzijska upornost prehoda vodne pare µ 30 - 40; koeficient vodovpojnosti < 0,2 kg/m2h0,5, (struktura 2 mm). Izvedba po navodilih proizvajalca, del objekta 3 in objekt 5. | C90: m2 | D90: 272 | F90: =D90*E90 -> 0
A92: 9. | B92: Termoizolacijsko fasadno oplaščenje s toplotno izolacijo iz ekspandiranega polistirena deb. 10cm prilepljenim in dodatno pritrjenim s sidri ( 6 kosov/m2) na obstoječo fasado, z dvoslojnim nanosom paropropustne malte deb. 6-8 mm z vtapljanjem mrežice ( 50cm pas nad okni, 10cm pas vertikalno ob oknih) . Zaključni sloj je silikatni tankoslojni barvni omet vključno s sistemsko predpisanim prednamazom, barva po izboru arhitekta iz barvne lestvice; difuzijska upornost prehoda vodne pare µ 30 - 40; koeficient vodovpojnosti < 0,2 kg/m2h0,5, (struktura 2 mm). Izvedba po navodilih proizvajalca, novejši del objekta 3. | C92: m2 | D92: 290 | F92: =D92*E92 -> 0
A94: 10. | B94: Termoizolacijsko fasadno oplaščenje s toplotno izolacijo iz ekspandiranega polistirena deb. 14cm prilepljenega in dodatno pritrjenega s sidri ( 6 kosov/m2) na obstoječo fasado, z dvoslojnim nanosom paropropustne malte deb. 6-8 mm z vtapljanjem mrežice. Zaključni sloj je tankoslojni vodoodbojni silikatni barvni omet vključno s sistemsko predpisanim prednamazom, barva po izboru arhitekta iz barvne lestvice; difuzijska upornost prehoda vodne pare µ 30 - 40; koeficient vodovpojnosti < 0,2 kg/m2h0,5, (struktura 2 mm). Izvedba po navodilih proizvajalca, del objekta 3 in objekt 5. | C94: m2 | D94: 1068 | F94: =D94*E94 -> 0
A96: 11. | B96: Naprava toplotno izolacijske fasade na stropu nad vhodi v enaki izvedbi kot na stenah z debelino izolacije 14cm. | C96: m2 | D96: 69 | F96: =D96*E96 -> 0
A98: 12. | B98: Dobava in oblaganje sten ob vhodih s finalno obdelanimi lesenimi deskami iz sibirskega macesna dim. 90x20mm s 7mm razmakom, 3x UV zaščita.. V ceni je potrebno zajeti les. morale 20x20mm (zračni sloj), paropropustno folijo, leseno horizontalno in vertikalno podkonstrukcijo med katero je vstavljena toplotna izolacija iz kamene volne deb. 14cm - po detajlu (les. podkontrukcija se laho zamenja z alu sidri). | C98: m2 | D98: 103 | F98: =D98*E98 -> 0
A100: 13. | B100: Dobava, montaža, demontaža in amortizacija lahkega fasadnega odra višine do 20 m vključno s protiprašno zaščito. Oder po izboru Izvajalcaza prevzem obremenitev, potrebnih za izvedbo lastnih del. | C100: m2 | D100: 2198 | F100: =D100*E100 -> 0
B102: SKUPAJ: | F102: =SUM(F74:F100) -> 0
A104: III. | B104: KLEPARSKA DELA | C104: enota | D104: količina | E104: cena/enoto | F104: znesek
B106: Pred pričetkom del je izvajalec dolžan preveriti vse količine in dejanske mere na objektu. Za vse vgrajene elemente je sprotno dostavljati dokazila o ustreznosti materiala, za konstrukcijske elemente pa je dostaviti tudi poročilo pooblaščene institucije o ustreznosti izvedbe. Stroške pridobitve atestov in poročil je vključiti v c.e.m..
B107: Z izvajalcem gradbenih del ter ostalimi izvajalci je pravočasno dogovoriti in uskladiti vgradnjo raznih podlog, ki služijo za kasnejšo montažo elementov.
A109: 1. | B109: Prekritje ravnih vencev pod ležečim žlebom z alu barvano pločevino r.š. cca 80cm, deb. 0,6 mm skupaj s polaganjem ene lege strešne lepenke pod pločevino. | C109: m' | D109: 180 | F109: =D109*E109 -> 0
A111: 2. | B111: Naprava zidne obrobe skupaj s prekritjem zidov na strehi z alu barvano pločevino r.š. cca 80 deb. 0,6mm. | C111: m' | D111: 129 | F111: =D111*E111 -> 0
A113: 3. | B113: Dobava in montaža horizontalnih ležečih žlebov pravokotne oblike vel. 12x12cm iz barvane alu pločevine deb. 0,6mm. | C113: m' | D113: 180 | F113: =D113*E113 -> 0
A115: 4. | B115: Dobava in montaža okroglih odtočnih cevi Ø 120 mm iz Alu barvane pločevine deb. 0,6mm, vključno z objemkami iz Alu pločevine, sidranimi v zid, z izvedbo priključka na vtočni kotliček in peskolov. | C115: m' | D115: 99 | F115: =D115*E115 -> 0
A117: 5. | B117: Izdelava in montaža žlebnega kotlička za odtočne cevi iz barvane alu pločevine debeline 0,60 mm, premera fi 12cm. | C117: kos | D117: 13 | F117: =(D117*E117) -> 0
A119: 6. | B119: Čiščenje obstoječe kritine (odstranitev gramoza) na ravni strehi iz bitumiziranih trakov. | C119: m2 | D119: 80 | F119: =D119*E119 -> 0
A121: 7. | B121: Prekritje ravnih streh nad vhodi v sestavi: ločilni sloj iz geotekstilne folije iz umetnih vlaken 250 g/m2, položene na obstoječo črno kritino; polaganje toplotne izolacije iz XPS (ekstrudiran polystiren) plošč deb. 15 cm s preklopom in hidroizolacija kot npr. siKa folija, položena na XPS plošče z vertikalnimi zaključki in izvedbo padvev proti odtokom, izvedba po navodilih proizvajalca. | C121: m2 | D121: 120 | F121: =D121*E121 -> 0
A123: 8. | B123: Dobava in oblaganje zaključkov plošč, vencev ob ravnih strehah z alu barvano pločevino deb. 1,00mm r.š. cca 60cm pritrjeno na kovinsko podkonstrukcijo, z vsemi zaključki. | C123: m1 | D123: 57 | F123: =D123*E123 -> 0
A125: 9. | B125: Dobava in montaža strešnih vtočnikov (cevnih podaljškov) nad obstoječimi vtočniki DN 160 z izolacijsko prirobnico, nerjavečim jeklenim spojnim elementom ter košaro za lovljenje listja kot npr. HL62 ali enakovredno | C125: kos | D125: 1 | F125: =(D125*E125) -> 0
A127: 10. | B127: Dobava in montaža odtokov skozi venec na ravnih strehah in izvedba priključka na odtočno cev. | C127: kos | D127: 3 | F127: =(D127*E127) -> 0
A129: 11. | B129: Naprava zidne obrobe ob ravnih strehah iz alu pločevine debeline 0,6 mm, razvite šir. 30cm, z vsemi pomožnimi deli in s prenosi. | C129: m1 | D129: 65 | F129: =(D129*E129) -> 0
A131: 12. | B131: Dobava in vgradnja zunanjih alu okenskih polic iz alu barvane pločevine deb. 1,0mm, r.š. cca 30cm, vključno z namestitvijo predfabriciranih bočnih zaključkov. | C131: m' | D131: 66 | F131: =D131*E131 -> 0
B134: SKUPAJ | F134: =SUM(F108:F131) -> 0
A136: IV. | B136: PVC OKNA IN VRATA NA FASADI | C136: enota | D136: količina | E136: cena/enoto | F136: znesek
B138: SPLOŠNO: Okna in vrata morajo biti izdelane iz več komornega PVC profila, katerega toplotna prevodnost skupaj z zasteklitvijo ne presega U=1,10 W/m2K. Vsa okna morajo biti zastekljena z izolacijskim steklom U=1,17 W/m2K in zvočna izolativnosti 32 dB. V ceni so zajete tudi zunanje okenske police iz barvane alu pločevine in notranje iz laminata. V ceno po enoti mere je vključiti zatesnitev stika oken z notranjo polico s trajno elastičnim kitom. V ceno po enoti mere je vključiti tudi demontažo dotrajanega stavbnega pohištva ter odvoz le tega v trajno deponijo. Okna se bodo vgrajevala v obstoječe odprtine. V ceno po enoti mere je vključiti sistem vgradnje in način tesnjenja med oknom in steno z enoslojno RAL montažo. Izvajalec je dolžan ob zamenjavi oken sprotno očistiti notranje prostore nesnage, ki nastane ob demontaži/montaži oken oz obdelavi špalet. Ob predaji objekta je predati poročilo o ravnanju z gradbenimi odpadki.
A140: 1. | B140: Izdelava, dobava in montaža PVC oken vel. 150x190cm. Okna so izdelana po vzorcu obstoječih ( 4-delno dvokrilno okno, zgornji krili se odpirata v obeh smereh, spodnji pa sta fiksni) z vrtljivim nagibnim kvalitetnim okovjem (kot npr. HOPPE, WINKHAUS ali podobno) in dvojnim tesnenjem (tesnila naj bodo silikonska ali Q-Ion). Zasteklitev oken je s troslojnim izolacijsim steklom. Faktor toplotne prehodnosti novih oken mora znašati max. U = 1,17 W/m2K. Zunanje police so iz alu barvane pločevine šir. cca 30cm, notranja pa iz laminata. Notranjo špaleto pa je treba zidarsko in pleskarsko obdelati. Delitev in odpiranje oken po shemah. Za točne izmere poskrbi izvajalec pred izdelavo oken in vrat. Okna so opremljena z zunanjimi alu žaluzijami. POZ D01 | C140: kos | D140: 51 | F140: =E140*D140 -> 0
A142: 2. | B142: Izdelava, dobava in montaža PVC oken. Okna so izdelana po vzorcu obstoječih z vrtljivim nagibnim kvalitetnim okovjem (kot npr. HOPPE, WINKHAUS ali podobno) in dvojnim tesnenjem (tesnila naj bodo silikonska ali Q-Ion). Zasteklitev oken je s troslojnim izolacijsim steklom. Faktor toplotne prehodnosti novih oken mora znašati max. U = 1,17 W/m2K. Zunanje police so iz alu barvane pločevine šir. cca 30cm, notranja pa iz laminata. Notranjo špaleto pa je treba zidarsko in pleskarsko obdelati. Delitev in odpiranje oken po shemah. Podane mere so informativne. Za točne izmere poskrbi izvajalec pred izdelavo oken in vrat. Okna so opremljena z notranjimi alu žaluzijami
B143: a.) 4-delno dvokrilno okno vel. 150x190cm, zgornji krili se odpirata v obeh smereh, spodnji pa sta fiksni, POZ D02 | C143: kos | D143: 26 | F143: =E143*D143 -> 0
B144: b.) enodelno okno z odpiranjem v obeh smereh vel. 150x75cm, POZ D03 | C144: kos | D144: 4 | F144: =E144*D144 -> 0
B145: c.) tridelno enokrilno okno vel. 105x250cm, srednje krilo vel. 105x139 se odpira v obeh smereh, spodnje vel. 105x51cm je fiksno, zgoraj 105x60cm pa je izolacijsko polnilo, POZ D04 | C145: kos | D145: 1 | F145: =E145*D145 -> 0
A147: 3. | B147: Izdelava, dobava in montaža PVC oken. Okna so izdelana po vzorcu obstoječih z vrtljivim nagibnim kvalitetnim okovjem (kot npr. HOPPE, WINKHAUS ali podobno) in dvojnim tesnenjem (tesnila naj bodo silikonska ali Q-Ion). Zasteklitev oken je s troslojnim izolacijsim steklom. Faktor toplotne prehodnosti novih oken mora znašati max. U = 1,17 W/m2K. Zunanje police so iz alu barvane pločevine šir. cca 30cm, notranja pa iz laminata. Notranjo špaleto pa je treba zidarsko in pleskarsko obdelati. Delitev in odpiranje oken po shemah. Podane mere so informativne. Za točne izmere poskrbi izvajalec pred izdelavo oken in vrat.
B148: a.) enodelno okno z odpiranjem v obeh smereh vel. 75x75cm, brez žaluzij, POZ DO5 | C148: kos | D148: 13 | F148: =E148*D148 -> 0
B149: b.) dvodelno endvokrilno okno vel. 90x210cm, zgornje krilo vel. 90x159 se odpira v obeh smereh, spodnje vel. 90x51cm pa okoli spodnje osi, zun.žaluzije, POZ D06 | C149: kos | D149: 1 | F149: =E149*D149 -> 0
B150: c.) trodelno fiksno okno, 240 x 260cm, varnostno steklo s potiskom POZ DO7 | C150: kos | D150: 1 | F150: =E150*D150 -> 0
B151: d.) trodelno okno, dim. 195 X 215cm, odpiranje v vse smeri, notranje alu žaluzije. POZ DO8 | C151: kos | D151: 1 | F151: =E151*D151 -> 0
B153: SKUPAJ: | F153: =SUM(F140:F151) -> 0
A156: V. | B156: ALU DELA Z ZASTEKLITVIJO | C156: enota | D156: količina | E156: cena/enoto | F156: znesek
B158: V ceno po enoti mere je vključiti tudi demontažo dotrajanega stavbnega pohištva ter odvoz le tega v trajno deponijo.
A160: 1. | B160: Izdelava, dobava in montaža enokrilnih zastekljenih vrat z nadsvetlobo in stransko zasteklitvijo vel. 180x220+80cm. Okvir je iz tipskih alu profilov z dodatnim 14cm nabitkom v barvi po izbiri arhitekta. Vrata, stena in nadsvetloba so zastekljena z varnostnim izolacijskim mat steklom s potiskom. Vrata vel. 90x220cm so opremljena s potrebnim okovjem, kljuko in cilindrično ključavnico. Obstoječa vrata se iztrgajo notranja špaleta pa se zidarsko in pleskarsko obdela. Stena se vstavi v obstoječo odprtino. Za točne izmere poskrbi izvajalec pred izdelavo vrat. POZ DV1 | C160: kos | D160: 1 | F160: =E160*D160 -> 0
A162: 2. | B162: Izdelava, dobava in montaža enokrilnih zastekljenih vrat z nadsvetlobo vel. 140x200+45cm.Okvir je iz tipskih alu profilov z dodatnim 14cm nabitkom v barvi po izbiri arhitekta. Vrata in nadsvetloba sta zastekljena z varnostnim izolacijskim mat steklom s potiskom. Vrata vel. 96x200cm so opremljena s potrebnim okovjem, kljuko in cilindrično ključavnico. Obstoječa vrata se iztrgajo notranja špaleta pa se zidarsko in pleskarsko obdela. Stena se vstavi v obstoječo odprtino. Za točne izmere poskrbi izvajalec pred izdelavo vrat. POZ DV2 | C162: kos | D162: 1 | F162: =E162*D162 -> 0
A164: 3. | B164: Izdelava, dobava in montaža enokrilnih zastekljenih vrat vel. 140x200cm. Vrata so zastekljena z varnostnimi izolacijskim mat steklom s potiskom. Okvir je iz tipskih alu profilov z dodatnim 14cm nabitkom v barvi po izbiri arhitekta. Vrata vel. 96x195cm so opremljena s potrebnim okovjem, kljuko in cilindrično ključavnico. Obstoječa vrata se iztrgajo tako, da se fasada ne poškodkuje, notranjo in zunanjo špaleto pa je treba zidarsko in pleskarsko obdelati. Za točne izmere poskrbi izvajalec pred izdelavo vrat. POZ DV3 | C164: kos | D164: 1 | F164: =E164*D164 -> 0
A166: 4. | B166: Izdelava, dobava in montaža enokrilnih zastekljenih vrat z nadsvetlobo vel. 140x430cm. Okvir je iz tipskih alu profilov z dodatnim 14cm nabitkom v barvi po izbiri arhitekta. Vrata in nadsvetloba sta zastekljena z varnostnim izolacijskim mat steklom s potiskom. Vrata vel. 96x195cm so opremljena s potrebnim okovjem, kljuko in cilindrično ključavnico. Obstoječa vrata se iztrgajo notranja špaleta pa se zidarsko in pleskarsko obdela. Stena se vstavi v obstoječo odprtino. Za točne izmere poskrbi izvajalec pred izdelavo vrat. POZ DV4 | C166: kos | D166: 1 | F166: =E166*D166 -> 0
A168: 5. | B168: Izdelava, dobava in montaža zastekljene stene vel. 360x270cm v katero se vstavijo obstoječa dvokrilna drsna vrata skupaj z vodili in mehanizmom za drsno odpiranje. Vrata in nadsvetloba sta zastekljena z varnostnim izolacijskim steklom in nalepko z vzorcem. Obstoječa stena se iztrga tako, da vrata deponirajo. Notranja špaleta pa se zidarsko in pleskarsko obdela. Za točne izmere poskrbi izvajalec pred izdelavo vrat. POZ DV5 | C168: kos | D168: 1 | F168: =E168*D168 -> 0
A170: 6. | B170: Izdelava, dobava in montaža dvokrilnih zastekljenih sklopnih vrat z nadsvetlobo vel. 160x260cm in stransko fiksno steno dim.220x260. Okvir je iz tipskih alu profilov z dodatnim 14cm nabitkom ob fasadi v barvi po izbiri arhitekta. Vrata in nadsvetloba sta zastekljena z varnostnim izolacijskim steklom s potiskom. Vrata vel. 140x220cm se odpirajo na senzor, opremljena s potrebnim okovjem, kljuko in cilindrično ključavnico. Obstoječa vrata se iztrgajo notranja špaleta pa se zidarsko in pleskarsko obdela. Stena se vstavi v obstoječo odprtino. Za točne izmere poskrbi izvajalec pred izdelavo vrat. POZ DV6 | C170: kos | D170: 1 | F170: =E170*D170 -> 0
B172: SKUPAJ: | F172: =SUM(F159:F170) -> 0
A175: VI. | B175: KLJUČAVNIČARSKA DELA | C175: enota | D175: količina | E175: cena/enoto | F175: znesek
B177: SPLOšNO: Pred pričetkom del je izvajalec dolžan preveriti mere in količine.
A179: 1. | B179: Izdelava, dobava in montaža kovinske podkonstrukcije za venec ob ravnih strehah iz standardnih profilov 40x40mm s finalno obdelavo. | C179: m2 | D179: 18 | F179: =E179*D179 -> 0
A181: 2. | B181: Izdelava, dobava in montaža prezračevalnih rešetk ali mrežic v alu okvirjih vstavljenih v obstoječe odprtine.
B182: a.) velikosti do 0,25m2 | C182: kos | D182: 15 | F182: =E182*D182 -> 0
B183: b.) velikosti do 0,50m2 | C183: kos | D183: 15 | F183: =E183*D183 -> 0
A185: 3. | B185: Ponovna montaža ročajev ob vhodih z delno prilagoditvijo na novo fasado in novimi konzolami za pritrditev. | C185: m' | D185: 4.5 | F185: =D185*E185 -> 0
A187: 4. | B187: Ponovna montaža konzol za zastave s prilagoditvijo na novo fasado in novimi konzolami za pritrditev. | C187: kos | D187: 2 | F187: =D187*E187 -> 0
A189: 5. | B189: Izdelava, dobava in montaža novega ročaja ob vhodu v objekt 5. | C189: m' | D189: 4.5 | F189: =D189*E189 -> 0
B190: SKUPAJ: | F190: =SUM(F179:F189) -> 0
...

Sheet 4-resevalna
A1: ZDRAVSTVENI DOM MURSKA SOBOTA
B4: OBJEKT4 - reševalna postaja
B6: OPOMBA:
B8: Ponudbenih postavk ni dovoljeno spreminjati. Pri izdelavi
B9: ponudbe je potrebno upoštevati detajle iz projektne dokumentacije.
B14: OPOZORILO!
B15: IZVAJALEC MORA PRED PRIČETKOM DEL OBVEZNO PREVERITI VSE MERE NA OBJEKTU!
B16: IZVAJALEC DEL MORA SKLADNO Z ZAKONOM O GRADITVI OBJEKTOV (ZGO-I) VGRAJEVATI USTREZNE GRADBENE PROIZVODE Z VNAPREJ IZDELANIMI DELAVNIŠKIMI NAČRTI, KI MORAJO BITI POTRJENI S STRANI PROJEKTANTA.
B17: Enota cene mora vsebovati:
B18: vsa potrebna pripravljalna dela
B19: vsa potrebna merjenja na objektu
B20: vse potrebne transporte do mesta vgrajevanja
B21: skladiščenje materiala na gradbišču
... B32: A. FASADA
A34: I. | B34: Rušitvena dela, povezana z izvedbo kontaktne fasade | C34: enota | D34: količina | E34: cena/enoto | F34: znesek
A36: 1. | B36: Demontaža vseh predmetov na fasadi: luči,, kamere, žice, instalacijske omarice,ročaji, napisne table... in ponovna montaža po dokončanju kontaktne fasade, ocenjeno
B37: a.) instalacijske omarice | C37: kos | D37: 5 | F37: =(D37*E37) -> 0
B38: b.) rešetke in zračniki | C38: kos | D38: 4 | F38: =(D38*E38) -> 0
B39: c.) žarometi | C39: kos | D39: 2 | F39: =(D39*E39) -> 0
B40: d.) luči | C40: kos | D40: 7 | F40: =(D40*E40) -> 0
A42: 2. | B42: Demontaža zunanjih enot hladilnih naprav zaradi izdelave kontaktne fasade in ponovna montaža le teh, s potrebnimi podaljški inštalacijskih cevi na novo lokacijo na fasadi in ponovnim polnjenejm ter zagonom. V ceni je potrebno zajeti nove nosilce. | C42: kos | D42: 1 | F42: =(D42*E42) -> 0
A44: 3. | B44: Demontaža kleparskih izdelkov na fasadi objekta in ponovna montaža po dokončanju fasade vključno z morebitnim podaljšanjem nosilcev ali pa vgradnja nove obrobe
B45: a.) viseči žlebovi r.š. cca 40cm | C45: m' | D45: 24 | F45: =D45*E45 -> 0
B46: b.) odtočne cevi | C46: m' | D46: 81 | F46: =D46*E46 -> 0
A48: 4. | B48: Rušenje peskolovov iz B.C. fi 30cm, vključno s pokrovom, nakladanjem in odvozom ruševin v trajno deponijo na razdaljo do 15km ter naprava novih peskolovov vse komplet ( izkop, zasip, betonska cev, obdelava dna, pokrov ). | C48: kos | D48: 5 | F48: =(D48*E48) -> 0
A50: 5. | B50: Demontaža pločevinastih zunanjih okenskih polic, na oknih, ki se ne zamenjajo, zaradi dodatne izolacije vključno z odvozom demontiranih izdelkov v trajno deponijo in s plačilom takse na odlagališču. | C50: m' | D50: 20 | F50: =D50*E50 -> 0
A52: 6. | B52: Odstranitev obstoječe kritine iz evala na terasi z odvozom demontiranih izdelkov v trajno deponijo in s plačilom takse na odlagališču. | C52: m2 | D52: 11 | F52: =(D52*E52) -> 0
A54: 7. | B54: Demontaža strelovodne napeljave na fasadi objekta in ponovna montaža po dokončanju kontaktne fasade vključno z morebitnim podaljšanjem nosilcev strelovoda | C54: m' | D54: 12 | F54: =(D54*E54) -> 0
A56: 8. | B56: Odkop terena ob objektu v globino cca 10cm in širino 40cm zaradi izvedbe toplotne izolacije ter zasip in vzpostavitev prvotnega stanja | C56: m' | D56: 43 | F56: =(D56*E56) -> 0
B59: SKUPAJ: | F59: =SUM(F35:F57) -> 0
A61: II. | B61: IZOLACIJSKO OPLAŠČENJE FASADE | C61: enota | D61: količina | E61: cena/enoto | F61: znesek
B63: OPOMBA: v količinah odprtine za okna in vrata niso odbite, ker ne presegajo 3,00m2 in špalete niso dodane
A65: 1. | B65: Naprava termoizolacijske fasade na podstavku iz vodoodpornih XPS plošč deb. 14cm kot. npr. STIROCOKL ali enakovredno. Plošče so prilepljene in dodatno pritrjene s sidri ( 6 kosov/m2) na obstoječo fasado, skupaj z dvoslojni nanosom paropropustne malte deb. 6- 8 mm z vtapljanjem mrežice in zaključnim tankoslojnim pralnim nanosom, kot npr. kulir plast . Dela se izajajo po navodilih proizvajalca. | C65: m2 | D65: 55 | F65: =D65*E65 -> 0
A67: 2. | B67: Izvedba tesnenja podstavka s tesnilno izravnalno maso kot npr. Röfix Optiflex 2K ali enakovredno. | C67: m' | D67: 74 | F67: =D67*E67 -> 0
A69: 3. | B69: Termoizolacijsko fasadno oplaščenje s toplotno izolacijo iz ekspandiranega polistirena deb. 14cm prilepljenega in dodatno pritrjenega s sidri ( 6 kosov/m2) na obstoječo fasado, z dvoslojnim nanosom paropropustne malte deb. 6-8 mm z vtapljanjem mrežice. Zaključni sloj je tankoslojni vodoodbojni silikatni barvni omet vključno s sistemsko predpisanim prednamazom, barva po izboruarhitekta iz barvne lestvice; difuzijska upornost prehoda vodne pare µ 30 - 40; koeficient vodovpojnosti < 0,2 kg/m2h0,5, (struktura 2 mm). Izvedba po navodilih proizvajalca. | C69: m2 | D69: 243 | F69: =D69*E69 -> 0
A71: 4. | B71: Izvedba obloge na napušču s trdimi stirodur ploščami deb. 2cm skupaj s podkonstrukcijo in zaključnim silikatnim slojem, v enaki izvedbi kot so stene fasade. | C71: m2 | D71: 94 | F71: =D71*E71 -> 0
A73: 5. | B73: Dobava in oblaganje sten ob vhodih s finalno obdelanimi lesenimi deskami iz sibirskega macesna dim. 90x20mm s 7mm razmakom, 3x UV zaščita. V ceni je potrebno zajeti les. morale 20x20mm (zračni sloj), paropropustno folijo, leseno horizontalno in vertikalno podkonstrukcijo med katero je vstavljena toplotna izolacija iz kamene volne deb. 14cm - po detajlu (les. podkontrukcija se laho zamenja z alu sidri). | C73: m2 | D73: 20 | F73: =D73*E73 -> 0
A75: 6. | B75: Dobava, montaža, demontaža in amortizacija lahkega fasadnega odra višine do 10 m vključno s protiprašno zaščito. Oder po izboru Izvajalcaza prevzem obremenitev, potrebnih za izvedbo lastnih del. | C75: m2 | D75: 417 | F75: =D75*E75 -> 0
B77: SKUPAJ: | F77: =SUM(F63:F75) -> 0
A80: III. | B80: KLEPARSKA DELA | C80: enota | D80: količina | E80: cena/enoto | F80: znesek
B82: Pred pričetkom del je izvajalec dolžan preveriti vse količine in dejanske mere na objektu. Za vse vgrajene elemente je sprotno dostavljati dokazila o ustreznosti materiala, za konstrukcijske elemente pa je dostaviti tudi poročilo pooblaščene institucije o ustreznosti izvedbe. Stroške pridobitve atestov in poročil je vključiti v c.e.m..
B83: Z izvajalcem gradbenih del ter ostalimi izvajalci je pravočasno dogovoriti in uskladiti vgradnjo raznih podlog, ki služijo za kasnejšo montažo elementov.
A85: 1. | B85: Prekritje dela strehe, ki je bilo prekrito z evalom, z alu barvano pločevino deb. 0,6mm skupaj z napravo zidne obrobe in zaključki. | C85: m2 | D85: 12 | F85: =D85*E85 -> 0
A88: 2. | B88: Dobava in vgradnja zunanjih alu okenskih polic iz alu barvane pločevine deb. 1,0mm, r.š. cca 30cm, vključno z namestitvijo predfabriciranih bočnih zaključkov. | C88: m' | D88: 20 | F88: =D88*E88 -> 0
B90: SKUPAJ | F90: =SUM(F84:F88) -> 0
A92: IV. | B92: PVC OKNA IN VRATA NA FASADI | C92: enota | D92: količina | E92: cena/enoto | F92: znesek
B94: SPLOŠNO: Okna in vrata morajo biti izdelane iz več komornega PVC profila, katerega toplotna prevodnost skupaj z zasteklitvijo ne presega U=1,10 W/m2K. Vsa okna morajo biti zastekljena z izolacijskim steklom U=1,17 W/m2K in zvočna izolativnosti 32 dB. V ceni so zajete tudi zunanje okenske police iz barvane alu pločevine in notranje iz laminata. V ceno po enoti mere je vključiti zatesnitev stika oken z notranjo polico s trajno elastičnim kitom. V ceno po enoti mere je vključiti tudi demontažo dotrajanega stavbnega pohištva ter odvoz le tega v trajno deponijo. Okna se bodo vgrajevala v obstoječe odprtine. V ceno po enoti mere je vključiti sistem vgradnje in način tesnjenja med oknom in steno z enoslojno RAL montažo. Izvajalec je dolžan ob zamenjavi oken sprotno očistiti notranje prostore nesnage, ki nastane ob demontaži/montaži oken oz obdelavi špalet. Ob predaji objekta je predati poročilo o ravnanju z gradbenimi odpadki.
A96: 1. | B96: Izdelava, dobava in montaža PVC oken. Okna so izdelana po vzorcu obstoječih z vrtljivim nagibnim kvalitetnim okovjem (kot npr. HOPPE, WINKHAUS ali enakovredno) in dvojnim tesnenjem (tesnila naj bodo silikonska ali Q-Ion). Zasteklitev oken je z dvoslojnim izolacijsim steklom. Faktor toplotne prehodnosti novih oken mora znašati max. U = 1,17 W/m2K. Zunanje police so iz alu barvane pločevine šir. cca 30cm, notranja pa iz laminata. Notranjo špaleto pa je treba zidarsko in pleskarsko obdelati. Delitev in odpiranje oken po shemah. Za točne izmere poskrbi izvajalec pred izdelavo oken in vrat. Okna so opremljena z notranjimi alu žaluzijami
B97: a.) 2-delno enkrilno okno vel. 180x145cm, krilo vel. 70x145cm se odpira v obeh smereh, vle. 110x145cm pa je fiksno, POZ C01 | C97: kos | D97: 4 | F97: =E97*D97 -> 0
B98: b.) enodelno okno z odpiranjem v obeh smereh vel. 100x135cm, POZ C02 | C98: kos | D98: 1 | F98: =E98*D98 -> 0
B99: c.) enodelno okno z odpiranjem v obeh smereh vel. 120x120cm, POZ C03 | C99: kos | D99: 1 | F99: =E99*D99 -> 0
B100: d.) enodelno okno z odpiranjem v obeh smereh vel. 140x120cm, POZ C04 | C100: kos | D100: 2 | F100: =E100*D100 -> 0
B101: e.) enodelno okno z odpiranjem v obeh smereh vel. 135x150cm, POZ C05 | C101: kos | D101: 1 | F101: =E101*D101 -> 0
B102: f.) enodelno okno z odpiranjem v obeh smereh vel. 100x120cm, POZ C06 | C102: kos | D102: 1 | F102: =E102*D102 -> 0
B104: SKUPAJ: | F104: =SUM(F97:F102) -> 0
A107: V. | B107: ALU DELA Z ZASTEKLITVIJO | C107: enota | D107: količina | E107: cena/enoto | F107: znesek
B109: V ceno po enoti mere je vključiti tudi demontažo dotrajanega stavbnega pohištva ter odvoz le tega v trajno deponijo.
A111: 1. | B111: Izdelava, dobava in montaža enokrilnih zastekljenih vrat s stransko zasteklitvijo vel. 185x225cm. Okvir je iz tipskih alu profilov z dodatnim 14cm nabitkom v barvi po izbiri arhitekta. Vrata in stena so zastekljena z varnostnim izolacijskim mat steklom s potiskom. Vrata vel. 90x220cm so opremljena s potrebnim okovjem, kljuko in cilindrično ključavnico. Obstoječa vrata se iztrgajo notranja špaleta pa se zidarsko in pleskarsko obdela. Stena se vstavi v obstoječo odprtino. Za točne izmere poskrbi izvajalec pred izdelavo vrat. POZ CV1 | C111: kos | D111: 1 | F111: =E111*D111 -> 0
A113: 2. | B113: Izdelava, dobava in montaža enokrilnih polnih vrat vel. 90x205cm.Okvir je iz tipskih alu profilov z alu podbojem v barvi po izbiri arhitekta. Vrata so opremljena s potrebnim okovjem, kljuko in cilindrično ključavnico. Obstoječa vrata se iztrgajo notranja špaleta pa se zidarsko in pleskarsko obdela. Stena se vstavi v obstoječo odprtino. Za točne izmere poskrbi izvajalec pred izdelavo vrat. POZ CV2 | C113: kos | D113: 1 | F113: =E113*D113 -> 0
A115: 3. | B115: Izdelava, dobava in montaža enokrilnih zastekljenih vrat vel. 100x200cm. Vrata so zastekljena z varnostnimi izolacijskim mat steklom s potiskom. Okvir je iz tipskih alu profilov v barvi po izbiri arhitekta. Vrata so opremljena s potrebnim okovjem, kljuko in cilindrično ključavnico. Obstoječa vrata se iztrgajo tako, da se fasada ne poškodkuje, notranjo in zunanjo špaleto pa je treba zidarsko in pleskarsko obdelati. Za točne izmere poskrbi izvajalec pred izdelavo vrat. POZ CV3 | C115: kos | D115: 1 | F115: =E115*D115 -> 0
A117: 4. | B117: Izdelava, dobava in montaža enokrilnih zastekljenih vrat vel. 80x210cm. Vrata so zastekljena z varnostnimi izolacijskim steklom. Okvir je iz tipskih alu profilov v barvi po izbiri arhitekta.Steklo mat s potiskom. Vrata so opremljena z notranjo alu žaluzijo, potrebnim okovjem, kljuko in cilindrično ključavnico. Obstoječa vrata se iztrgajo tako, da se fasada ne poškodkuje, notranjo in zunanjo špaleto pa je treba zidarsko in pleskarsko obdelati. Za točne izmere poskrbi izvajalec pred izdelavo vrat. POZ CV4 | C117: kos | D117: 1 | F117: =E117*D117 -> 0
B119: SKUPAJ: | F119: =SUM(F110:F117) -> 0
A124: VII. | B124: IZOLACIJA STROPNIH POVRŠIN | C124: enota | D124: količina | E124: cena/enoto | F124: znesek
A126: 1. | B126: Dobava in polaganje toplotne izolacije na AB ploščah podstrešja, požarni razred A1 po SIST EN 13501-1. Pohodne talne plošče so iz mineralne volne deb. 22cm toplotne prevodnosti 0,035W7mK, v ceno všteti paronepropustno folijo | C126: m2 | D126: 160 | F126: =E126*D126 -> 0
B128: SKUPAJ: | F128: =SUM(F125:F126) -> 0
A131: VIII. | B131: SLIKOPLESKARSKA DELA | C131: enota | D131: količina | E131: cena/enoto | F131: znesek
A133: 1. | B133: Pleskanje kovinske nadstrešnice na terasi, s pokrivno barvo, s predhodnim struganjem slabo oprijete barve ter izvedbo antikorozivnega premaza | C133: m2 | D133: 12 | F133: =E133*D133 -> 0
B135: SKUPAJ: | F135: =SUM(F132:F134) -> 0
A137: IX. | B137: OSTALO | C137: enota | D137: količina | E137: cena/enoto | F137: znesek
A139: 1. | B139: Projektantski nadzor | C139: ur | D139: 10 | F139: =D139*E139 -> 0
B142: SKUPNA REKAPITULACIJA:
A145: I. | B145: Rušitvena dela, povezana z izvedbo kontaktne fasade | F145: =SUM(F59) -> 0
A146: II. | B146: IZOLACIJSKO OPLAŠČENJE FASADE | F146: =SUM(F77) -> 0
A147: III. | B147: KLEPARSKA DELA | F147: =SUM(F90) -> 0
A148: IV. | B148: PVC OKNA IN VRATA NA FASADI | F148: =SUM(F104) -> 0
A149: V. | B149: ALU DELA Z ZASTEKLITVIJO | F149: =SUM(F119) -> 0
A150: VII. | B150: IZOLACIJA STROPNIH POVRŠIN | F150: =SUM(F128) -> 0
A151: VIII. | B151: SLIKOPLESKARSKA DELA | F151: =SUM(F135) -> 0
A152: IX. | B152: OSTALO | F152: =F139 -> 0
B154: SKUPAJ: | F154: =SUM(F145:F152) -> 0

Sheet 6-laboratorij
A1: ZDRAVSTVENI DOM MURSKA SOBOTA
B4: OBJEKT 6 - laboratorij
B6: OPOMBA:
B8: Ponudbenih postavk ni dovoljeno spreminjati. Pri izdelavi
B9: ponudbe je potrebno upoštevati detajle iz projektne dokumentacije.
B14: OPOZORILO!
B15: IZVAJALEC MORA PRED PRIČETKOM DEL OBVEZNO PREVERITI VSE MERE NA OBJEKTU!
B16: IZVAJALEC DEL MORA SKLADNO Z ZAKONOM O GRADITVI OBJEKTOV (ZGO-I) VGRAJEVATI USTREZNE GRADBENE PROIZVODE Z VNAPREJ IZDELANIMI DELAVNIŠKIMI NAČRTI, KI MORAJO BITI POTRJENI S STRANI PROJEKTANTA.
B17: Enota cene mora vsebovati:
B18: vsa potrebna pripravljalna dela
B19: vsa potrebna merjenja na objektu
B20: vse potrebne transporte do mesta vgrajevanja
B21: skladiščenje materiala na gradbišču
... B32: A. FASADA
A34: I. | B34: Rušitvena dela, povezana z izvedbo kontaktne fasade | C34: enota | D34: količina | E34: cena/enoto | F34: znesek
A36: 1. | B36: Demontaža vseh predmetov na fasadi: luči,, kamere, žice, instalacijske omarice,ročaji, napisne table... in ponovna montaža po dokončanju kontaktne fasade, ocenjeno
B37: a.) instalacijske omarice | C37: kos | D37: 3 | F37: =(D37*E37) -> 0
B38: b.) rešetke in zračniki | C38: kos | D38: 8 | F38: =(D38*E38) -> 0
B39: c.) napisne table | C39: kos | D39: 1 | F39: =(D39*E39) -> 0
B40: d.) luči | C40: kos | D40: 2 | F40: =(D40*E40) -> 0
A42: 2. | B42: Demontaža zunanjih enot hladilnih naprav zaradi izdelave kontaktne fasade in ponovna montaža le teh, s potrebnimi podaljški inštalacijskih cevi na novo lokacijo na fasadi in ponovnim polnjenejm ter zagonom. V ceni je potrebno zajeti nove nosilce. | C42: kos | D42: 9 | F42: =(D42*E42) -> 0
A44: 3. | B44: Demontaža kleparskih izdelkov na fasadi objekta in ponovna montaža po dokončanju fasade vključno z morebitnim podaljšanjem nosilcev ali pa vgradnja nove obrobe
B45: a.) viseči žlebovi r.š. cca 40cm | C45: m' | D45: 54 | F45: =D45*E45 -> 0
B46: b.) odtočne cevi | C46: m' | D46: 9 | F46: =D46*E46 -> 0
A48: 4. | B48: Rušenje peskolovov iz B.C. fi 30cm, vključno s pokrovom, nakladanjem in odvozom ruševin v trajno deponijo na razdaljo do 15km ter naprava novih peskolovov vse komplet ( izkop, zasip, betonska cev, obdelava dna, pokrov ). | C48: kos | D48: 2 | F48: =(D48*E48) -> 0
A50: 5. | B50: Demontaža pločevinastih zunanjih okenskih polic, na oknih, ki se ne zamenjajo, zaradi dodatne izolacije vključno z odvozom demontiranih izdelkov v trajno deponijo in s plačilom takse na odlagališču. | C50: m' | D50: 12 | F50: =D50*E50 -> 0
A52: 6. | B52: Demontaža strelovodne napeljave na fasadi objekta in ponovna montaža po dokončanju kontaktne fasade vključno z morebitnim podaljšanjem nosilcev strelovoda | C52: m' | D52: 21 | F52: =(D52*E52) -> 0
A54: 7. | B54: Odkop terena ob objektu v globino cca 10cm in širino 40cm zaradi izvedbe toplotne izolacije ter zasip in vzpostavitev prvotnega stanja | C54: m' | D54: 69 | F54: =(D54*E54) -> 0
B57: SKUPAJ: | F57: =SUM(F35:F55) -> 0
A59: II. | B59: IZOLACIJSKO OPLAŠČENJE FASADE
B61: OPOMBA: v količinah odprtine za okna in vrata niso odbite, ker ne presegajo 3,00m2 in špalete niso dodane
A63: 1. | B63: Naprava termoizolacijske fasade na podstavku iz vodoodpornih XPS plošč deb. 14cm kot. npr. STIROCOKL ali enakovredno. Plošče so prilepljene in dodatno pritrjene s sidri ( 6 kosov/m2) na obstoječo fasado, skupaj z dvoslojni nanosom paropropustne malte deb. 6- 8 mm z vtapljanjem mrežice in zaključnim tankoslojnim pralnim nanosom, kot npr. kulir plast . Dela se izajajo po navodilih proizvajalca. | C63: m2 | D63: 43 | F63: =D63*E63 -> 0
A65: 2. | B65: Izvedba tesnenja podstavka s tesnilno izravnalno maso kot npr. Röfix Optiflex 2K ali enakovredno. | C65: m' | D65: 72 | F65: =D65*E65 -> 0
A67: 3. | B67: Termoizolacijsko fasadno oplaščenje s toplotno izolacijo iz ekspandiranega polistirena deb. 14cm prilepljenega in dodatno pritrjenega s sidri ( 6 kosov/m2) na obstoječo fasado, z dvoslojnim nanosom paropropustne malte deb. 6-8 mm z vtapljanjem mrežice. Zaključni sloj je tankoslojni vodoodbojni silikatni barvni omet vključno s sistemsko predpisanim prednamazom, barva po izboruarhitekta iz barvne lestvice; difuzijska upornost prehoda vodne pare µ 30 - 40; koeficient vodovpojnosti < 0,2 kg/m2h0,5, (struktura 2 mm). Izvedba po navodilih proizvajalca. | C67: m2 | D67: 258 | F67: =D67*E67 -> 0
A69: 4. | B69: Izvedba obloge na napušču s trdimi stirodur ploščami deb. 2cm skupaj s podkonstrukcijo in zaključnim silikatnim slojem, v enaki izvedbi kot so stene fasade. | C69: m2 | D69: 50 | F69: =D69*E69 -> 0
A71: 5. | B71: Dobava in oblaganje sten ob vhodih s finalno obdelanimi lesenimi deskami iz sibirskega macesna dim. 90x20mm s 7mm razmakom, 3x UV zaščita. V ceni je potrebno zajeti les. morale 20x20mm (zračni sloj), paropropustno folijo, leseno horizontalno in vertikalno podkonstrukcijo med katero je vstavljena toplotna izolacija iz kamene volne deb. 14cm - po detajlu (les. podkontrukcija se laho zamenja z alu sidri). | C71: m2 | D71: 13 | F71: =D71*E71 -> 0
A73: 6. | B73: Dobava, montaža, demontaža in amortizacija lahkega fasadnega odra višine do 10 m vključno s protiprašno zaščito. Oder po izboru Izvajalcaza prevzem obremenitev, potrebnih za izvedbo lastnih del. | C73: m2 | D73: 365 | F73: =D73*E73 -> 0
B75: SKUPAJ: | F75: =SUM(F61:F73) -> 0
A78: III. | B78: KLEPARSKA DELA | C78: enota | D78: količina | E78: cena/enoto | F78: znesek
B80: Pred pričetkom del je izvajalec dolžan preveriti vse količine in dejanske mere na objektu. Za vse vgrajene elemente je sprotno dostavljati dokazila o ustreznosti materiala, za konstrukcijske elemente pa je dostaviti tudi poročilo pooblaščene institucije o ustreznosti izvedbe. Stroške pridobitve atestov in poročil je vključiti v c.e.m..
B81: Z izvajalcem gradbenih del ter ostalimi izvajalci je pravočasno dogovoriti in uskladiti vgradnjo raznih podlog, ki služijo za kasnejšo montažo elementov.
A83: 1. | B83: Dobava in oblaganje venca nadstreška z alu barvano pločevino deb. 1,00mm r.š. cca 40cm skupaj s kovinsko podkonstrukcijo in zaključki, z vsemi zaključki. | C83: m1 | D83: 7.5 | F83: =D83*E83 -> 0
A85: 2. | B85: Izdelava in montaža visečega strešnega žleba polkrožne oblike iz alu pločevine debeline 0,6 mm, razvite širine cca 33 cm vključno s kljukami pritjenimi na špirovce. | C85: m1 | D85: 54 | F85: =(D85*E85) -> 0
A87: 3. | B87: Izdelava in montaža žlebnega kotlička za odtočne cevi iz barvane alu pločevine debeline 0,60 mm, premera fi 12cm. | C87: kos | D87: 2 | F87: =(D87*E87) -> 0
A89: 4. | B89: Dobava in montaža okroglih odtočnih cevi Ø 120 mm iz Alu barvane pločevine deb. 0,6mm, vključno z objemkami iz Alu pločevine, sidranimi v zid, z izvedbo priključka na vtočni kotliček in peskolov. | C89: m' | D89: 9 | F89: =D89*E89 -> 0
A91: 5. | B91: Dobava in vgradnja zunanjih alu okenskih polic iz alu barvane pločevine deb. 1,0mm, r.š. cca 30cm, vključno z namestitvijo predfabriciranih bočnih zaključkov. | C91: m' | D91: 12 | F91: =D91*E91 -> 0
B93: SKUPAJ | F93: =SUM(F82:F91) -> 0
A95: IV. | B95: PVC OKNA IN VRATA NA FASADI | C95: enota | D95: količina | E95: cena/enoto | F95: znesek
B97: SPLOŠNO: Okna in vrata morajo biti izdelane iz več komornega PVC profila, katerega toplotna prevodnost skupaj z zasteklitvijo ne presega U=1,10 W/m2K. Vsa okna morajo biti zastekljena z izolacijskim steklom U=1,17 W/m2K in zvočna izolativnosti 32 dB. V ceni so zajete tudi zunanje okenske police iz barvane alu pločevine in notranje iz laminata. V ceno po enoti mere je vključiti zatesnitev stika oken z notranjo polico s trajno elastičnim kitom. V ceno po enoti mere je vključiti tudi demontažo dotrajanega stavbnega pohištva ter odvoz le tega v trajno deponijo. Okna se bodo vgrajevala v obstoječe odprtine. V ceno po enoti mere je vključiti sistem vgradnje in način tesnjenja med oknom in steno z enoslojno RAL montažo. Izvajalec je dolžan ob zamenjavi oken sprotno očistiti notranje prostore nesnage, ki nastane ob demontaži/montaži oken oz obdelavi špalet. Ob predaji objekta je predati poročilo o ravnanju z gradbenimi odpadki.
A99: 1. | B99: Izdelava, dobava in montaža PVC oken. Okna so izdelana po vzorcu obstoječih z vrtljivim nagibnim kvalitetnim okovjem (kot npr. HOPPE, WINKHAUS ali enakovredno) in dvojnim tesnenjem (tesnila naj bodo silikonska ali Q-Ion). Zasteklitev oken je z dvoslojnim izolacijsim steklom. Faktor toplotne prehodnosti novih oken mora znašati max. U = 1,17 W/m2K. Zunanje police so iz alu barvane pločevine šir. cca 30cm, notranja pa iz laminata. Notranjo špaleto pa je treba zidarsko in pleskarsko obdelati. Delitev in odpiranje oken po shemah. Za točne izmere poskrbi izvajalec pred izdelavo oken in vrat. Okna so opremljena z notranjimi alu žaluzijami
B100: a.) enodelno okno vel. 135x145cm z odpiranjem v obeh smereh, POZ E01 | C100: kos | D100: 3 | F100: =E100*D100 -> 0
B101: b.) dvokrilno dvodelno okno z odpiranjem v obeh smereh vel. 230x140cm, POZ E02 | C101: kos | D101: 3 | F101: =E101*D101 -> 0
B102: c.) enodelno okno z odpiranjem v obeh smereh vel.135x140cm, POZ E03 | C102: kos | D102: 3 | F102: =E102*D102 -> 0
B104: SKUPAJ: | F104: =SUM(F100:F102) -> 0
A107: V. | B107: ALU DELA Z ZASTEKLITVIJO
B109: V ceno po enoti mere je vključiti tudi demontažo dotrajanega stavbnega pohištva ter odvoz le tega v trajno deponijo.
A111: 1. | B111: Izdelava, dobava in montaža enokrilnih zastekljenih vratz nadsvetlobo vel. 140x280cm. Vrata so zastekljena z varnostnimi izolacijskim mat steklom s potiskom. Okvir je iz tipskih alu profilov z dodatnim 14cm nabitkom v barvi po izbiri arhitekta. Vrata vel. 96x215cm so opremljena s potrebnim okovjem, kljuko in cilindrično ključavnico. Obstoječa vrata se iztrgajo tako, da se fasada ne poškodkuje, notranjo in zunanjo špaleto pa je treba zidarsko in pleskarsko obdelati. Za točne izmere poskrbi izvajalec pred izdelavo vrat. POZ EV1 | C111: kos | D111: 1 | F111: =E111*D111 -> 0
A113: 2. | B113: Izdelava, dobava in montaža enokrilnih zastekljenih vrat z nadsvetlobo in stransko zasteklitvijo vel. 170x220+40cm. Okvir je iz tipskih alu profilov z dodatnim 14cm nabitkom v barvi po izbiri arhitekta. Vrata, stena in nadsvetloba so zastekljena z varnostnim izolacijskim mat steklom s potiskom. Vrata vel. 90x220cm so opremljena s potrebnim okovjem, kljuko in cilindrično ključavnico. Obstoječa vrata se iztrgajo notranja špaleta pa se zidarsko in pleskarsko obdela. Stena se vstavi v obstoječo odprtino. Za točne izmere poskrbi izvajalec pred izdelavo vrat. POZ EV2 | C113: kos | D113: 1 | F113: =E113*D113 -> 0
A115: 3. | B115: Izdelava, dobava in montaža enokrilnih polnih vrat vel. 80x150cm.Okvir je iz tipskih alu profilov z alu podbojem v barvi po izbiri arhitekta. Vrata so opremljena s potrebnim okovjem, kljuko in cilindrično ključavnico. Obstoječa vrata se iztrgajo notranja špaleta pa se zidarsko in pleskarsko obdela. Stena se vstavi v obstoječo odprtino. Za točne izmere poskrbi izvajalec pred izdelavo vrat. POZ EV3 | C115: kos | D115: 1 | F115: =E115*D115 -> 0
B117: SKUPAJ: | F117: =SUM(F110:F115) -> 0
A120: VI. | B120: IZOLACIJA STROPNIH POVRŠIN | C120: enota | D120: količina | E120: cena/enoto | F120: znesek
A122: 1. | B122: Dobava in polaganje toplotne izolacije na AB ploščah podstrešja, požarni razred A1 po SIST EN 13501-1. Pohodne talne plošče so iz kamene volne deb. 16cm toplotne prevodnosti 0,035W7mK | C122: m2 | D122: 246 | F122: =E122*D122 -> 0
B124: SKUPAJ: | F124: =SUM(F121:F122) -> 0
A126: IX. | B126: OSTALO | C126: enota | D126: količina | E126: cena/enoto | F126: znesek
A128: 1. | B128: Projektantski nadzor | C128: ur | D128: 10 | F128: =D128*E128 -> 0
B131: SKUPNA REKAPITULACIJA:
A134: I. | B134: Rušitvena dela, povezana z izvedbo kontaktne fasade | F134: =SUM(F57) -> 0
A135: II. | B135: IZOLACIJSKO OPLAŠČENJE FASADE | F135: =SUM(F75) -> 0
A136: III. | B136: KLEPARSKA DELA | F136: =SUM(F93) -> 0
A137: IV. | B137: PVC OKNA IN VRATA NA FASADI | F137: =SUM(F104) -> 0
A138: V. | B138: ALU VHODNA VRATA NA FASADI | F138: =SUM(F117) -> 0
A139: VI. | B139: IZOLACIJA STROPNIH POVRŠIN | F139: =SUM(F124) -> 0
A140: VII. | B140: OSTALO | F140: =F128 -> 0
B142: SKUPAJ: | F142: =SUM(F134:F140) -> 0

Sheet ventili
A1: ZDRAVSTVENI DOM MURSKA SOBOTA
B4: ZAMENJAVA RADIATORSKIH VENTILOV | C4: enota | D4: količina | E4: cena/enoto | F4: znesek
B6: VSI OBJEKTI, SKUPAJ
A8: 4. | B8: Demontaža obstoječih radiatorskih ventilov ter dobava in montaža termostatske radiatorske glave s termostatskim radiatorskim ventilom proizvod kot npr. Danfoss, tip RA 2990, komplet z vsem potrebnim spojnim in montažnim materialom, dim DN20 | C8: kom | D8: 180 | F8: =(D8*E8) -> 0
B10: SKUPAJ: | F10: =SUM(F8:F9) -> 0

Sheet rekapitulacija
A1: ENERGETSKA SANACIJA OBJEKTOV ZDRAVSTVENEGA DOMA MURSKA SOBOTA V MURSKI SOBOTI
B4: PONUDNIK
A5: NAZIV
A6: NASLOV
B12: OBJEKT 2 - zobna | E12: ='2-zobna'!F172+'2-zobna'!F185 -> 0
B14: OBJEKT 3+5 pljučni+otroški | E14: =+'3+5-otroski'!F230 -> 0
B16: OBJEKT 4 - reševalna | E16: =+'4-resevalna'!F154 -> 0
B17: OBJEKT 6 - laboratorij | E17: =+'6-laboratorij'!F142 -> 0
B19: ZAMENJAVA VENTILOV | E19: =+ventili!F10 -> 0
B21: SKUPAJ: | E21: =SUM(E12:E20) -> 0
B23: DDV | E23: =E21*0.22 -> 0
B25: SKUPAJ Z DDV | E25: =E21+E23 -> 0
