Workbook
Name Excel_BuiltIn_Print_Titles_4: '[1]NEPREDVIDENA GR.DELA'!#REF!
Name Excel_BuiltIn_Print_Titles_4: '[1]NEPREDVIDENA GR.DELA'!#REF!
Name Excel_BuiltIn_Print_Titles_4: '[1]NEPREDVIDENA GR.DELA'!#REF!

Sheet GLAVNA REKAPITULACIJA
A2: Investitor: | C2: Mestna občina Murska Sobota, Kardoševa 2, 9000 Murska Sobota
A5: Objekt: | C5: MOTORIČNI PARK
A7: Projekt: | C7: Projekt za izvedbo
A9: Štev. proj.: | C9: 225/17
A11: Datum: | C11: sprememba, oktober 2017
A14: projektant: | C14: Studio Kalamar d.o.o., Slovenska cesta 19, 1000 Ljubljana
A16: odgovorni vodja projekta: | D16: Andrej Kalamar, u.d.i.a. ZAPS 0091 A
E18: REKAPITULACIJA
A26: SKUPAJ GRADBENO OBRTNIŠKA DELA: | H26: ='REKAPITULACIJA GO'!$F$32 -> 0
A28: + 22% DDV | H28: =+H26*22% -> 0
A33: SKUPAJ: | H33: =H28+H26 -> 0

Sheet REKAPITULACIJA GO
A2: Investitor: | B2: Mestna občina Murska Sobota, Kardoševa 2, 9000 Murska Sobota
A5: Objekt: | C5: Motorični park
A7: Štev. proj.:
A9: Datum: | C9: sprememba, oktober 2017
C11: REKAPITULACIJA
B13: I. PREDPRIPRAVA
A15: 1. | B15: Predela | F15: =PREDPRIPRAVA!$F$5 -> 0
A16: 2. | B16: Zemeljska dela | F16: =PREDPRIPRAVA!$F$20 -> 0
B18: II. ATLETSKA STEZA
A20: 1. | B20: Atletska steza | F20: ='ATLETSKA STEZA'!$F$26 -> 0
B22: III. MOTORIK NAPRAVE IN URBANA OPREMA
A24: 1. | B24: Naprave in oprema | F24: ='NAPRAVE IN OPREMA'!$F$291 -> 0
B26: IV. ZASADITEV
A28: 1. | B28: Naprave in oprema | F28: =ZASADITEV!$G$70 -> 0
B32: SKUPAJ | F32: =SUM(F13:F28) -> 0

Sheet OPOMBE
B1: UVODNE OPOMBE POPISA
B4: Opis
B7: Splošne opomba:
B10: OPOMBA! Vsi eventualni komercialni nazivi omenjeni v popisu del, so uporabljeni le kot referenčni proizvodi!!
B13: 1) Izvajalec del mora upoštevati splošna določila v ponudbi in pri izvajanju del, ki veljajo v RS.
B15: 2.) Pred oddajo ponudbe priporočamo ogled prostorov in seznanitev z lokacijo!
B17: 3) Pomembna opomba:
B18: Popis je veljaven le v kombinaciji z vsemi grafičnimi prilogami, risbami, načrti, tehničnim poročilom, sestavami konstrukcij, shemami oken in vrat in ostalimi sestavinami projekta (strojne, elektro instalacije in načrti gradbenih konstrukcij).
B19: V popis so vnešeni le osnovni podatki o sestavnih delih objekta. Natančnejši opisi, način in kvaliteta izdelave, barve, velikost elementov, načini pritrjevanja, načini stikovanja z ostalimi elementi objekta, morebitna požarna varnost konstrukcij ali gradbenih elementov in podobno so razvidni iz prej naštetih sestavin projekta.
B20: Ponudba mora vsebovati ves pritrditveni material, vgradnjo zaključnih profilov, pločevin in kotnikov, izdelavo vseh potrebnih podkonstrukcij, dodatnega izsekavanja AB in zidanih sten, ponovnega odpiranja montažnih sten in podobna dela potrebna za vgradnjo posameznega elementa objekta, izdelavo vseh drobnih gradbenih, obrtniških in instalacijskih del ter ostalega četudi to ni neposredno navedeno popisu GOI del, a je kljub temu razvidno iz grafičnih prilog in ostalih prej naštetih sestavnih delov projekta.
B21: Nujna je tudi kombinacija popisa s požarnim elaboratom, ki opredeljuje požarno varnost posameznih konstrukcij in gradbenih elementov objekta.
B22: Uporaba popisa brez vseh prej omenjenih sestavin projekta NI DOVOLJENA. Ponudba, ki se sklicuje zgolj na tekstualni del popisa ni veljavna oziroma je smatrana kot pomanjkljiva.
... B70: - izvedba predhodnega koordinacijskega sestanka projektanov gradbenih konstrukcij in strojnih instalacije z izvajalcem in nadzoromv cilju dokončne določitve lokacij in načina izvedbe prebojev v obstoječi AB konstrukciji

Sheet PREDPRIPRAVA
A1: I. | B1: PREDPRIPRAVA
A3: 1 | B3: PREDDELA
A5: 1.1 | B5: Zakoličba projektiranih točk | C5: kos | D5: 84 | E5: 0 | F5: =PRODUCT(D5:E5) -> 0
B8: SKUPAJ PREDDELA: | F8: =SUM(F5:F6) -> 0
A10: 2 | B10: ZEMELJSKA DELA
A12: 2.1 | B12: Široki izkop zemljine III.ktg z odrivom na začasno deponijo na gradbišču. | C12: m3 | D12: =4018*0.3 -> 1205.4 | E12: 0 | F12: =PRODUCT(D12:E12) -> 0
A14: 2.2 | B14: Planum naravnih temeljnih tal v lahki zemljini | C14: m2 | D14: 4018 | E14: 0 | F14: =PRODUCT(D14:E14) -> 0
A16: 2.3 | B16: Nakladanje in odvoz odvečnega materiala do 10 km ter stroški deponiranja in grobo razprostiranje na deponiji. | C16: m3 | D16: 270 | E16: 0 | F16: =PRODUCT(D16:E16) -> 0
A18: 2.4 | B18: Nabava, dobava in polaganje proti koreninske zastirke. | C18: m2 | D18: =2/3*D14 -> 2678.6667 | E18: 0 | F18: =PRODUCT(D18:E18) -> 0
B20: SKUPAJ ZEMELJSKA DELA: | F20: =SUM(F12:F18) -> 0
B21: SKUPAJ | F21: =F20+F8 -> 0

Sheet ATLETSKA  STEZA
A1: II. | B1: ATLETSKA STEZA
A3: =1+COUNT(A$1:A2) -> 1 | B3: Zakoličba
B4: Zakoličba atletske steze | C4: kpl | D4: 2 | E4: 0 | F4: =PRODUCT(D4:E4) -> 0
A6: =1+COUNT(A$1:A3) -> 2 | B6: Robniki
B7: Dobava in montaža prefabriciranih betonskih vrtnih robnikov 50/1000
B8: - dimenzija: 1000x250x50mm
B9: - barva: siva
B10: Obračun po količini kosov vgrajenih elementov, vključno z dobavo in montažo ter temeljenjem v posteljico iz pustega betona | C10: kos | D10: 1958 | E10: 0 | F10: =+D10*E10 -> 0
A12: =1+COUNT(A$1:A10) -> 3 | B12: Podlaga
B13: Dobava in montaža enoslojnega drenažnega asfalta ca. 5 cm na predhodno pripravljen utrjen tampon.
B14: Obračun po površini vgrajenega tlaka, vključno z dobavo in montažo. | C14: m2 | D14: =400+90 -> 490 | E14: 0 | F14: =+D14*E14 -> 0
A16: =1+COUNT(A$1:A14) -> 4 | B16: Atletski pod
B17: Dobava in polaganje zaključnega vodopropustnega atletskega poda v standardni barvi (zelena ali rdeča), debelina 13 mm, dvoslojno (SBR + sprej) kot npr. Conipur SP
B18: - barva: rdeča
B19: Obračun po površini vgrajenega tlaka, vključno z dobavo in montažo. | C19: m2 | D19: 392 | E19: 0 | F19: =+D19*E19 -> 0
A21: =1+COUNT(A$1:A19) -> 5 | B21: Označevanje v tlaku
B22: Izris bele črte na atletski pod, širina črte 10cm, PU barva za športne tlake za zunanjo uporabo
B23: Obračun na tekoči meter izvedene grafike. | C23: m1 | D23: 1958 | E23: 0 | F23: =+D23*E23 -> 0
B26: SKUPAJ | F26: =SUM(F7:F25) -> 0

Sheet NAPRAVE IN OPREMA
A1: III. | B1: Naprave in urbana oprema
B4: Opis | C4: E/M | D4: količina | E4: cena/enoto | F4: skupaj
B7: Vsa urbana oprema je izdelana na podlagi zadnje veljavnih shem projektanta arhitekture! Vse mere preveriti na terenu.
B9: Vsi elementi morajo ustrezati veljavnim standardom in to izkazovati s certifikati, igrala morajo ustrezati zahtevam varnostnega standarda SIST EN1176, podlage pod njimi pa standardu SIST EN1177.
B10: Vse naprave morajo biti postavljena varno z upoštevanjem predpisanih varnostnih con po SIST EN1176, podlaga pod napravami pa mora ustrezati višini padca predpisani za posamezno igralo in varnostnim standardom (SIST EN1177), za vse varnostne podlage in naprave v času ponudbe predložiti prospekt z dokazilom o skladnosti s tehničnimi zahtevami v projektantskem popisu del, tehničnem poročilu in projektu, tudi certifikat o skladnosti s standardom.
B11: Zahtevana garancija za naprave: 20 let na nosilno konstrukcijo, 2 leti na mobilne dele.
B12: Vse vrvi na elementih morajo biti v izvedbi Hrcules - z jeklenimi jedri in termično ovito sintetično prejo.
B13: Komercialna imena in slike v popisu služijo lažjemu opisu estetskih, varnostnih, kakovostnih, dimenzijskih in igralnih zahtev projektiranih igral in opreme.
B14: Ob ponudbi predložite prospekte ponujenih proizvodov in veljavne certifikate.
A16: A) | B16: KONČNI PREGLED PO ZAKLJUČKU DEL
A18: =1+COUNT(A$1:A17) -> 1 | B18: Pridobitev ocene varnosti športno-rekreacijskega objekta iz strani usposobljenega in pooblaščenega preglednika
C19: kpl | D19: 1 | E19: 0 | F19: =+D19*E19 -> 0
A22: B) | B22: NAPRAVE
A24: =1+COUNT(A$1:A23) -> 2 | B24: 01 -SPIRALA 01
B25: Dobava in montaža ravninske motorične naprave, grafika zarisana na tlaku, spiralna črta z oznakami začetka in središča, vključno s tlakovanjem in predpripravo.
B26: - asfaltni tlak A1, premer ∅ 11,40 m P= 101,00m², betonski robniki L=50cm (70 kosov), tampon; TLAK : -finalni sloj: asfalt, AC8 surf B 70/100 A5, deb. 3 cm -nosilni sloj: asfalt, AC16 base B 50/70 A4, deb. 4 cm; -tampon: TD 0/32 (drobljenec), deb. 30 cm; ROBNIK : -betonski vrtni robnik V5 50cm, dimenzija 50/23,1/5 , položen v pusti beton, zvezna izvedba; - črte debeline d=10cm in skupne dolžine L=20,0m, grafika po izbiri projektanta, barva za ceste, enokomponentna, akrilna, bela, nanos z brizganjem, enakovredno kot Heliocryl HS basic z dodatkom kremečevaga peska za zagotavljanje protidrsnosti podlage.
B27: Obračun po količini vgrajenega elementa, vključno z dobavo in montažo | C27: kos | D27: 1 | E27: 0 | F27: =+D27*E27 -> 0
A29: =1+COUNT(A$1:A28) -> 3 | B29: 02 -PRSTI-PETE
B30: Dobava in montaža ravninske motorične naprave, ravninska naprava, betonsko tlakovanje z vgrajenimi prodniki, vključno s tlakovanjem in predpripravo.
B31: - krtačen liti beton nepravilne oblike, P= 8,45m² (uporaba kovinskih opažev); - plošča se armira z mrežami S 500 B, tip Q, poraba jekla 90kg/m3; - uporabi se zmrzlinsko odporen beton C25/30 XC4 XS4 XD2 CL 0,2 Dmax 32(16) S2 PVII; - uporabi se tekoči dodatek za zmanjševanje krčenja betonov in malt kot npr. Cementol Antikontrakt T; - med vgradnjo betona se ročno položijo kamni rečnega prodnika t.i. "mačje glave" - velikost cca 50 mm (± 10mm) v črni barvi - 60 kosov, - velikost 80 mm (± 10mm) v beli barvi - 40 kosov. Kamni se položijo tako, da so svojo spodnjo polovico v betonu. Beton se med položenimi kamni krtači.
B32: Obračun po količini vgrajenega elementa, vključno z dobavo in montažo | C32: kos | D32: 1 | E32: 0 | F32: =+D32*E32 -> 0
A34: =1+COUNT(A$1:A33) -> 4 | B34: 03 -GREBEN
B35: Dobava in montaža ravninske motorične naprave, ravninska naprava, tlakovanje z varnostno podlago iz gume in EPDM granulata vključno s tlakovanjem in predpripravo.
B36: - dvoslojna brezšivne gumijaste podlaga nepravilne organske oblike P=40,0m² kot npr. Playtop Nike Grind; - pred začetkom del se izvede AB vrtni robnik po celotnem obsegu, L= 50cm (54 kosa), tampon; Dobavi se in položi dvoslojnea brezšivna gumijasta podlaga s 3d lamelami visokimi in širokimi 20 cm in 30 cm v parih. Spodnji sloj iz reciklirane gume granulat ca. 2 cm, zgornji sloj iz EPDM z dodatkom reciklata Nike Grind (reciklat podplatov Nike copat) granulata, skupna debelina 4 cm - na lamelah se debeli spodnji sloj do želene višine in širine, barva po izboru projektanta po barvni karti proizvajalca, kot npr. Playtop Nike Grind. Predhodno pripraviti prepustno utrjeno peščeno posteljico.
B37: Obračun po količini vgrajenega elementa, vključno z dobavo in montažo | C37: kos | D37: 1 | E37: 0 | F37: =+D37*E37 -> 0
A39: =1+COUNT(A$1:A38) -> 5 | B39: 04 -DINAMIČNE PLOŠČE
B40: Dobava in montaža motorične naprave, vključno s tlakovanjem in predpripravo.
B41: Dobavijo se in montirajo okrogle lesene pohodne ploščadi na vzmeteh. Višina nastopne ploskve min 15cm in max 30cm. Plošče so iz vezane plošče okume marin debeline d=30mm. Premeri plošč so ∅35 (11 kosov), ∅ 45 (5 kosov) in ∅ 60cm (3 kosi). Rob plošče zaščiten z vodoobojnim premazom fenolnega filma. Nastopna ploskev obdelana kot protizdrsna. Plošče so vijačene na pocinkano jekleno podkonstrukcijo. Vzmet iz patentirane vzmetne žice po standardu EN 10270-1 premera min 16mm. Element sidran v AB temelj (š/d/g 30/30/80cm) preko jeklenega sidrišča in 4x M16 vijaki (enakovredno kot Hilti HSA M16x182 85/70/30). Predvideti temeljenje po navodilih dobavitelja. Vsi jekleni deli so protikorozijsko zaščiteni in barvani RAL 7039! Element mora imati dokazilo o skladnosti igral s standardom SIT-EN 1176. Za izkazovanje skladnosti s standardi se uporablja certifikat, ki ga izstavi ustrezno usposobljena institucija. Drug dokument, ki potrjuje skladnost s standardom, je lahko testno poročilo, ki ga izda proizvajalec ali zunanja neodvisna ustanova (npr. akreditirani laboratorij).
B42: - asfaltni tlak A1, premer ∅ 4,60 m P= 16,00m², betonski robniki L=50cm (30 kosov), tampon; - črte debeline d=10cm in skupne dolžine L=20,0m, grafika po izbiri projektanta, barva za ceste, enokomponentna, akrilna, bela, nanos z brizganjem, enakovredno kot Heliocryl HS basic z dodatkom kremečevaga peska za zagotavljanje protidrsnosti podlage.
B43: Obračun po količini vgrajenega elementa, vključno z dobavo in montažo | C43: kos | D43: 1 | E43: 0 | F43: =+D43*E43 -> 0
A45: =1+COUNT(A$1:A44) -> 6 | B45: 5 - "DOSEG"
B46: Dobava in montaža motorične naprave. vključno s tlakovanjem in predpripravo.
B47: leseni stebri različnih višin (160-240cm) premere ∅20cm z obojestranskimi kovinskimi cevmi (8x cev fi40mm L=100cm) za nalaganje žog ali podobnih lažjih predmetov. Vsi leseni deli so iz termično obdelanega lesa iglavce in so globinsko impregnirani. Hlodi se vijačijo preko jeklenih križev s sidrno ploščico. Ploščica 40x40cm, 4 vijaki M16, križ iz pločevine d=8mm in višine 40cm, 4 navojni vijaki M16. Vsi jekleni elementi so protikorozijsko zaščiteni in barvani RAL 7039. Predvideti točkovno temeljenje 5x (š/d/g 40x40x80cm). Element mora imati dokazilo o skladnosti igral s standardom SIT-EN 1176. Za izkazovanje skladnosti s standardi se uporablja certifikat, ki ga izstavi ustrezno usposobljena institucija. Drug dokument, ki potrjuje skladnost s standardom, je lahko testno poročilo, ki ga izda proizvajalec ali zunanja neodvisna ustanova (npr. akreditirani laboratorij)
B48: - asfaltni tlak A1, dim 637x340cm P=13,3m², betonski robniki L=50cm (28 kosov), tampon; - črte debeline d=10cm in skupne dolžine L=20,0m, grafika po izbiri projektanta, barva za ceste, enokomponentna, akrilna, bela, nanos z brizganjem, enakovredno kot Heliocryl HS basic z dodatkom kremečevaga peska za zagotavljanje protidrsnosti podlage.
B49: Obračun po količini vgrajenega elementa, vključno z dobavo in montažo | C49: kos | D49: 1 | E49: 0 | F49: =+D49*E49 -> 0
A51: =1+COUNT(A$1:A50) -> 7 | B51: 6 - "PROSTI TEKAČ"
B52: Dobava in montaža naprave za tekaško vadbo - enakovredno kot npr. Kompan KPX120
B53: Predvideti temeljenje po navodilih dobavitelja. Vsi jekleni deli so protikorozijsko zaščiteni in barvani RAL 7039! Element mora imati dokazilo o skladnosti igral s standardom SIT-EN 1176. Za izkazovanje skladnosti s standardi se uporablja certifikat, ki ga izstavi ustrezno usposobljena institucija. Drug dokument, ki potrjuje skladnost s standardom, je lahko testno poročilo, ki ga izda proizvajalec ali zunanja neodvisna ustanova (npr. akreditirani laboratorij).
B54: asfaltni tlak A1, ovalne oblike, P=18,20m², betonski robniki L=50cm (32 kosov), tampon; črte debeline d=10cm in skupne dolžine L=15,0m, grafika po izbiri projektanta barva za ceste, enokomponentna, akrilna, bela, nanos z brizganjem, enakovredno kot Heliocryl HS basic z dodatkom kremečevaga peska za zagotavljanje protidrsnosti podlage. - črte debeline d=10cm in skupne dolžine L=20,0m, grafika po izbiri projektanta, barva za ceste, enokomponentna, akrilna, bela, nanos z brizganjem, enakovredno kot Heliocryl HS basic z dodatkom kremečevaga peska za zagotavljanje protidrsnosti podlage.
B55: Obračun po količini vgrajenega elementa, vključno z dobavo in montažo | C55: kos | D55: 1 | E55: 0 | F55: =+D55*E55 -> 0
A57: =1+COUNT(A$1:A56) -> 8 | B57: 7 - "DVIG NA DROGU"
B58: Dobava in montaža naprave za vadbo dviga na drogu - enakovredno kot npr. Kompan NAT807
B59: Predvideti temeljenje po navodilih dobavitelja. Vsi jekleni deli so protikorozijsko zaščiteni in barvani RAL 7039! Element mora imati dokazilo o skladnosti igral s standardom SIT-EN 1176. Za izkazovanje skladnosti s standardi se uporablja certifikat, ki ga izstavi ustrezno usposobljena institucija. Drug dokument, ki potrjuje skladnost s standardom, je lahko testno poročilo, ki ga izda proizvajalec ali zunanja neodvisna ustanova (npr. akreditirani laboratorij).
B60: - dvoslojna brezšivne gumijaste varnostna podlaga G2 ovalne oblike P=33,35m² kot npr. Playtop Nike Grind; - pred začetkom del se izvede AB vrtni robnik po celotnem obsegu, L= 50cm (42 kosa), tampon; Dobavi se in položi dvoslojna brezšivna gumijasta podlaga Spodnji sloj iz reciklirane gume granulat ca. 2 cm, zgornji sloj iz EPDM z dodatkom reciklata Nike Grind (reciklat podplatov Nike copat) granulata, skupna debelina 4 ce, barva po izboru projektanta po barvni karti proizvajalca, kot npr. Playtop Nike Grind. Predhodno pripraviti prepustno utrjeno peščeno posteljico. - črte debeline d=10cm in skupne dolžine L=20,0m, grafika po izbiri projektanta, barva za ceste, enokomponentna, akrilna, bela, nanos z brizganjem, enakovredno kot Heliocryl HS basic z dodatkom kremečevaga peska za zagotavljanje protidrsnosti podlage.
B61: Obračun po količini vgrajenega elementa, vključno z dobavo in montažo | C61: kos | D61: 1 | E61: 0 | F61: =+D61*E61 -> 0
A63: =1+COUNT(A$1:A62) -> 9 | B63: 8 - "VRV"
B64: Dobava in montaža motorične naprave. vključno s tlakovanjem in predpripravo.
B65: Dobava in montaža igrala most z mrežo na lesenih stebrih brez držal. Med 4 stebre iz lesa rubinije, ki so brez lubja in beline, je napeta mreža iz Hercules vrvi za težavno hojo po njej, kot npr. KOMPAN NRO831 Vsi jekleni deli so protikorozijsko zaščiteni in barvani RAL 7039! Predvideti točkovno temeljenje 4x (š/d/g 30x30x80cm). Element mora imati dokazilo o skladnosti igral s standardom SIT-EN 1176. Za izkazovanje skladnosti s standardi se uporablja certifikat, ki ga izstavi ustrezno usposobljena institucija. Drug dokument, ki potrjuje skladnost s standardom, je lahko testno poročilo, ki ga izda proizvajalec ali zunanja neodvisna ustanova (npr. akreditirani laboratorij)
B66: - dvoslojna brezšivne gumijaste varnostna podlaga G2 dim 637x340cm P=19,2m², betonski robniki L=50cm (33 kosa), tampon; Dobavi se in položi dvoslojna brezšivna gumijasta podlaga Spodnji sloj iz reciklirane gume granulat ca. 2 cm, zgornji sloj iz EPDM z dodatkom reciklata Nike Grind (reciklat podplatov Nike copat) granulata, skupna debelina 4 cm, barva po izboru projektanta po barvni karti proizvajalca, kot npr. Playtop Nike Grind. Predhodno pripraviti prepustno utrjeno peščeno posteljico. - črte debeline d=10cm in skupne dolžine L=20,0m, grafika po izbiri projektanta, barva za ceste, enokomponentna, akrilna, bela, nanos z brizganjem, enakovredno kot Heliocryl HS basic z dodatkom kremečevaga peska za zagotavljanje protidrsnosti podlage.
B67: Obračun po količini vgrajenega elementa, vključno z dobavo in montažo | C67: kos | D67: 1 | E67: 0 | F67: =+D67*E67 -> 0
A69: =1+COUNT(A$1:A68) -> 10 | B69: 09 -ROKE -RAMENA
B70: Dobava in montaža motorične naprave za krepitev motorike rok. Vključno s tlakovanjem in predpripravo. enakovredno kot npr. Benito JSA005D
B71: Naprava je vgrajena na kovinskem stebru in ima vgrajena tri vrtljiva kolesa z ročaji. Elementi so na napravo vgrajeni pod različnimi koti, naprava je v sivi in črni barvi, Predvideti temeljenje po navodilih dobavitelja. Vsi jekleni deli so protikorozijsko zaščiteni in barvani RAL 7039! Element mora imati dokazilo o skladnosti igral s standardom SIT-EN 1176. Za izkazovanje skladnosti s standardi se uporablja certifikat, ki ga izstavi ustrezno usposobljena institucija. Drug dokument, ki potrjuje skladnost s standardom, je lahko testno poročilo, ki ga izda proizvajalec ali zunanja neodvisna ustanova (npr. akreditirani laboratorij).
B72: - asfaltni tlak A1, premer ∅ 4,60 m P= 16,00m², betonski robniki L=50cm (22 kosov), tampon; - črte debeline d=10cm in skupne dolžine L=20,0m, grafika po izbiri projektanta, barva za ceste, enokomponentna, akrilna, bela, nanos z brizganjem, enakovredno kot Heliocryl HS basic z dodatkom kremečevaga peska za zagotavljanje protidrsnosti podlage.
B73: Obračun po količini vgrajenega elementa, vključno z dobavo in montažo | C73: kos | D73: 1 | E73: 0 | F73: =+D73*E73 -> 0
A75: =1+COUNT(A$1:A74) -> 11 | B75: 10- "DVIG - NIZKI DOSEG"
B76: Dobava in montaža motorične naprave. vključno s tlakovanjem in predpripravo.
B77: Večnivojska naprava -bradlja za ovirane osebe Vsi jekleni elementi so protikorozijsko zaščiteni in barvani. Predvideti točkovno temeljenje po navodilih dobavitelja. Element mora imati dokazilo o skladnosti igral s standardom SIT-EN 1176. Za izkazovanje skladnosti s standardi se uporablja certifikat, ki ga izstavi ustrezno usposobljena institucija. Drug dokument, ki potrjuje skladnost s standardom, je lahko testno poročilo, ki ga izda proizvajalec ali zunanja neodvisna ustanova (npr. akreditirani laboratorij). Izdelekl enakovreden kot npr. model Balancegym 53543009 / proizvajalec Erlau / zastopnik MT Cvek
B78: - dvoslojna brezšivne gumijaste varnostna podlaga G2 dim 800x340cm P=24,5m², betonski robniki L=50cm (40 kosov), tampon; Dobavi se in položi dvoslojna brezšivna gumijasta podlaga Spodnji sloj iz reciklirane gume granulat ca. 2 cm, zgornji sloj iz EPDM z dodatkom reciklata Nike Grind (reciklat podplatov Nike copat) granulata, skupna debelina 4 cm, barva po izboru projektanta po barvni karti proizvajalca, kot npr. Playtop Nike Grind. Predhodno pripraviti prepustno utrjeno peščeno posteljico. - črte debeline d=10cm in skupne dolžine L=20,0m, grafika po izbiri projektanta, barva za ceste, enokomponentna, akrilna, bela, nanos z brizganjem, enakovredno kot Heliocryl HS basic z dodatkom kremečevaga peska za zagotavljanje protidrsnosti podlage.
B79: Obračun po količini vgrajenega elementa, vključno z dobavo in montažo | C79: kos | D79: 1 | E79: 0 | F79: =+D79*E79 -> 0
A81: =1+COUNT(A$1:A80) -> 12 | B81: 15-"TEK 1 -test 10 m"
B82: Dobava in montaža motorične naprave. vključno s tlakovanjem in predpripravo.
B83: Ravninska naprava, zarisana polja na podlagi iz atleskega poda dolžine 29,3m. Element mora imati dokazilo o skladnosti igral s standardom SIT-EN 1176. Za izkazovanje skladnosti s standardi se uporablja certifikat, ki ga izstavi ustrezno usposobljena institucija. Drug dokument, ki potrjuje skladnost s standardom, je lahko testno poročilo, ki ga izda proizvajalec ali zunanja neodvisna ustanova (npr. akreditirani laboratorij)
B84: -finalni sloj: vodopropustnI atletski pod, v rdeči barvi, debelina 13 mm, dvoslojno (SBR + sprej) kot npr. Conipur SP; -nosilni sloj: asfalt, AC16 base B 50/70 A4, deb. 4 cm; -tampon: TD 0/32 (drobljenec), deb. 30 cm; - napisi in črte debeline d=10cm in skupne dolžine L=20,0m, grafika po izbiri projektanta, barva za ceste, enokomponentna, akrilna, bela, nanos z brizganjem, enakovredno kot Heliocryl HS basic z dodatkom kremečevaga peska za zagotavljanje protidrsnosti podlage.
B85: Obračun po količini vgrajenega elementa, vključno z dobavo in montažo | C85: kos | D85: 1 | E85: 0 | F85: =+D85*E85 -> 0
A87: =1+COUNT(A$1:A86) -> 13 | B87: 12 - "TUNEL"
B88: Dobava in montaža motorične naprave. vključno s tlakovanjem in predpripravo.
B89: Dobava in montaža Dobavi se in montira se leseni tunel. Tlorisna velikost tunela je 12,0m² Vstopna višina H1=243cm, izstopna višina H2=112cm.Nosilna konstrukcija iz FeZn škatlastih profilov 80x60mm. Skupna dložina L=55m' Sekundarna konstrukcija iz okrogli FeZn cevi ∅40mm L=55m'. Zavetrovanje v vertikalni in horizontalni smeri z jekenicami z natezniki. Izvede temeljna AB plošča d=10cm (poraba betona 1,5m³, poraba jekla 100kg/m³). Leseni okvirji se sidrajo v AB ploščo preko tipskih pocinkanih ležišč za lesene stebre. Element mora imati dokazilo o skladnosti igral s standardom SIT-EN 1176. Za izkazovanje skladnosti s standardi se uporablja certifikat, ki ga izstavi ustrezno usposobljena institucija. Drug dokument, ki potrjuje skladnost s standardom, je lahko testno poročilo, ki ga izda proizvajalec ali zunanja neodvisna ustanova (npr. akreditirani laboratorij).
B90: - dvoslojna brezšivne gumijaste varnostna podlaga G2 dim 4,65 m x 8,12 m P=21,0m², betonski robniki L=50cm (42 kosa), tampon; Dobavi se in položi dvoslojna brezšivna gumijasta podlaga Spodnji sloj iz reciklirane gume granulat ca. , zgornji sloj iz EPDM z dodatkom reciklata Nike Grind (reciklat podplatov Nike copat) granulata, skupna debelina 4 cm, barva po izboru projektanta po barvni karti proizvajalca, kot npr. Playtop Nike Grind. Predhodno pripraviti prepustno utrjeno peščeno posteljico. - črte debeline d=10cm in skupne dolžine L=20,0m, grafika po izbiri projektanta, barva za ceste, enokomponentna, akrilna, bela, nanos z brizganjem, enakovredno kot Heliocryl HS basic z dodatkom kremečevaga peska za zagotavljanje protidrsnosti podlage.
B91: Obračun po količini vgrajenega elementa, vključno z dobavo in montažo | C91: kos | D91: 1 | E91: 0 | F91: =+D91*E91 -> 0
A93: =1+COUNT(A$1:A92) -> 14 | B93: 13 - ELASTIČNI TRAKOVI
B94: Dobava in montaža naprave za vadbo z elastičnimi trakovi - enakovredno kot npr. Kompan FAZ10100
B95: Predvideti temeljenje po navodilih dobavitelja. Vsi jekleni deli so protikorozijsko zaščiteni in barvani RAL 7039! Element mora imati dokazilo o skladnosti igral s standardom SIT-EN 1176. Za izkazovanje skladnosti s standardi se uporablja certifikat, ki ga izstavi ustrezno usposobljena institucija. Drug dokument, ki potrjuje skladnost s standardom, je lahko testno poročilo, ki ga izda proizvajalec ali zunanja neodvisna ustanova (npr. akreditirani laboratorij).
B96: asfaltni tlak A1, ovalne in pravokotne oblike , P=26,50m², betonski robniki L=50cm (42 kosov), tampon; črte debeline d=10cm in skupne dolžine L=15,0m, grafika po izbiri projektanta barva za ceste, enokomponentna, akrilna, bela, nanos z brizganjem, enakovredno kot Heliocryl HS basic z dodatkom kremečevaga peska za zagotavljanje protidrsnosti podlage. - črte debeline d=10cm in skupne dolžine L=20,0m, grafika po izbiri projektanta, barva za ceste, enokomponentna, akrilna, bela, nanos z brizganjem, enakovredno kot Heliocryl HS basic z dodatkom kremečevaga peska za zagotavljanje protidrsnosti podlage.
B97: Obračun po količini vgrajenega elementa, vključno z dobavo in montažo | C97: kos | D97: 1 | E97: 0 | F97: =+D97*E97 -> 0
A99: =1+COUNT(A$1:A98) -> 15 | B99: 14 - MAGNETNE UTEŽI
B100: Dobava in montaža naprave za vadbo z magnetnimi utežmi - enakovredno kot npr. Kompan FAZ10200
B101: Predvideti temeljenje po navodilih dobavitelja. Vsi jekleni deli so protikorozijsko zaščiteni in barvani RAL 7039! Element mora imati dokazilo o skladnosti igral s standardom SIT-EN 1176. Za izkazovanje skladnosti s standardi se uporablja certifikat, ki ga izstavi ustrezno usposobljena institucija. Drug dokument, ki potrjuje skladnost s standardom, je lahko testno poročilo, ki ga izda proizvajalec ali zunanja neodvisna ustanova (npr. akreditirani laboratorij).
B102: asfaltni tlak A1, ovalne in pravokotne oblike, P=15,00m², betonski robniki L=50cm (31 kosov), tampon; črte debeline d=10cm in skupne dolžine L=15,0m, grafika po izbiri projektanta barva za ceste, enokomponentna, akrilna, bela, nanos z brizganjem, enakovredno kot Heliocryl HS basic z dodatkom kremečevaga peska za zagotavljanje protidrsnosti podlage. - črte debeline d=10cm in skupne dolžine L=20,0m, grafika po izbiri projektanta, barva za ceste, enokomponentna, akrilna, bela, nanos z brizganjem, enakovredno kot Heliocryl HS basic z dodatkom kremečevaga peska za zagotavljanje protidrsnosti podlage.
B103: Obračun po količini vgrajenega elementa, vključno z dobavo in montažo | C103: kos | D103: 1 | E103: 0 | F103: =+D103*E103 -> 0
A105: =1+COUNT(A$1:A104) -> 16 | B105: 15 - "HLOD"
B106: Dobava in montaža motorične naprave. vključno s tlakovanjem in predpripravo enakovredno kot npr. KOMPAN NRO830
B107: Dobava in montaža vteče se brvi. Brv je okrogla, ko hodimo po njej se vrti. Med stebri je napeljana vrv za lovljenje ravnotežja. Vrv je v vertikalne stebre je pritrjena z elementi, ki omogočajo vrtenje. Vsi jekleni deli so protikorozijsko zaščiteni in barvani RAL 7039! Predvideti točkovno temeljenje 2x (š/d/g 40x40x80cm). Element mora imati dokazilo o skladnosti igral s standardom SIT-EN 1176. Za izkazovanje skladnosti s standardi se uporablja certifikat, ki ga izstavi ustrezno usposobljena institucija. Drug dokument, ki potrjuje skladnost s standardom, je lahko testno poročilo, ki ga izda proizvajalec ali zunanja neodvisna ustanova (npr. akreditirani laboratorij)
B108: - asfaltni tlak A1, premer ∅ 4,60 m P= 16,00m², betonski robniki L=50cm (22 kosov), tampon; - črte debeline d=10cm in skupne dolžine L=20,0m, grafika po izbiri projektanta, barva za ceste, enokomponentna, akrilna, bela, nanos z brizganjem, enakovredno kot Heliocryl HS basic z dodatkom kremečevaga peska za zagotavljanje protidrsnosti podlage.
B109: Obračun po količini vgrajenega elementa, vključno z dobavo in montažo | C109: kos | D109: 1 | E109: 0 | F109: =+D109*E109 -> 0
A111: =1+COUNT(A$1:A110) -> 17 | B111: 16 - "SLALOM"
B112: Dobava in montaža motorične naprave. vključno s tlakovanjem in predpripravo enakovredno kot npr. KOMPAN NRO873
B113: Dobava in montaža pokončnih hlodov za tek med njimi. Hlodi so navpično vgrajeni v prst, visoki so do ca. 160 cm, v hlodih so kukalne luknje, 2x komplet (3 hlodi so 1 komplet). Vsi jekleni deli so protikorozijsko zaščiteni in barvani RAL 7039! Predvideti točkovno temeljenje 6x (š/d/g 40x40x80cm). Element mora imati dokazilo o skladnosti igral s standardom SIT-EN 1176. Za izkazovanje skladnosti s standardi se uporablja certifikat, ki ga izstavi ustrezno usposobljena institucija. Drug dokument, ki potrjuje skladnost s standardom, je lahko testno poročilo, ki ga izda proizvajalec ali zunanja neodvisna ustanova (npr. akreditirani laboratorij)
B114: - asfaltni tlak A1, dim 637x340cm P=19,2m², betonski robniki L=50cm (33 kosa), tampon; - črte debeline d=10cm in skupne dolžine L=20,0m, grafika po izbiri projektanta, barva za ceste, enokomponentna, akrilna, bela, nanos z brizganjem, enakovredno kot Heliocryl HS basic z dodatkom kremečevaga peska za zagotavljanje protidrsnosti podlage.
B115: Obračun po količini vgrajenega elementa, vključno z dobavo in montažo | C115: kos | D115: 1 | E115: 0 | F115: =+D115*E115 -> 0
A117: =1+COUNT(A$1:A116) -> 18 | B117: 17 - "BOOTCAMP"
B118: Dobava in montaža naprave za vadbo po principu "bootcamp"- enakovredno kot npr. Kompan FST930
B119: Predvideti temeljenje po navodilih dobavitelja. Vsi jekleni deli so protikorozijsko zaščiteni in barvani RAL 7039! Element mora imati dokazilo o skladnosti igral s standardom SIT-EN 1176. Za izkazovanje skladnosti s standardi se uporablja certifikat, ki ga izstavi ustrezno usposobljena institucija. Drug dokument, ki potrjuje skladnost s standardom, je lahko testno poročilo, ki ga izda proizvajalec ali zunanja neodvisna ustanova (npr. akreditirani laboratorij).
B120: - dvoslojna brezšivne gumijaste varnostnapodlaga G2 krožne oblike P=48,0m² kot npr. Playtop Nike Grind; - pred začetkom del se izvede AB vrtni robnik po celotnem obsegu, L= 50cm (53 kosa), tampon; Dobavi se in položi dvoslojna brezšivna gumijasta podlaga Spodnji sloj iz reciklirane gume granulat ca. 2 cm, zgornji sloj iz EPDM z dodatkom reciklata Nike Grind (reciklat podplatov Nike copat) granulata, skupna debelina 4 ce, barva po izboru projektanta po barvni karti proizvajalca, kot npr. Playtop Nike Grind. Predhodno pripraviti prepustno utrjeno peščeno posteljico. - črte debeline d=10cm in skupne dolžine L=20,0m, grafika po izbiri projektanta, barva za ceste, enokomponentna, akrilna, bela, nanos z brizganjem, enakovredno kot Heliocryl HS basic z dodatkom kremečevaga peska za zagotavljanje protidrsnosti podlage.
B121: Obračun po količini vgrajenega elementa, vključno z dobavo in montažo | C121: kos | D121: 1 | E121: 0 | F121: =+D121*E121 -> 0
A123: =1+COUNT(A$1:A122) -> 19 | B123: 18 - BRADLJA
B124: Dobava in montaža naprave za vadbo na bradlji - enakovredno kot npr. Kompan FSW201
B125: Predvideti temeljenje po navodilih dobavitelja. Vsi jekleni deli so protikorozijsko zaščiteni in barvani RAL 7039! Element mora imati dokazilo o skladnosti igral s standardom SIT-EN 1176. Za izkazovanje skladnosti s standardi se uporablja certifikat, ki ga izstavi ustrezno usposobljena institucija. Drug dokument, ki potrjuje skladnost s standardom, je lahko testno poročilo, ki ga izda proizvajalec ali zunanja neodvisna ustanova (npr. akreditirani laboratorij).
B126: - dvoslojna brezšivne gumijaste varnostna podlaga G2 krožne oblike P=18,4m² kot npr. Playtop Nike Grind; - pred začetkom del se izvede AB vrtni robnik po celotnem obsegu, L= 50cm (32 kosa), tampon; Dobavi se in položi dvoslojna brezšivna gumijasta podlaga Spodnji sloj iz reciklirane gume granulat ca. 2 cm, zgornji sloj iz EPDM z dodatkom reciklata Nike Grind (reciklat podplatov Nike copat) granulata, skupna debelina 4 ce, barva po izboru projektanta po barvni karti proizvajalca, kot npr. Playtop Nike Grind. Predhodno pripraviti prepustno utrjeno peščeno posteljico. - črte debeline d=10cm in skupne dolžine L=20,0m, grafika po izbiri projektanta, barva za ceste, enokomponentna, akrilna, bela, nanos z brizganjem, enakovredno kot Heliocryl HS basic z dodatkom kremečevaga peska za zagotavljanje protidrsnosti podlage.
B127: Obračun po količini vgrajenega elementa, vključno z dobavo in montažo | C127: kos | D127: 1 | E127: 0 | F127: =+D127*E127 -> 0
...

Sheet ZASADITEV
A1: IV. | B1: Zasaditev
C4: Opis | D4: E/M | E4: količina | F4: cena/enoto | G4: skupaj
A6: I) | B6: PREDDELA
A9: a) | B9: Čiščenje terena.
A12: =1+COUNT(A$1:A11) -> 1 | B12: Čiščenje terana in odvoz v trajno deponijo | D12: 1 | E12: kpl | F12: 0 | G12: =F12*D12 -> 0
A16: b) | B16: Dobava sadik dreves
A18: =1+COUNT(A$1:A17) -> 2 | B18: Salix alba | C18: 150-200 cm | D18: 10 | E18: kom | F18: 0 | G18: =D18*F18 -> 0
A19: =1+COUNT(A$1:A18) -> 3 | B19: Tilia platyphyllos | C19: 150-200 cm | D19: 5 | E19: kom | F19: 0 | G19: =D19*F19 -> 0
B20: skupaj | D20: =SUM(D18:D19) -> 15
A23: c) | B23: Dobava pomožnega sadilnega materiala
A25: =1+COUNT(A$1:A24) -> 4 | B25: Dobava založnega gnojila (briketi) | D25: 25 | E25: kg | F25: 0 | G25: =D25*F25 -> 0
A26: =1+COUNT(A$1:A25) -> 5 | B26: Dobava označevalnih količkov | D26: 15 | E26: kom | F26: 0 | G26: =D26*F26 -> 0
A27: =1+COUNT(A$1:A26) -> 6 | B27: Dobava opornih količkov | D27: 45 | E27: kom | F27: 0 | G27: =D27*F27 -> 0
A28: =1+COUNT(A$1:A27) -> 7 | B28: Dobava traku za privezovanje | D28: 30 | E28: kom | F28: 0 | G28: =D28*F28 -> 0
B31: PREDDELA - SKUPAJ | G31: =SUM(G12:G30) -> 0
A34: II) | B34: ZATRAVITEV
A37: =1+COUNT(A$1:A35) -> 8 | B37: Odstranjevanje zaplevljene plasti (po potrebi) Dodajanje mešanice zemlje in mivke Frezanje, grobo in fino planiranje | D37: 446 | E37: m2 | F37: 0 | G37: =D37*F37 -> 0
A39: =1+COUNT(A$1:A38) -> 9 | B39: Zatravitev | D39: 446 | E39: m2 | F39: 0 | G39: =D39*F39 -> 0
B42: ZATRAVITEV-SKUPAJ | G42: =SUM(G36:G41) -> 0
A46: III) | B46: ZASADITEV VEGETACIJE
A48: f) | B48: Sajenje dreves
A49: =1+COUNT(A$1:A48) -> 10 | B49: ( Zakoličenje , izkop sadilne jame , priprava tal z odvozom izkopanega materiala, ureditev drenaže, dodajamje humuzne mešanice, dodajanje založnega gnojila, sajenje, zalivanje) | D49: 15 | E49: kom | F49: 0 | G49: =D49*F49 -> 0
B53: ZASADITEV VEGETACIJE - SKUPAJ | G53: =SUM(G49:G52) -> 0
B57: REKAPITULACIJA
B61: Opis dela | E61: Znesek /EUR/
B64: PREDDELA | E64: =$G$31 -> 0
B66: ZATRAVITEV | G66: =$G$42 -> 0
B68: ZASADITEV VEGETACIJE | E68: =$G$53 -> 0
B70: SKUPAJ | G70: =E64+G66+E68 -> 0
