Workbook

Sheet REKAPITULACIJA _ SKUPNA
A1: Investitor/Naročnik: Mestna občina Murska Sobota
A3: Objekt: | B3: KANALIZACIJSKO OMREŽJE NA PUŠČI - FAZA 3
B7: REKAPITULACIJA SKUPNA
A10: 1. | B10: KANALIZACIJSKO OMREŽJE | E10: ='REKAPITULACIJA _ KAN'!D25 -> 0
A11: 2. | B11: CESTA | E11: =cesta!F30 -> 0
A12: 3. | B12: CESTNA RASVETJAVA | E12: ='cestna rasvetljava'!F79 -> 0
B13: SKUPAJ | E13: =E10+E11+E12 -> 0
A19: OPOZORILO: Dokument lahko vsebuje matematične napake. Pred oddajo ponudbe je potrebno preveriti točnost izračunov in povezav med celicami.
A20: V primeru odkritja teh napak je ponudnik dolžan oddati pravilen izračun in o tem obvestiti naročnika.

Sheet REKAPITULACIJA _ KAN
A2: Investitor/Naročnik: Mestna občina Murska Sobota
A4: Objekt: | B4: KANALIZACIJSKO OMREŽJE NA PUŠČI - FAZA 3
A6: Popis del za kanalizacijsko omrežje
B8: REKAPITULACIJA STROŠKOV
A11: K | B11: 1-0 | C11: (del) | D11: ='KANAL 1-0'!E267 -> 0
A12: K | B12: 1_1 | D12: ='KANAL 1-1'!E234 -> 0
A13: K | B13: 1_2 | D13: ='KANAL 1-2'!E237 -> 0
A14: K | B14: 1_5 | D14: ='KANAL 1-5'!E202 -> 0
A15: K | B15: 2_1 | D15: ='KANAL 2-1'!E246 -> 0
A16: K | B16: 2_2 | D16: ='KANAL 2-2'!E246 -> 0
A17: K | B17: 2_3 | D17: ='KANAL 2-3'!E215 -> 0
A18: K | B18: 2_4 | D18: ='KANAL 2-4'!E247 -> 0
A19: K | B19: 3_0 | D19: ='KANAL 3-0'!E237 -> 0
A20: K | B20: 3_2 | D20: ='KANAL 3-2'!E230 -> 0
A23: SKUPAJ BREZ DDV: | D23: =D11+D12+D13+D14+D15+D16+D17+D18+D19+D20 -> 0
A24: POPUST (v % ): | D24: =D23*C24/100 -> 0
A25: SKUPAJ S POPUSTOM: | D25: =D23-D24 -> 0
A28: OPOMBA: Skladno s 76. a členom ZDDV-1 se upošteva mehanizem obrnjene davčne obveznosti.

Sheet KANAL 1-0
B3: Kanal 1-0 in T1.0
A6: Št. | B6: Enota in opis dela | C6: količina | D6: cena/enoto v € | E6: cena skupaj v €
A7: 1.0 | B7: PREDDELA
A9: 1 | B9: Zavarovanje gradbišča med samo gradnjo z
B10: vso potrebno signalizacijo in varnostno zaščito
B11: za katero mora izvajalec gradbenih del izdelati
B12: poseben elaborat za potrebe organizacije gradbišča.
B13: V elaboratu morajo biti zajeti vsi posegi v smislu
B14: zagotavljenja varnosti pri gradbenem delu.
B15: Dela naj se opravijo v skladu s pogoji upravljalecev
B16: ceste.
B18: kos | C18: 1 | E18: =C18*D18 -> 0
A20: 2 | B20: Zakoličba, trasna in višinska
B21: navezava količkov in zavarovanje
B23: m | C23: 93.42 | E23: =C23*D23 -> 0
A25: 3 | B25: Postavitev in zavarovanje prečnih profilov
B27: kos | C27: 3 | E27: =C27*D27 -> 0
A29: 4 | B29: Označba in zavarovanje obstoječih
B30: komunalnih vodov. Obračun se izvrši
B31: po količinah vpisanih v knjigo obračunskih
B32: izmer
B34: pav | C34: 1 | E34: =C34*D34 -> 0
A36: 5 | B36: Sondažni izkopi za ugotovitev in preverjanje
B37: obstoječih komunalnih vodov.
B38: Obračun se izvrši po količinah vpisanih v
B39: knjigo obračunskih izmer
B41: pav | C41: 1 | E41: =C41*D41 -> 0
B44: PREDDELA SKUPAJ | E44: =E41+E34+E27+E23+E18 -> 0
A47: Št. | B47: Enota in opis dela | C47: količina | D47: cena/enoto v € | E47: cena skupaj v €
A48: 2.0 | B48: ZEMELJSKA DELA
A50: 1 | B50: Strojni izkop gradbenega jarka v lahki zemljini
B51: (III.kategorija) z nakladanjem in odvozom na
B52: začasno deponijo do 3 km.
B53: Obračun se izvrši po količinah vpisanih v knjigo
B54: obračunskih izmer
B55: Izkop gradbenega jarka za potrebe vgradnje cevi
B56: mora biti širine min. 0,90 m.
B58: m3 | C58: 165.21 | E58: =C58*D58 -> 0
A60: 2 | B60: Strojno rezanje obstoječega asfalta v širini 0,90m
B61: ter nakladanje in odvoz na začasno deponijo do 3km,
...

Sheet KANAL 1-1
B1: Kanal 1-1
A3: Št. | B3: Enota in opis dela | C3: količina | D3: cena/enoto v € | E3: cena skupaj v €
A4: 1.0 | B4: PREDDELA
A6: 1 | B6: Zavarovanje gradbišča med samo gradnjo z
B7: vso potrebno signalizacijo in varnostno zaščito
B8: za katero mora izvajalec gradbenih del izdelati
B9: poseben elaborat za potrebe organizacije gradbišča.
B10: V elaboratu morajo biti zajeti vsi posegi v smislu
B11: zagotavljenja varnosti pri gradbenem delu.
B12: Dela naj se opravijo v skladu s pogoji upravljalecev
B13: ceste.
B15: kos | C15: 1 | E15: =C15*D15 -> 0
A17: 2 | B17: Zakoličba, trasna in višinska
B18: navezava količkov in zavarovanje
B20: m | C20: 32.25 | E20: =C20*D20 -> 0
A22: 3 | B22: Postavitev in zavarovanje prečnih profilov
B24: kos | C24: 2 | E24: =C24*D24 -> 0
A26: 4 | B26: Označba in zavarovanje obstoječih
B27: komunalnih vodov. Obračun se izvrši
B28: po količinah vpisanih v knjigo obračunskih
B29: izmer
B31: pav | C31: 1 | E31: =C31*D31 -> 0
A33: 5 | B33: Sondažni izkopi za ugotovitev in preverjanje
B34: obstoječih komunalnih vodov.
B35: Obračun se izvrši po količinah vpisanih v
B36: knjigo obračunskih izmer
B38: pav | C38: 1 | E38: =C38*D38 -> 0
B41: PREDDELA SKUPAJ | E41: =E38+E31+E24+E20+E15 -> 0
A44: Št. | B44: Enota in opis dela | C44: količina | D44: cena/enoto v € | E44: cena skupaj v €
A45: 2.0 | B45: ZEMELJSKA DELA
A47: 1 | B47: Strojni izkop gradbenega jarka v lahki zemljini
B48: (III.kategorija) z nakladanjem in odvozom na
B49: začasno deponijo do 3 km.
B50: Obračun se izvrši po količinah vpisanih v knjigo
B51: obračunskih izmer
B52: Izkop gradbenega jarka za potrebe vgradnje cevi
B53: mora biti širine min. 0,90 m.
B55: m3 | C55: 43.54 | E55: =C55*D55 -> 0
A57: 2 | B57: Strojno rezanje obstoječega asfalta v širini 0,90m
B58: ter nakladanje in odvoz na začasno deponijo do 3km,
...

Sheet KANAL 1-2
B1: Kanal 1-2
A3: Št. | B3: Enota in opis dela | C3: količina | D3: cena/enoto v € | E3: cena skupaj v €
A4: 1.0 | B4: PREDDELA
A6: 1 | B6: Zavarovanje gradbišča med samo gradnjo z
B7: vso potrebno signalizacijo in varnostno zaščito
B8: za katero mora izvajalec gradbenih del izdelati
B9: poseben elaborat za potrebe organizacije gradbišča.
B10: V elaboratu morajo biti zajeti vsi posegi v smislu
B11: zagotavljenja varnosti pri gradbenem delu.
B12: Dela naj se opravijo v skladu s pogoji upravljalecev
B13: ceste.
B15: kos | C15: 1 | E15: =C15*D15 -> 0
A17: 2 | B17: Zakoličba, trasna in višinska
B18: navezava količkov in zavarovanje
B20: m | C20: 32.62 | E20: =C20*D20 -> 0
A22: 3 | B22: Postavitev in zavarovanje prečnih profilov
B24: kos | C24: 2 | E24: =C24*D24 -> 0
A26: 4 | B26: Označba in zavarovanje obstoječih
B27: komunalnih vodov. Obračun se izvrši
B28: po količinah vpisanih v knjigo obračunskih
B29: izmer
B31: pav | C31: 1 | E31: =C31*D31 -> 0
A33: 5 | B33: Sondažni izkopi za ugotovitev in preverjanje
B34: obstoječih komunalnih vodov.
B35: Obračun se izvrši po količinah vpisanih v
B36: knjigo obračunskih izmer
B38: pav | C38: 1 | E38: =C38*D38 -> 0
B41: PREDDELA SKUPAJ | E41: =E38+E31+E24+E20+E15 -> 0
A45: Št. | B45: Enota in opis dela | C45: količina | D45: cena/enoto v € | E45: cena skupaj v €
A46: 2.0 | B46: ZEMELJSKA DELA
A48: 1 | B48: Strojni izkop gradbenega jarka v lahki zemljini
B49: (III.kategorija) z nakladanjem in odvozom na
B50: začasno deponijo do 3 km.
B51: Obračun se izvrši po količinah vpisanih v knjigo
B52: obračunskih izmer
B53: Izkop gradbenega jarka za potrebe vgradnje cevi
B54: mora biti širine min. 0,90 m.
B56: m3 | C56: 45.8 | E56: =C56*D56 -> 0
A58: 2 | B58: Strojno rezanje obstoječega asfalta v širini 0,90m
B59: ter nakladanje in odvoz na začasno deponijo do 3km,
...

Sheet KANAL 1-5
B1: Kanal 1-5
A3: Št. | B3: Enota in opis dela | C3: količina | D3: cena/enoto v € | E3: cena skupaj v €
A4: 1.0 | B4: PREDDELA
A6: 1 | B6: Zavarovanje gradbišča med samo gradnjo z
B7: vso potrebno signalizacijo in varnostno zaščito
B8: za katero mora izvajalec gradbenih del izdelati
B9: poseben elaborat za potrebe organizacije gradbišča.
B10: V elaboratu morajo biti zajeti vsi posegi v smislu
B11: zagotavljenja varnosti pri gradbenem delu.
B12: Dela naj se opravijo v skladu s pogoji upravljalecev
B13: ceste.
B15: kos | C15: 1 | E15: =C15*D15 -> 0
A17: 2 | B17: Zakoličba, trasna in višinska
B18: navezava količkov in zavarovanje
B20: m | C20: 92.41 | E20: =C20*D20 -> 0
A22: 3 | B22: Postavitev in zavarovanje prečnih profilov
B24: kos | C24: =[3]List2!C3+[3]List2!C4+[3]List2!C6+[3]List2!C7+[3]List2!C5 -> 3 | E24: =C24*D24 -> 0
A26: 4 | B26: Označba in zavarovanje obstoječih
B27: komunalnih vodov. Obračun se izvrši
B28: po količinah vpisanih v knjigo obračunskih
B29: izmer
B31: pav | C31: 1 | E31: =C31*D31 -> 0
A33: 5 | B33: Sondažni izkopi za ugotovitev in preverjanje
B34: obstoječih komunalnih vodov.
B35: Obračun se izvrši po količinah vpisanih v
B36: knjigo obračunskih izmer
B38: pav | C38: 1 | E38: =C38*D38 -> 0
B41: PREDDELA SKUPAJ | E41: =E38+E31+E24+E20+E15 -> 0
A45: Št. | B45: Enota in opis dela | C45: količina | D45: cena/enoto v € | E45: cena skupaj v €
A46: 2.0 | B46: ZEMELJSKA DELA
A48: 1 | B48: Strojni izkop gradbenega jarka v lahki zemljini
B49: (III.kategorija) z nakladanjem in odvozom na
B50: začasno deponijo do 3 km.
B51: Obračun se izvrši po količinah vpisanih v knjigo
B52: obračunskih izmer
B53: Izkop gradbenega jarka za potrebe vgradnje cevi
B54: mora biti širine min. 0,90 m.
B56: m3 | C56: 130.99 | E56: =C56*D56 -> 0
A59: 2 | B59: Opaženje z razpiranjem bočnih strani
B60: gradbenega jarka pri izkopu 75 st.
...

Sheet KANAL 2-1
B1: Kanal 2-1
A3: Št. | B3: Enota in opis dela | C3: količina | D3: cena/enoto v € | E3: cena skupaj v €
A4: 1.0 | B4: PREDDELA
A6: 1 | B6: Zavarovanje gradbišča med samo gradnjo z
B7: vso potrebno signalizacijo in varnostno zaščito
B8: za katero mora izvajalec gradbenih del izdelati
B9: poseben elaborat za potrebe organizacije gradbišča.
B10: V elaboratu morajo biti zajeti vsi posegi v smislu
B11: zagotavljenja varnosti pri gradbenem delu.
B12: Dela naj se opravijo v skladu s pogoji upravljalecev
B13: ceste.
B15: kos | C15: 1 | E15: =C15*D15 -> 0
A17: 2 | B17: Zakoličba, trasna in višinska
B18: navezava količkov in zavarovanje
B20: m | C20: 71.3 | E20: =C20*D20 -> 0
A22: 3 | B22: Postavitev in zavarovanje prečnih profilov
B24: kos | C24: =[4]List2!C3+[4]List2!C4+[4]List2!C6+[4]List2!C7+[4]List2!C5 -> 3 | E24: =C24*D24 -> 0
A26: 4 | B26: Označba in zavarovanje obstoječih
B27: komunalnih vodov. Obračun se izvrši
B28: po količinah vpisanih v knjigo obračunskih
B29: izmer
B31: pav | C31: 1 | E31: =C31*D31 -> 0
A33: 5 | B33: Sondažni izkopi za ugotovitev in preverjanje
B34: obstoječih komunalnih vodov.
B35: Obračun se izvrši po količinah vpisanih v
B36: knjigo obračunskih izmer
B38: pav | C38: 1 | E38: =C38*D38 -> 0
B41: PREDDELA SKUPAJ | E41: =E38+E31+E24+E20+E15 -> 0
A57: Št. | B57: Enota in opis dela | C57: količina | D57: cena/enoto v € | E57: cena skupaj v €
A58: 2.0 | B58: ZEMELJSKA DELA
A60: 1 | B60: Strojni izkop gradbenega jarka v lahki zemljini
B61: (III.kategorija) z nakladanjem in odvozom na
B62: začasno deponijo do 3 km.
B63: Obračun se izvrši po količinah vpisanih v knjigo
B64: obračunskih izmer
B65: Izkop gradbenega jarka za potrebe vgradnje cevi
B66: mora biti širine min. 0,90 m.
B68: m3 | C68: 104.6 | E68: =C68*D68 -> 0
A70: 2 | B70: Strojno rezanje obstoječega asfalta v širini 0,90m
B71: ter nakladanje in odvoz na začasno deponijo do 3km,
...

Sheet KANAL 2-2
B1: Kanal 2-2
A3: Št. | B3: Enota in opis dela | C3: količina | D3: cena/enoto v € | E3: cena skupaj v €
A4: 1.0 | B4: PREDDELA
A6: 1 | B6: Zavarovanje gradbišča med samo gradnjo z
B7: vso potrebno signalizacijo in varnostno zaščito
B8: za katero mora izvajalec gradbenih del izdelati
B9: poseben elaborat za potrebe organizacije gradbišča.
B10: V elaboratu morajo biti zajeti vsi posegi v smislu
B11: zagotavljenja varnosti pri gradbenem delu.
B12: Dela naj se opravijo v skladu s pogoji upravljalecev
B13: ceste.
B15: kos | C15: 1 | E15: =C15*D15 -> 0
A17: 2 | B17: Zakoličba, trasna in višinska
B18: navezava količkov in zavarovanje
B20: m | C20: 58.26 | E20: =C20*D20 -> 0
A22: 3 | B22: Postavitev in zavarovanje prečnih profilov
B24: kos | C24: =[5]List2!C3+[5]List2!C4+[5]List2!C6+[5]List2!C7+[5]List2!C5 -> 3 | E24: =C24*D24 -> 0
A26: 4 | B26: Označba in zavarovanje obstoječih
B27: komunalnih vodov. Obračun se izvrši
B28: po količinah vpisanih v knjigo obračunskih
B29: izmer
B31: pav | C31: 1 | E31: =C31*D31 -> 0
A33: 5 | B33: Sondažni izkopi za ugotovitev in preverjanje
B34: obstoječih komunalnih vodov.
B35: Obračun se izvrši po količinah vpisanih v
B36: knjigo obračunskih izmer
B38: pav | C38: 1 | E38: =C38*D38 -> 0
B41: PREDDELA SKUPAJ | E41: =E38+E31+E24+E20+E15 -> 0
A57: Št. | B57: Enota in opis dela | C57: količina | D57: cena/enoto v € | E57: cena skupaj v €
A58: 2.0 | B58: ZEMELJSKA DELA
A60: 1 | B60: Strojni izkop gradbenega jarka v lahki zemljini
B61: (III.kategorija) z nakladanjem in odvozom na
B62: začasno deponijo do 3 km.
B63: Obračun se izvrši po količinah vpisanih v knjigo
B64: obračunskih izmer
B65: Izkop gradbenega jarka za potrebe vgradnje cevi
B66: mora biti širine min. 0,90 m.
B68: m3 | C68: 96.22 | E68: =C68*D68 -> 0
A70: 2 | B70: Strojno rezanje obstoječega asfalta v širini 0,90m
B71: ter nakladanje in odvoz na začasno deponijo do 3km,
...

Sheet KANAL 2-3
B1: Kanal 2-3
A3: Št. | B3: Enota in opis dela | C3: količina | D3: cena/enoto v € | E3: cena skupaj v €
A4: 1.0 | B4: PREDDELA
A6: 1 | B6: Zavarovanje gradbišča med samo gradnjo z
B7: vso potrebno signalizacijo in varnostno zaščito
B8: za katero mora izvajalec gradbenih del izdelati
B9: poseben elaborat za potrebe organizacije gradbišča.
B10: V elaboratu morajo biti zajeti vsi posegi v smislu
B11: zagotavljenja varnosti pri gradbenem delu.
B12: Dela naj se opravijo v skladu s pogoji upravljalecev
B13: ceste.
B15: kos | C15: 1 | E15: =C15*D15 -> 0
A17: 2 | B17: Zakoličba, trasna in višinska
B18: navezava količkov in zavarovanje
B20: m | C20: 49.39 | E20: =C20*D20 -> 0
A22: 3 | B22: Postavitev in zavarovanje prečnih profilov
B24: kos | C24: =[6]List2!C3+[6]List2!C4+[6]List2!C6+[6]List2!C7+[6]List2!C5 -> 2 | E24: =C24*D24 -> 0
A26: 4 | B26: Označba in zavarovanje obstoječih
B27: komunalnih vodov. Obračun se izvrši
B28: po količinah vpisanih v knjigo obračunskih
B29: izmer
B31: pav | C31: 1 | E31: =C31*D31 -> 0
A33: 5 | B33: Sondažni izkopi za ugotovitev in preverjanje
B34: obstoječih komunalnih vodov.
B35: Obračun se izvrši po količinah vpisanih v
B36: knjigo obračunskih izmer
B38: pav | C38: 1 | E38: =C38*D38 -> 0
B41: PREDDELA SKUPAJ | E41: =E38+E31+E24+E20+E15 -> 0
A44: Št. | B44: Enota in opis dela | C44: količina | D44: cena/enoto v € | E44: cena skupaj v €
A45: 2.0 | B45: ZEMELJSKA DELA
A47: 1 | B47: Strojni izkop gradbenega jarka v lahki zemljini
B48: (III.kategorija) z nakladanjem in odvozom na
B49: začasno deponijo do 3 km.
B50: Obračun se izvrši po količinah vpisanih v knjigo
B51: obračunskih izmer
B52: Izkop gradbenega jarka za potrebe vgradnje cevi
B53: mora biti širine min. 0,90 m.
B55: m3 | C55: 73.34 | E55: =C55*D55 -> 0
A58: 2 | B58: Strojni izkop v debelini cca 60 cm, zgornji ustroj cestišča,
B59: z nakladanjem in odvozom na deponijo do 3km, vključno
...

Sheet KANAL 2-4
B1: Kanal 2-4
A3: Št. | B3: Enota in opis dela | C3: količina | D3: cena/enoto v € | E3: cena skupaj v €
A4: 1.0 | B4: PREDDELA
A6: 1 | B6: Zavarovanje gradbišča med samo gradnjo z
B7: vso potrebno signalizacijo in varnostno zaščito
B8: za katero mora izvajalec gradbenih del izdelati
B9: poseben elaborat za potrebe organizacije gradbišča.
B10: V elaboratu morajo biti zajeti vsi posegi v smislu
B11: zagotavljenja varnosti pri gradbenem delu.
B12: Dela naj se opravijo v skladu s pogoji upravljalecev
B13: ceste.
B15: kos | C15: 1 | E15: =C15*D15 -> 0
A17: 2 | B17: Zakoličba, trasna in višinska
B18: navezava količkov in zavarovanje
B20: m | C20: 58.5 | E20: =C20*D20 -> 0
A22: 3 | B22: Postavitev in zavarovanje prečnih profilov
B24: kos | C24: =[7]List2!C3+[7]List2!C4+[7]List2!C6+[7]List2!C7+[7]List2!C5 -> 3 | E24: =C24*D24 -> 0
A26: 4 | B26: Označba in zavarovanje obstoječih
B27: komunalnih vodov. Obračun se izvrši
B28: po količinah vpisanih v knjigo obračunskih
B29: izmer
B31: pav | C31: 1 | E31: =C31*D31 -> 0
A33: 5 | B33: Sondažni izkopi za ugotovitev in preverjanje
B34: obstoječih komunalnih vodov.
B35: Obračun se izvrši po količinah vpisanih v
B36: knjigo obračunskih izmer
B38: pav | C38: 1 | E38: =C38*D38 -> 0
B41: PREDDELA SKUPAJ | E41: =E38+E31+E24+E20+E15 -> 0
A57: Št. | B57: Enota in opis dela | C57: količina | D57: cena/enoto v € | E57: cena skupaj v €
A58: 2.0 | B58: ZEMELJSKA DELA
A60: 1 | B60: Strojni izkop gradbenega jarka v lahki zemljini
B61: (III.kategorija) z nakladanjem in odvozom na
B62: začasno deponijo do 3 km.
B63: Obračun se izvrši po količinah vpisanih v knjigo
B64: obračunskih izmer
B65: Izkop gradbenega jarka za potrebe vgradnje cevi
B66: mora biti širine min. 0,90 m.
B68: m3 | C68: 93.72 | E68: =C68*D68 -> 0
A70: 2 | B70: Strojno rezanje obstoječega asfalta v širini 0,90m
B71: ter nakladanje in odvoz na začasno deponijo do 3km,
...

Sheet KANAL 3-0
B1: Kanal 3-0
A3: Št. | B3: Enota in opis dela | C3: količina | D3: cena/enoto v € | E3: cena skupaj v €
A4: 1.0 | B4: PREDDELA
A6: 1 | B6: Zavarovanje gradbišča med samo gradnjo z
B7: vso potrebno signalizacijo in varnostno zaščito
B8: za katero mora izvajalec gradbenih del izdelati
B9: poseben elaborat za potrebe organizacije gradbišča.
B10: V elaboratu morajo biti zajeti vsi posegi v smislu
B11: zagotavljenja varnosti pri gradbenem delu.
B12: Dela naj se opravijo v skladu s pogoji upravljalecev
B13: ceste.
B15: kos | C15: 1 | E15: =C15*D15 -> 0
A17: 2 | B17: Zakoličba, trasna in višinska
B18: navezava količkov in zavarovanje
B20: m | C20: 279.93 | E20: =C20*D20 -> 0
A22: 3 | B22: Postavitev in zavarovanje prečnih profilov
B24: kos | C24: 10 | E24: =C24*D24 -> 0
A26: 4 | B26: Označba in zavarovanje obstoječih
B27: komunalnih vodov. Obračun se izvrši
B28: po količinah vpisanih v knjigo obračunskih
B29: izmer
B31: pav | C31: 1 | E31: =C31*D31 -> 0
A33: 5 | B33: Sondažni izkopi za ugotovitev in preverjanje
B34: obstoječih komunalnih vodov.
B35: Obračun se izvrši po količinah vpisanih v
B36: knjigo obračunskih izmer
B38: pav | C38: 1 | E38: =C38*D38 -> 0
B41: PREDDELA SKUPAJ | E41: =E38+E31+E24+E20+E15 -> 0
A44: Št. | B44: Enota in opis dela | C44: količina | D44: cena/enoto v € | E44: cena skupaj v €
A45: 2.0 | B45: ZEMELJSKA DELA
A47: 1 | B47: Strojni izkop gradbenega jarka v lahki zemljini
B48: (III.kategorija) z nakladanjem in odvozom na
B49: začasno deponijo do 3 km.
B50: Obračun se izvrši po količinah vpisanih v knjigo
B51: obračunskih izmer
B52: Izkop gradbenega jarka za potrebe vgradnje cevi
B53: mora biti širine min. 0,90 m.
B55: m3 | C55: 427.03 | E55: =C55*D55 -> 0
A57: 2 | B57: Strojno rezanje obstoječega asfalta v širini 0,90m
B58: ter nakladanje in odvoz na začasno deponijo do 3km,
...

Sheet KANAL 3-2
B1: Kanal 3-2
A3: Št. | B3: Enota in opis dela | C3: količina | D3: cena/enoto v € | E3: cena skupaj v €
A4: 1.0 | B4: PREDDELA
A6: 1 | B6: Zavarovanje gradbišča med samo gradnjo z
B7: vso potrebno signalizacijo in varnostno zaščito
B8: za katero mora izvajalec gradbenih del izdelati
B9: poseben elaborat za potrebe organizacije gradbišča.
B10: V elaboratu morajo biti zajeti vsi posegi v smislu
B11: zagotavljenja varnosti pri gradbenem delu.
B12: Dela naj se opravijo v skladu s pogoji upravljalecev
B13: ceste.
B15: kos | C15: 1 | E15: =C15*D15 -> 0
A17: 2 | B17: Zakoličba, trasna in višinska
B18: navezava količkov in zavarovanje
B20: m | C20: 51.05 | E20: =C20*D20 -> 0
A22: 3 | B22: Postavitev in zavarovanje prečnih profilov
B24: kos | C24: =[9]List2!C3+[9]List2!C4+[9]List2!C6+[9]List2!C7+[9]List2!C5 -> 2 | E24: =C24*D24 -> 0
A26: 4 | B26: Označba in zavarovanje obstoječih
B27: komunalnih vodov. Obračun se izvrši
B28: po količinah vpisanih v knjigo obračunskih
B29: izmer
B31: pav | C31: 1 | E31: =C31*D31 -> 0
A33: 5 | B33: Sondažni izkopi za ugotovitev in preverjanje
B34: obstoječih komunalnih vodov.
B35: Obračun se izvrši po količinah vpisanih v
B36: knjigo obračunskih izmer
B38: pav | C38: 1 | E38: =C38*D38 -> 0
B41: PREDDELA SKUPAJ | E41: =E38+E31+E24+E20+E15 -> 0
A44: Št. | B44: Enota in opis dela | C44: količina | D44: cena/enoto v € | E44: cena skupaj v €
A45: 2.0 | B45: ZEMELJSKA DELA
A47: 1 | B47: Strojni izkop gradbenega jarka v lahki zemljini
B48: (III.kategorija) z nakladanjem in odvozom na
B49: začasno deponijo do 3 km.
B50: Obračun se izvrši po količinah vpisanih v knjigo
B51: obračunskih izmer
B52: Izkop gradbenega jarka za potrebe vgradnje cevi
B53: mora biti širine min. 0,90 m.
B55: m3 | C55: 56.05 | E55: =C55*D55 -> 0
A57: 2 | B57: Strojno rezanje obstoječega asfalta v širini 0,90m
B58: ter nakladanje in odvoz na začasno deponijo do 3km,
...

Sheet cestna rasvetljava
A1: Objekt: Kanalizacijsko omrežje na Pušči - faza 3
A4: Popis del za cestno razsvetljavo
A6: A. GRADBENA PRIPRAVLJALNA IN KONČNA DELA
A7: Poz | B7: Popis za dobavo in montažo | C7: Količina | D7: Enota | E7: Cena/enoto | F7: Skupna cena
A8: 1 | B8: Uradna zakoličba trase kablovoda | C8: 150 | D8: m | F8: =C8*E8 -> 0
A9: =A8+1 -> 2 | B9: zavarovanje kabelskega jarka po celotni dolžini trase | C9: 150 | D9: m | F9: =C9*E9 -> 0
A10: =A9+1 -> 3 | B10: zavarovanje uvozov in peš prehodov | C10: 15 | D10: m | F10: =C10*E10 -> 0
A11: =A10+1 -> 4 | B11: prisotnost upravljalca elektroenergetskega omrežja ob delih v bližini NN zemeljskega omrežja | C11: 1 | D11: kom | F11: =C11*E11 -> 0
A12: =A11+1 -> 5 | B12: prisotnost upravljalca TK omrežja ob delih v bližini TK vodov (Telekom Slovenije | C12: 1 | D12: kom | F12: =C12*E12 -> 0
A13: =A12+1 -> 6 | B13: prisotnost upravljalca vodovodnega in kanalizacijskega omrežja na gradbišču | C13: 1 | D13: kom | F13: =C13*E13 -> 0
A14: =A13+1 -> 7 | B14: ostala drobna pripravljalna dela | C14: 1 | D14: kom | F14: =C14*E14 -> 0
A15: SKUPAJ PRIPRAVLJALNA DELA | E15: =SUM(F8:F14) -> 0
A22: B. GRADBENA DELA
A23: Poz | B23: Popis za dobavo in montažo | C23: Količina | D23: Enota | E23: Cena/enoto | F23: Skupna cena
A24: 1 | B24: Ročni in strojni izkop kabelskega jarka (40% -60%) v zemljišču III. kategorije dimenzij 0,4 x 0,8m | C24: 150 | D24: m | F24: =C24*E24 -> 0
A25: =A24+1 -> 2 | B25: dobava in polaganje plastične zaščitne cevi za kabel, tip PC-E/110mm na betonsko podlago (pod dovozi) | C25: 15 | D25: m | F25: =C25*E25 -> 0
A26: =A25+1 -> 3 | B26: dobava in polaganje plastične rebraste zaščitne cevi za kabel tip RCD Φ75mm | C26: 180 | D26: m | F26: =C26*E26 -> 0
A27: =A26+1 -> 4 | B27: dobava in polaganje opozorilnega traku | C27: 180 | D27: m | F27: =C27*E27 -> 0
A28: =A27+1 -> 5 | B28: Ročni in strojni (40% -60%) zasip kabelskega jarka v zemljišču III. kategorije dimenzij 0,4 x 0,8m. | C28: 150 | D28: m | F28: =C28*E28 -> 0
A29: =A28+1 -> 6 | B29: dobava in postavitev tipskega montažnega betonskega temelja, dimenzij 1x0,5x0,5m, komplet z izkopom, zasipom, utrjevanjem in planiranjem | C29: 6 | D29: kom | F29: =C29*E29 -> 0
A30: =A29+1 -> 7 | B30: dobava in montaža tipskega, vročepocinkanega koničnega kandelabra z vgreznjenimi vrati, debelina cinka je minimalno 100m višine h=5m, zgornjega zunanjega premera =60 mm, s sidrno ploščo za pritrditev na montažni betonski temelj | C30: 6 | D30: kom | F30: =C30*E30 -> 0
A31: =A30+1 -> 8 | B31: dodatna antikorozijska zaščita dela droga in vijakov v zemlji z bitumenskim premazom | C31: 6 | D31: kom | F31: =C31*E31 -> 0
A32: =A31+1 -> 9 | B32: ostala drobna gradbena dela | C32: 1 | D32: kom | F32: =C32*E32 -> 0
A33: SKUPAJ GRADBENA DELA | E33: =SUM(F24:F32) -> 0
A38: C. MONTAŽNA DELA
A39: Poz | B39: Popis za dobavo in montažo | C39: Količina | D39: Enota | E39: Cena/enoto | F39: Skupna cena
A40: 1 | B40: dobava in polaganje energetskega kabla z ojačano izolacijo -NAYY-J 4x16+2,5 mm2 položen v zaščitno cev RDC 75 mm v zemlji 0.8 m globoko, pri prečkanju ceste pod asfaltiranimi površinami pa v PC-E110mm ceveh na betonski podlagi. | C40: 200 | D40: m | F40: =C40*E40 -> 0
A41: =A40+1 -> 2 | B41: izdelava kabelskih končnikov in priključitev kablov | C41: 12 | D41: kom | F41: =C41*E41 -> 0
A42: =A41+1 -> 3 | B42: Dobava svetilke, skupne moči sistema do 35 W LED, z nastavljivim nosilcem in redukcijo ter naslednjimi karakteristikami oz. zahtevami (dopušča se odstopanje od skupne moči sistema 35 W, pri čemer naj bo svetilna učinkovitost min 77 lm/W): • napajalna napetost svetilke 230 V AC • svetlobni tok: min. 2.695 lm • življenjska doba: min. 60.000 ur • temperatura barve: do 4200 K • stopnja zaščite svetilke: IP66 • temperaturno območje delovanja: -30 °C do +60 °C • delovna temperatura: do +55 °C • zaščitni razred: class I ali II • ohišje svetilke: aluminijeva zlitina • barva ohišja: RAL 9006 • redukcija moči min. 50 % • montaža: možnost nastavitve kot svetilke od min. -15 °do min. + 15 ° • ULOR=0° (kot npr. LSL 30 Grah ali Siteco SL 20 ali druga enakovredna) | C42: 6 | D42: kom | F42: =C42*E42 -> 0
A43: =A42+1 -> 4 | B43: instalacija (ožičenje) kandelabrov (h=5m) in sicer od priključne omarice v svetilki do same svetilke s kablom NYY-J 3x1,5 mm2, kompletno z priključnim setom Stanovnik PVE-5/16 in vtičnico na višini 4,5m | C43: 6 | D43: kom | F43: =C43*E43 -> 0
A44: =A43+1 -> 5 | B44: dobava in polaganje pocinkanega jeklenega traku, FeZn 25x4 mm, komplet z vsem spojnim materialom, ter spojitvijo s kandelabri, položen v zemljo nad napajalnim kablom, pri prečkanju ceste pod asfaltiranimi površinami pa nad cevjo v kateri je napajalni kabel. | C44: 180 | D44: m | F44: =C44*E44 -> 0
A45: =A44+1 -> 6 | B45: Izvedba priključitve nove veje JR na obstoječi drog NN omrežja opremljenega s kablom JR SKS 2x16mm2, vključno z odvodniki, sponkami, ozemljitvenim vodom in vertikalno zaščito odvoda | C45: 1 | D45: kom | F45: =C45*E45 -> 0
A46: =A45+1 -> 7 | B46: drobni montažni material in pripadajoča dela | C46: 1 | D46: kom | F46: =C46*E46 -> 0
A47: SKUPAJ MONTAŽNA DELA | E47: =SUM(F40:F46) -> 0
A53: D. ZAKLJUČNA DELA
A54: Poz | B54: Popis za dobavo in montažo | C54: Količina | D54: Enota | E54: Cena/enoto | F54: Skupna cena
A55: 1 | B55: snemanje trase kablovoda in lokacij svetilk ter vris objektov v kataster | C55: 150 | D55: m | F55: =C55*E55 -> 0
A56: =A55+1 -> 2 | B56: kontrolne meritve električnih parametrov kablovoda, ozemljitvene upornosti na vsakem kandelabru, osvetljenosti vzdolž celotne trase | C56: 1 | D56: kom | F56: =C56*E56 -> 0
A57: =A56+1 -> 3 | B57: ostalo: -funkcionalni preizkus JR -priprava tehnične dokumentacije -pridobitev izjav o izpolnjenih pogojih iz soglasij -nadzor nad gradnjo -sodelovanje nadzornika na tehničnem pregledu | C57: 1 | D57: kom | F57: =C57*E57 -> 0
A58: =A57+1 -> 4 | B58: Izdelava PID projektne dokumentacije | C58: 1 | D58: kom | F58: =C58*E58 -> 0
...

Sheet cesta
B7: Investitor/Naročnik:
B8: MESTNA OBČINA MURSKA SOBOTA KARDOŠEVA 2, M. SOBOTA
B9: Objekt: KANALIZACIJSKO OMREŽJE NA Pušči - faza 3
B10: Popis del za cesto
B14: REKAPITULACIJA CESTA
D19: količine | E19: cena na enoto | F19: skupaj
A20: I. | B20: PRIPRAVLJALNA IN ZAKLJUČNA DELA | F20: =F72 -> 0
A22: II. | B22: SPODNJI/ZGORNJI USTROJ | F22: =F122 -> 0
B25: SKUPAJ : | F25: =F20+F22 -> 0
B27: POPUST ( v % ) | F27: =F25*C27/100 -> 0
B28: SKUPAJ S POPUSTOM | F28: =F25-F27 -> 0
B29: DDV 22 % | F29: =F28*22/100 -> 0
B30: SKUPAJ Z DDV | F30: =F28+F29 -> 0
A37: I. | B37: PRIPRAVLJALNA IN ZAKLJUČNA DELA
A39: 1. | B39: Zavarovanje celotnega gradbišča v času gradnje s postavitvijo prometnih znakov in zapor ter dodatek zaradi gradnje pod prometom
C40: pavšal | D40: 1 | F40: =E40*D40 -> 0
A42: 2. | B42: Zakoličba osi trase ceste
C43: pavšal | D43: 1 | F43: =E43*D43 -> 0
B45: PROMETNA OPREMA
A46: 3. | B46: Dobava in montaža prometnih znakov dim. 30 x 30 cm z odsevno folijo 1. vrste z izkopom, betoniranjem temelja v bet. cev fi 30 cm, stebričkom in pritrdilnim materialom.
B47: stebriček fi 64mm, l=3650mm | C47: kom | D47: 1 | F47: =E47*D47 -> 0
B48: znak 2102 | C48: kom | D48: 1 | F48: =E48*D48 -> 0
B50: OZNAČBE NA VOZIŠČU
A51: 4. | B51: Izdelava vzdolžne debeloslojne črte z večkomponentno hladno plastiko z vibracijskim učinkom z enokomponentno barvo.
B52: 5111 - bela barva širine 15cm | C52: m1 | D52: 148 | F52: =E52*D52 -> 0
A54: 5. | B54: Izdelava debeloslojne označbe z večkomponentno hladno plastiko z enokomponentno barvo.
B55: 5234 - modra barva | C55: m2 | D55: 178 | F55: =E55*D55 -> 0
B57: NADZOR:
A58: 6. | B58: Projektantski nadzor
B59: - ocenjeno | C59: ur | D59: 8 | F59: =E59*D59 -> 0
A61: 7. | B61: Geomehanski nadzor
B62: - ocenjeno | C62: ur | D62: 4 | F62: =E62*D62 -> 0
A64: 8. | B64: Naprava geodetskega posnetka in projekta izvedenih del
B65: geodetski posnetek | C65: kom | D65: 1 | F65: =E65*D65 -> 0
B66: PID-gradbena dela | C66: kom | D66: 1 | F66: =E66*D66 -> 0
A68: 9. | B68: Razna nepredvidena dela se po vpisu v gradbeni dnevnik in potrjeno s strani nadzornega organa, obračun po dejanskih stroških, največ do 3 %
C69: 0.03 | D69: 0.03 | E69: =SUM(F39:F68) -> 0 | F69: =E69*D69 -> 0
B72: SKUPAJ PRIPRAVLJALNA DELA | F72: =SUM(F39:F69) -> 0
A74: ll | B74: SPODNJI / ZGORNJI USTROJ
B76: NOSILNE PLASTI:
...
