Workbook

Sheet REKAPITULACIJA _ SKUPNA
A1: Investitor/Naročnik: Mestna občina Murska Sobota
A3: Objekt: | B3: KANALIZACIJSKO OMREŽJE NA PUŠČI - FAZA 3
B7: REKAPITULACIJA SKUPNA
A10: 1. | B10: KANALIZACIJSKO OMREŽJE | E10: ='REKAPITULACIJA _ KAN'!D25 -> 0
A11: 2. | B11: CESTA | E11: =cesta!F30 -> 0
A12: 3. | B12: CESTNA RASVETJAVA | E12: ='cestna rasvetljava'!F79 -> 0
B13: SKUPAJ | E13: =E10+E11+E12 -> 0
A19: OPOZORILO: Dokument lahko vsebuje matematične napake. Pred oddajo ponudbe je potrebno preveriti točnost izračunov in povezav med celicami.
A20: V primeru odkritja teh napak je ponudnik dolžan oddati pravilen izračun in o tem obvestiti naročnika.

Sheet REKAPITULACIJA _ KAN
A2: Investitor/Naročnik: Mestna občina Murska Sobota
A4: Objekt: | B4: KANALIZACIJSKO OMREŽJE NA PUŠČI - FAZA 3
A6: Popis del za kanalizacijsko omrežje
B8: REKAPITULACIJA STROŠKOV
A11: K | B11: 1-0 | C11: (del) | D11: ='KANAL 1-0'!E267 -> 0
A12: K | B12: 1_1 | D12: ='KANAL 1-1'!E234 -> 0
A13: K | B13: 1_2 | D13: ='KANAL 1-2'!E237 -> 0
A14: K | B14: 1_5 | D14: ='KANAL 1-5'!E202 -> 0
A15: K | B15: 2_1 | D15: ='KANAL 2-1'!E246 -> 0
A16: K | B16: 2_2 | D16: ='KANAL 2-2'!E246 -> 0
A17: K | B17: 2_3 | D17: ='KANAL 2-3'!E215 -> 0
A18: K | B18: 2_4 | D18: ='KANAL 2-4'!E247 -> 0
A19: K | B19: 3_0 | D19: ='KANAL 3-0'!E237 -> 0
A20: K | B20: 3_2 | D20: ='KANAL 3-2'!E230 -> 0
A23: SKUPAJ BREZ DDV: | D23: =D11+D12+D13+D14+D15+D16+D17+D18+D19+D20 -> 0
A24: POPUST (v % ): | D24: =D23*C24/100 -> 0
A25: SKUPAJ S POPUSTOM: | D25: =D23-D24 -> 0
A28: OPOMBA: Skladno s 76. a členom ZDDV-1 se upošteva mehanizem obrnjene davčne obveznosti.

Sheet KANAL 1-0
B3: Kanal 1-0 in T1.0
A6: Št. | B6: Enota in opis dela | C6: količina | D6: cena/enoto v € | E6: cena skupaj v €
A7: 1.0 | B7: PREDDELA
A9: 1 | B9: Zavarovanje gradbišča med samo gradnjo z
B10: vso potrebno signalizacijo in varnostno zaščito
B11: za katero mora izvajalec gradbenih del izdelati
B12: poseben elaborat za potrebe organizacije gradbišča.
B13: V elaboratu morajo biti zajeti vsi posegi v smislu
B14: zagotavljenja varnosti pri gradbenem delu.
B15: Dela naj se opravijo v skladu s pogoji upravljalecev
B16: ceste.
B18: kos | C18: 1 | E18: =C18*D18 -> 0
A20: 2 | B20: Zakoličba, trasna in višinska
B21: navezava količkov in zavarovanje
B23: m | C23: 93.42 | E23: =C23*D23 -> 0
A25: 3 | B25: Postavitev in zavarovanje prečnih profilov
B27: kos | C27: 3 | E27: =C27*D27 -> 0
A29: 4 | B29: Označba in zavarovanje obstoječih
B30: komunalnih vodov. Obračun se izvrši
B31: po količinah vpisanih v knjigo obračunskih
B32: izmer
B34: pav | C34: 1 | E34: =C34*D34 -> 0
A36: 5 | B36: Sondažni izkopi za ugotovitev in preverjanje
B37: obstoječih komunalnih vodov.
B38: Obračun se izvrši po količinah vpisanih v
B39: knjigo obračunskih izmer
B41: pav | C41: 1 | E41: =C41*D41 -> 0
B44: PREDDELA SKUPAJ | E44: =E41+E34+E27+E23+E18 -> 0
A47: Št. | B47: Enota in opis dela | C47: količina | D47: cena/enoto v € | E47: cena skupaj v €
A48: 2.0 | B48: ZEMELJSKA DELA
A50: 1 | B50: Strojni izkop gradbenega jarka v lahki zemljini
B51: (III.kategorija) z nakladanjem in odvozom na
B52: začasno deponijo do 3 km.
B53: Obračun se izvrši po količinah vpisanih v knjigo
B54: obračunskih izmer
B55: Izkop gradbenega jarka za potrebe vgradnje cevi
B56: mora biti širine min. 0,90 m.
B58: m3 | C58: 165.21 | E58: =C58*D58 -> 0
A60: 2 | B60: Strojno rezanje obstoječega asfalta v širini 0,90m
B61: ter nakladanje in odvoz na začasno deponijo do 3km,
B62: vključno z vsemi dodatnimi in pomožnimi deli
B63: Obračun se izvrši po količinah vpisanih v knjigo
B64: obračunskih izmer
B66: m1 | C66: 5 | E66: =C66*D66 -> 0
A68: 4 | B68: Dovoz, zasip in utrjevanje gramoza za zgornji ustroj cestišča
B69: v debelini cca 60 cm, komprimiranje se naj vrši do ustrezne zbitosti
B70: Obračun se izvrši po količinah vpisanih v knjigo
B71: obračunskih izmer
B73: m3 | C73: 2.7 | E73: =C73*D73 -> 0
A75: 5 | B75: Dobava, dovoz in vgradnja dvoslojnega asfalta, v izvedbi BNOP 0/22
B76: deb. 5 cm in AB 0/8 deb. 3 cm in povrnitev v prejšnje stanje.
B77: Obračun se izvrši po količinah vpisanih v knjigo
B78: obračunskih izmer
B80: m2 | C80: 5 | E80: =C80*D80 -> 0
A82: 6 | B82: Opaženje z razpiranjem bočnih strani
B83: gradbenega jarka pri izkopu 75 st.
B84: Obračun se izvrši po količinah vpisanih v knjigo
B85: obračunskih izmer
B87: m2 | C87: 367.14 | E87: =C87*D87 -> 0
A89: 7 | B89: Ročno planiranje in strojno utrjevanje dna
B90: gradbenega jarka s komprimiranjem do
B91: zbitosti 95 % SPP
B93: m2 | C93: 84.08 | E93: =C93*D93 -> 0
A96: 8 | B96: Dobava in vgraditev peščenega materiala
B97: za peščeno posteljico (0-4 mm)
B98: s komprimacijo do zbitosti 95 % SPP
B99: Obračun se izvrši po količinah vpisanih v knjigo
B100: obračunskih izmer
B102: m3 | C102: 29.05 | E102: =C102*D102 -> 0
A104: 9 | B104: Zasip cevi v coni cevovoda v plasteh 20-30 cm
B105: z materialom granulacije 0-16 mm, ter strojno
B106: komprimacijo do zbitosti 95 % SPP z lahkim
B107: komprimacijskim sredstvom.
B108: Obračun se izvrši po količinah vpisanih v knjigo
B109: obračunskih izmer
B111: m3 | C111: 50.45 | E111: =C111*D111 -> 0
A113: 11 | B113: Strojno nakladanje izkopanega materiala
B114: na kamion in odvoz na trajno deponijo vključno
B115: s stroški deponije.
B116: Obračun se izvrši po količinah vpisanih v knjigo
B117: obračunskih izmer
B119: m3 | C119: =C111+C102+C73 -> 82.2 | E119: =C119*D119 -> 0
B121: Vse geomehanske preiskave nosilnosti zemeljskih tal
B122: in zasipa gradbene jame morajo biti vključene v
B123: ponudbeno ceno za izkope in zasipe gradbenih jam.
B124: Preiskave so določene na osnovi predpisov za
B125: izvajanje takšnih zemeljskih del.
B127: ZEMELJSKA DELA SKUPAJ | E127: =E119+E111+E102+E93+E87+E80+E73+E66+E58 -> 0
A131: Št. | B131: Enota in opis dela | C131: količina | D131: cena/enoto v € | E131: cena skupaj v €
A132: 3.0 | B132: KANALIZACIJA
A136: 1 | B136: Dobava in montaža rebraste kanalizacijske
B137: cevi PP DN 250-SIST EN 13476-1 SN 16,
B138: vgrajene na peščeno posteljico.
B140: m | C140: 94 | E140: =C140*D140 -> 0
A142: 2 | B142: Dobava in montaža tlačne kanalizacijske cevi
B143: PE 100 d110-SDR 17 SIST ISO 4427
B144: vgrajene na peščeno posteljico, vključno z navezavami na jaške
B146: m | C146: 0 | E146: =C146*D146 -> 0
A149: 3 | B149: Dobava in vgradnja čistilnega jaška
B150: DN 100 TIP B iz PE SIST EN 13598-1
...

Sheet KANAL 1-1
B1: Kanal 1-1
A3: Št. | B3: Enota in opis dela | C3: količina | D3: cena/enoto v € | E3: cena skupaj v €
A4: 1.0 | B4: PREDDELA
A6: 1 | B6: Zavarovanje gradbišča med samo gradnjo z
B7: vso potrebno signalizacijo in varnostno zaščito
B8: za katero mora izvajalec gradbenih del izdelati
B9: poseben elaborat za potrebe organizacije gradbišča.
B10: V elaboratu morajo biti zajeti vsi posegi v smislu
B11: zagotavljenja varnosti pri gradbenem delu.
B12: Dela naj se opravijo v skladu s pogoji upravljalecev
B13: ceste.
B15: kos | C15: 1 | E15: =C15*D15 -> 0
A17: 2 | B17: Zakoličba, trasna in višinska
B18: navezava količkov in zavarovanje
B20: m | C20: 32.25 | E20: =C20*D20 -> 0
A22: 3 | B22: Postavitev in zavarovanje prečnih profilov
B24: kos | C24: 2 | E24: =C24*D24 -> 0
A26: 4 | B26: Označba in zavarovanje obstoječih
B27: komunalnih vodov. Obračun se izvrši
B28: po količinah vpisanih v knjigo obračunskih
B29: izmer
B31: pav | C31: 1 | E31: =C31*D31 -> 0
A33: 5 | B33: Sondažni izkopi za ugotovitev in preverjanje
B34: obstoječih komunalnih vodov.
B35: Obračun se izvrši po količinah vpisanih v
B36: knjigo obračunskih izmer
B38: pav | C38: 1 | E38: =C38*D38 -> 0
B41: PREDDELA SKUPAJ | E41: =E38+E31+E24+E20+E15 -> 0
A44: Št. | B44: Enota in opis dela | C44: količina | D44: cena/enoto v € | E44: cena skupaj v €
A45: 2.0 | B45: ZEMELJSKA DELA
A47: 1 | B47: Strojni izkop gradbenega jarka v lahki zemljini
B48: (III.kategorija) z nakladanjem in odvozom na
B49: začasno deponijo do 3 km.
B50: Obračun se izvrši po količinah vpisanih v knjigo
B51: obračunskih izmer
B52: Izkop gradbenega jarka za potrebe vgradnje cevi
B53: mora biti širine min. 0,90 m.
B55: m3 | C55: 43.54 | E55: =C55*D55 -> 0
A57: 2 | B57: Strojno rezanje obstoječega asfalta v širini 0,90m
B58: ter nakladanje in odvoz na začasno deponijo do 3km,
B59: vključno z vsemi dodatnimi in pomožnimi deli
B60: Obračun se izvrši po količinah vpisanih v knjigo
B61: obračunskih izmer
B63: m1 | C63: =1*[1]List2!C17 -> 1.8 | E63: =C63*D63 -> 0
A65: 3 | B65: Strojni izkop v debelini cca 60 cm, zgornji ustroj cestišča,
B66: z nakladanjem in odvozom na deponijo do 3km, vključno
B67: z vsemi dodatnimi in pomožnimi deli
B68: Obračun se izvrši po količinah vpisanih v knjigo
B69: obračunskih izmer
B70: m3 | C70: =1.2*[1]List2!C18*0.6 -> 1.296 | E70: =C70*D70 -> 0
A72: 4 | B72: Dovoz, zasip in utrjevanje gramoza za zgornji ustroj cestišča
B73: v debelini cca 60 cm, komprimiranje se naj vrši do ustrezne zbitosti
B74: Obračun se izvrši po količinah vpisanih v knjigo
B75: obračunskih izmer
B77: m3 | C77: =0.6*1.2*[1]List2!C18 -> 1.296 | E77: =C77*D77 -> 0
A79: 5 | B79: Dobava, dovoz in vgradnja dvoslojnega asfalta, v izvedbi BNOP 0/22
B80: deb. 5 cm in AB 0/8 deb. 3 cm in povrnitev v prejšnje stanje.
B82: Obračun se izvrši po količinah vpisanih v knjigo
B83: obračunskih izmer
B85: m2 | C85: =1.2*[1]List2!C17 -> 2.16 | E85: =C85*D85 -> 0
A87: 6 | B87: Opaženje z razpiranjem bočnih strani
B88: gradbenega jarka pri izkopu 75 st.
B89: Obračun se izvrši po količinah vpisanih v knjigo
B90: obračunskih izmer
B92: m2 | C92: 96.75 | E92: =C92*D92 -> 0
A94: 7 | B94: Ročno planiranje in strojno utrjevanje dna
B95: gradbenega jarka s komprimiranjem do
B96: zbitosti 95 % SPP
B98: m2 | C98: 29.03 | E98: =C98*D98 -> 0
A101: 8 | B101: Dobava in vgraditev peščenega materiala
B102: za peščeno posteljico (0-4 mm)
B103: s komprimacijo do zbitosti 95 % SPP
B104: Obračun se izvrši po količinah vpisanih v knjigo
B105: obračunskih izmer
B107: m3 | C107: 10.03 | E107: =C107*D107 -> 0
A109: 9 | B109: Zasip cevi v coni cevovoda v plasteh 20-30 cm
B110: z materialom granulacije 0-16 mm, ter strojno
B111: komprimacijo do zbitosti 95 % SPP z lahkim
B112: komprimacijskim sredstvom.
B113: Obračun se izvrši po količinah vpisanih v knjigo
B114: obračunskih izmer
B116: m3 | C116: 17.42 | E116: =C116*D116 -> 0
A118: 10 | B118: Zasip cevi nad cono cevovoda v plasteh
B119: 20-30 cm z izkopanim materialom iz začasne
B120: deponije s komprimacijo.
B121: Stopnja zbitosti je večja ali enaka
B122: zbitosti 95 % SPP.
B123: Obračun se izvrši po količinah vpisanih v knjigo
B124: obračunskih izmer
B126: m3 | C126: 14.51 | E126: =C126*D126 -> 0
A128: 11 | B128: Strojno nakladanje izkopanega materiala
B129: na kamion in odvoz na trajno deponijo vključno
B130: s stroški deponije.
B131: Obračun se izvrši po količinah vpisanih v knjigo
B132: obračunskih izmer
B134: m3 | C134: =C107+C116+C77 -> 28.746 | E134: =C134*D134 -> 0
A137: 12 | B137: Izčrpavanje vode-
B138: Obračun se izvrši po količinah vpisanih v
B139: knjigo obračunskih izmer
B141: pav | C141: 1 | E141: =C141*D141 -> 0
...

Sheet KANAL 1-2
B1: Kanal 1-2
A3: Št. | B3: Enota in opis dela | C3: količina | D3: cena/enoto v € | E3: cena skupaj v €
A4: 1.0 | B4: PREDDELA
A6: 1 | B6: Zavarovanje gradbišča med samo gradnjo z
B7: vso potrebno signalizacijo in varnostno zaščito
B8: za katero mora izvajalec gradbenih del izdelati
B9: poseben elaborat za potrebe organizacije gradbišča.
B10: V elaboratu morajo biti zajeti vsi posegi v smislu
B11: zagotavljenja varnosti pri gradbenem delu.
B12: Dela naj se opravijo v skladu s pogoji upravljalecev
B13: ceste.
B15: kos | C15: 1 | E15: =C15*D15 -> 0
A17: 2 | B17: Zakoličba, trasna in višinska
B18: navezava količkov in zavarovanje
B20: m | C20: 32.62 | E20: =C20*D20 -> 0
A22: 3 | B22: Postavitev in zavarovanje prečnih profilov
B24: kos | C24: 2 | E24: =C24*D24 -> 0
A26: 4 | B26: Označba in zavarovanje obstoječih
B27: komunalnih vodov. Obračun se izvrši
B28: po količinah vpisanih v knjigo obračunskih
B29: izmer
B31: pav | C31: 1 | E31: =C31*D31 -> 0
A33: 5 | B33: Sondažni izkopi za ugotovitev in preverjanje
B34: obstoječih komunalnih vodov.
B35: Obračun se izvrši po količinah vpisanih v
B36: knjigo obračunskih izmer
B38: pav | C38: 1 | E38: =C38*D38 -> 0
B41: PREDDELA SKUPAJ | E41: =E38+E31+E24+E20+E15 -> 0
A45: Št. | B45: Enota in opis dela | C45: količina | D45: cena/enoto v € | E45: cena skupaj v €
A46: 2.0 | B46: ZEMELJSKA DELA
A48: 1 | B48: Strojni izkop gradbenega jarka v lahki zemljini
B49: (III.kategorija) z nakladanjem in odvozom na
B50: začasno deponijo do 3 km.
B51: Obračun se izvrši po količinah vpisanih v knjigo
B52: obračunskih izmer
B53: Izkop gradbenega jarka za potrebe vgradnje cevi
B54: mora biti širine min. 0,90 m.
B56: m3 | C56: 45.8 | E56: =C56*D56 -> 0
A58: 2 | B58: Strojno rezanje obstoječega asfalta v širini 0,90m
B59: ter nakladanje in odvoz na začasno deponijo do 3km,
B60: vključno z vsemi dodatnimi in pomožnimi deli
B61: Obračun se izvrši po količinah vpisanih v knjigo
B62: obračunskih izmer
B64: m1 | C64: =1*[2]List2!C17 -> 1 | E64: =C64*D64 -> 0
A66: 3 | B66: Strojni izkop v debelini cca 60 cm, zgornji ustroj cestišča,
B67: z nakladanjem in odvozom na deponijo do 3km, vključno
B68: z vsemi dodatnimi in pomožnimi deli
B69: Obračun se izvrši po količinah vpisanih v knjigo
B70: obračunskih izmer
B71: m3 | C71: 0.54 | E71: =C71*D71 -> 0
A73: 4 | B73: Dovoz, zasip in utrjevanje gramoza za zgornji ustroj cestišča
B74: v debelini cca 60 cm, komprimiranje se naj vrši do ustrezne zbitosti
B75: Obračun se izvrši po količinah vpisanih v knjigo
B76: obračunskih izmer
B78: m3 | C78: 0.54 | E78: =C78*D78 -> 0
A80: 5 | B80: Dobava, dovoz in vgradnja dvoslojnega asfalta, v izvedbi BNOP 0/22
B81: deb. 5 cm in AB 0/8 deb. 3 cm in povrnitev v prejšnje stanje.
B83: Obračun se izvrši po količinah vpisanih v knjigo
B84: obračunskih izmer
B86: m2 | C86: =1.2*[2]List2!C17 -> 1.2 | E86: =C86*D86 -> 0
A88: 6 | B88: Opaženje z razpiranjem bočnih strani
B89: gradbenega jarka pri izkopu 75 st.
B90: Obračun se izvrši po količinah vpisanih v knjigo
B91: obračunskih izmer
B93: m2 | C93: 101.77 | E93: =C93*D93 -> 0
A95: 7 | B95: Ročno planiranje in strojno utrjevanje dna
B96: gradbenega jarka s komprimiranjem do
B97: zbitosti 95 % SPP
B99: m2 | C99: 29.36 | E99: =C99*D99 -> 0
A102: 8 | B102: Dobava in vgraditev peščenega materiala
B103: za peščeno posteljico (0-4 mm)
B104: s komprimacijo do zbitosti 95 % SPP
B105: Obračun se izvrši po količinah vpisanih v knjigo
B106: obračunskih izmer
B108: m3 | C108: 10.14 | E108: =C108*D108 -> 0
A110: 9 | B110: Zasip cevi v coni cevovoda v plasteh 20-30 cm
B111: z materialom granulacije 0-16 mm, ter strojno
B112: komprimacijo do zbitosti 95 % SPP z lahkim
B113: komprimacijskim sredstvom.
B114: Obračun se izvrši po količinah vpisanih v knjigo
B115: obračunskih izmer
B117: m3 | C117: 17.61 | E117: =C117*D117 -> 0
A119: 10 | B119: Zasip cevi nad cono cevovoda v plasteh
B120: 20-30 cm z izkopanim materialom iz začasne
B121: deponije s komprimacijo.
B122: Stopnja zbitosti je večja ali enaka
B123: zbitosti 95 % SPP.
B124: Obračun se izvrši po količinah vpisanih v knjigo
B125: obračunskih izmer
B127: m3 | C127: 16.44 | E127: =C127*D127 -> 0
A129: 11 | B129: Strojno nakladanje izkopanega materiala
B130: na kamion in odvoz na trajno deponijo vključno
B131: s stroški deponije.
B132: Obračun se izvrši po količinah vpisanih v knjigo
B133: obračunskih izmer
B135: m3 | C135: =C108+C117+C78 -> 28.29 | E135: =C135*D135 -> 0
A138: 12 | B138: Izčrpavanje vode-
B139: Obračun se izvrši po količinah vpisanih v
B140: knjigo obračunskih izmer
B142: pav | C142: 1 | E142: =C142*D142 -> 0
...

Sheet KANAL 1-5
B1: Kanal 1-5
A3: Št. | B3: Enota in opis dela | C3: količina | D3: cena/enoto v € | E3: cena skupaj v €
A4: 1.0 | B4: PREDDELA
A6: 1 | B6: Zavarovanje gradbišča med samo gradnjo z
B7: vso potrebno signalizacijo in varnostno zaščito
B8: za katero mora izvajalec gradbenih del izdelati
B9: poseben elaborat za potrebe organizacije gradbišča.
B10: V elaboratu morajo biti zajeti vsi posegi v smislu
B11: zagotavljenja varnosti pri gradbenem delu.
B12: Dela naj se opravijo v skladu s pogoji upravljalecev
B13: ceste.
B15: kos | C15: 1 | E15: =C15*D15 -> 0
A17: 2 | B17: Zakoličba, trasna in višinska
B18: navezava količkov in zavarovanje
B20: m | C20: 92.41 | E20: =C20*D20 -> 0
A22: 3 | B22: Postavitev in zavarovanje prečnih profilov
B24: kos | C24: =[3]List2!C3+[3]List2!C4+[3]List2!C6+[3]List2!C7+[3]List2!C5 -> 3 | E24: =C24*D24 -> 0
A26: 4 | B26: Označba in zavarovanje obstoječih
B27: komunalnih vodov. Obračun se izvrši
B28: po količinah vpisanih v knjigo obračunskih
B29: izmer
B31: pav | C31: 1 | E31: =C31*D31 -> 0
A33: 5 | B33: Sondažni izkopi za ugotovitev in preverjanje
B34: obstoječih komunalnih vodov.
B35: Obračun se izvrši po količinah vpisanih v
B36: knjigo obračunskih izmer
B38: pav | C38: 1 | E38: =C38*D38 -> 0
B41: PREDDELA SKUPAJ | E41: =E38+E31+E24+E20+E15 -> 0
A45: Št. | B45: Enota in opis dela | C45: količina | D45: cena/enoto v € | E45: cena skupaj v €
A46: 2.0 | B46: ZEMELJSKA DELA
A48: 1 | B48: Strojni izkop gradbenega jarka v lahki zemljini
B49: (III.kategorija) z nakladanjem in odvozom na
B50: začasno deponijo do 3 km.
B51: Obračun se izvrši po količinah vpisanih v knjigo
B52: obračunskih izmer
B53: Izkop gradbenega jarka za potrebe vgradnje cevi
B54: mora biti širine min. 0,90 m.
B56: m3 | C56: 130.99 | E56: =C56*D56 -> 0
A59: 2 | B59: Opaženje z razpiranjem bočnih strani
B60: gradbenega jarka pri izkopu 75 st.
B61: Obračun se izvrši po količinah vpisanih v knjigo
B62: obračunskih izmer
B64: m2 | C64: 291.09 | E64: =C64*D64 -> 0
A66: 3 | B66: Ročno planiranje in strojno utrjevanje dna
B67: gradbenega jarka s komprimiranjem do
B68: zbitosti 95 % SPP
B70: m2 | C70: 83.17 | E70: =C70*D70 -> 0
A72: 4 | B72: Dobava in vgraditev peščenega materiala
B73: za peščeno posteljico (0-4 mm)
B74: s komprimacijo do zbitosti 95 % SPP
B75: Obračun se izvrši po količinah vpisanih v knjigo
B76: obračunskih izmer
B78: m3 | C78: 28.73 | E78: =C78*D78 -> 0
A80: 5 | B80: Zasip cevi v coni cevovoda v plasteh 20-30 cm
B81: z materialom granulacije 0-16 mm, ter strojno
B82: komprimacijo do zbitosti 95 % SPP z lahkim
B83: komprimacijskim sredstvom.
B84: Obračun se izvrši po količinah vpisanih v knjigo
B85: obračunskih izmer
B87: m3 | C87: 49.9 | E87: =C87*D87 -> 0
A89: 6 | B89: Zasip cevi nad cono cevovoda v plasteh
B90: 20-30 cm z izkopanim materialom iz začasne
B91: deponije s komprimacijo.
B92: Stopnja zbitosti je večja ali enaka
B93: zbitosti 95 % SPP.
B94: Obračun se izvrši po količinah vpisanih v knjigo
B95: obračunskih izmer
B97: m3 | C97: 47.82 | E97: =C97*D97 -> 0
A101: 7 | B101: Strojno nakladanje izkopanega materiala
B102: na kamion in odvoz na trajno deponijo vključno
B103: s stroški deponije.
B104: Obračun se izvrši po količinah vpisanih v knjigo
B105: obračunskih izmer
B107: m3 | C107: 29.06 | E107: =C107*D107 -> 0
A110: 8 | B110: Izčrpavanje vode-
B111: Obračun se izvrši po količinah vpisanih v
B112: knjigo obračunskih izmer
B114: pav | C114: 1 | E114: =C114*D114 -> 0
B116: Vse geomehanske preiskave nosilnosti zemeljskih tal
B117: in zasipa gradbene jame morajo biti vključene v
B118: ponudbeno ceno za izkope in zasipe gradbenih jam.
B119: Preiskave so določene na osnovi predpisov za
B120: izvajanje takšnih zemeljskih del.
B122: ZEMELJSKA DELA SKUPAJ | E122: =E114+E107+E97+E87+E78+E70+E64+E56 -> 0
A125: Št. | B125: Enota in opis dela | C125: količina | D125: cena/enoto v € | E125: cena skupaj v €
A126: 3.0 | B126: KANALIZACIJA
A130: 1 | B130: Dobava in montaža rebraste kanalizacijske
B131: cevi PP DN 250-SIST EN 13476-1 SN 16,
B132: vgrajene na peščeno posteljico.
B134: m | C134: =1*[3]List2!C9 -> 93 | E134: =C134*D134 -> 0
A138: 2 | B138: Dobava in montaža vodotesnega jaška
B139: DN 800 TIP B iz PP SIST EN 13598-1
B140: in globine do 3,0m .Vgradnja po SIST EN 1610
B142: kos | C142: =1*[3]List2!C4 -> 3 | E142: =C142*D142 -> 0
A146: 3 | B146: Dobava in montaža LTŽ pokrova na zaklep-brez odprtin (25t) DN 600
B147: za srednje težki promet, vbetoniran v betonski
B148: prstan MB 30.Stik med bet.prstanom in
B149: konusom jaška zatesniti s trajnoelastičnim kitom
B151: kos | C151: =C142*1 -> 3 | E151: =C151*D151 -> 0
B154: KANALIZACIJA SKUPAJ : | E154: =E151+E142+E134 -> 0
...

Sheet KANAL 2-1
B1: Kanal 2-1
A3: Št. | B3: Enota in opis dela | C3: količina | D3: cena/enoto v € | E3: cena skupaj v €
A4: 1.0 | B4: PREDDELA
A6: 1 | B6: Zavarovanje gradbišča med samo gradnjo z
B7: vso potrebno signalizacijo in varnostno zaščito
B8: za katero mora izvajalec gradbenih del izdelati
B9: poseben elaborat za potrebe organizacije gradbišča.
B10: V elaboratu morajo biti zajeti vsi posegi v smislu
B11: zagotavljenja varnosti pri gradbenem delu.
B12: Dela naj se opravijo v skladu s pogoji upravljalecev
B13: ceste.
B15: kos | C15: 1 | E15: =C15*D15 -> 0
A17: 2 | B17: Zakoličba, trasna in višinska
B18: navezava količkov in zavarovanje
B20: m | C20: 71.3 | E20: =C20*D20 -> 0
A22: 3 | B22: Postavitev in zavarovanje prečnih profilov
B24: kos | C24: =[4]List2!C3+[4]List2!C4+[4]List2!C6+[4]List2!C7+[4]List2!C5 -> 3 | E24: =C24*D24 -> 0
A26: 4 | B26: Označba in zavarovanje obstoječih
B27: komunalnih vodov. Obračun se izvrši
B28: po količinah vpisanih v knjigo obračunskih
B29: izmer
B31: pav | C31: 1 | E31: =C31*D31 -> 0
A33: 5 | B33: Sondažni izkopi za ugotovitev in preverjanje
B34: obstoječih komunalnih vodov.
B35: Obračun se izvrši po količinah vpisanih v
B36: knjigo obračunskih izmer
B38: pav | C38: 1 | E38: =C38*D38 -> 0
B41: PREDDELA SKUPAJ | E41: =E38+E31+E24+E20+E15 -> 0
A57: Št. | B57: Enota in opis dela | C57: količina | D57: cena/enoto v € | E57: cena skupaj v €
A58: 2.0 | B58: ZEMELJSKA DELA
A60: 1 | B60: Strojni izkop gradbenega jarka v lahki zemljini
B61: (III.kategorija) z nakladanjem in odvozom na
B62: začasno deponijo do 3 km.
B63: Obračun se izvrši po količinah vpisanih v knjigo
B64: obračunskih izmer
B65: Izkop gradbenega jarka za potrebe vgradnje cevi
B66: mora biti širine min. 0,90 m.
B68: m3 | C68: 104.6 | E68: =C68*D68 -> 0
A70: 2 | B70: Strojno rezanje obstoječega asfalta v širini 0,90m
B71: ter nakladanje in odvoz na začasno deponijo do 3km,
B72: vključno z vsemi dodatnimi in pomožnimi deli
B73: Obračun se izvrši po količinah vpisanih v knjigo
B74: obračunskih izmer
B76: m1 | C76: 71.3 | E76: =C76*D76 -> 0
A78: 3 | B78: Strojni izkop v debelini cca 60 cm, zgornji ustroj cestišča,
B79: z nakladanjem in odvozom na deponijo do 3km, vključno
B80: z vsemi dodatnimi in pomožnimi deli
B81: Obračun se izvrši po količinah vpisanih v knjigo
B82: obračunskih izmer
B83: m3 | C83: 38.5 | E83: =C83*D83 -> 0
A85: 4 | B85: Dovoz, zasip in utrjevanje gramoza za zgornji ustroj cestišča
B86: v debelini cca 60 cm, komprimiranje se naj vrši do ustrezne zbitosti
B87: Obračun se izvrši po količinah vpisanih v knjigo
B88: obračunskih izmer
B90: m3 | C90: 39.5 | E90: =C90*D90 -> 0
A92: 5 | B92: Dobava, dovoz in vgradnja dvoslojnega asfalta, v izvedbi BNOP 0/22
B93: deb. 5 cm in AB 0/8 deb. 3 cm in povrnitev v prejšnje stanje.
B94: Obračun se izvrši po količinah vpisanih v knjigo
B95: obračunskih izmer
B97: m2 | C97: 64.17 | E97: =C97*D97 -> 0
A99: 6 | B99: Opaženje z razpiranjem bočnih strani
B100: gradbenega jarka pri izkopu 75 st.
B101: Obračun se izvrši po količinah vpisanih v knjigo
B102: obračunskih izmer
B104: m2 | C104: 232.44 | E104: =C104*D104 -> 0
A106: 7 | B106: Ročno planiranje in strojno utrjevanje dna
B107: gradbenega jarka s komprimiranjem do
B108: zbitosti 95 % SPP
B110: m2 | C110: 64.17 | E110: =C110*D110 -> 0
A113: 8 | B113: Dobava in vgraditev peščenega materiala
B114: za peščeno posteljico (0-4 mm)
B115: s komprimacijo do zbitosti 95 % SPP
B116: Obračun se izvrši po količinah vpisanih v knjigo
B117: obračunskih izmer
B119: m3 | C119: 22.17 | E119: =C119*D119 -> 0
A121: 9 | B121: Zasip cevi v coni cevovoda v plasteh 20-30 cm
B122: z materialom granulacije 0-16 mm, ter strojno
B123: komprimacijo do zbitosti 95 % SPP z lahkim
B124: komprimacijskim sredstvom.
B125: Obračun se izvrši po količinah vpisanih v knjigo
B126: obračunskih izmer
B128: m3 | C128: 38.5 | E128: =C128*D128 -> 0
A130: 10 | B130: Zasip cevi nad cono cevovoda v plasteh
B131: 20-30 cm z izkopanim materialom iz začasne
B132: deponije s komprimacijo.
B133: Stopnja zbitosti je večja ali enaka
B134: zbitosti 95 % SPP.
B135: Obračun se izvrši po količinah vpisanih v knjigo
B136: obračunskih izmer
B138: m3 | C138: 40.43 | E138: =C138*D138 -> 0
A140: 11 | B140: Strojno nakladanje izkopanega materiala
B141: na kamion in odvoz na trajno deponijo vključno
B142: s stroški deponije.
B143: Obračun se izvrši po količinah vpisanih v knjigo
B144: obračunskih izmer
B146: m3 | C146: =C119+C128+C90 -> 100.17 | E146: =C146*D146 -> 0
A149: 12 | B149: Izčrpavanje vode-
B150: Obračun se izvrši po količinah vpisanih v
B151: knjigo obračunskih izmer
B153: pav | C153: 1 | E153: =C153*D153 -> 0
...

Sheet KANAL 2-2
B1: Kanal 2-2
A3: Št. | B3: Enota in opis dela | C3: količina | D3: cena/enoto v € | E3: cena skupaj v €
A4: 1.0 | B4: PREDDELA
A6: 1 | B6: Zavarovanje gradbišča med samo gradnjo z
B7: vso potrebno signalizacijo in varnostno zaščito
B8: za katero mora izvajalec gradbenih del izdelati
B9: poseben elaborat za potrebe organizacije gradbišča.
B10: V elaboratu morajo biti zajeti vsi posegi v smislu
B11: zagotavljenja varnosti pri gradbenem delu.
B12: Dela naj se opravijo v skladu s pogoji upravljalecev
B13: ceste.
B15: kos | C15: 1 | E15: =C15*D15 -> 0
A17: 2 | B17: Zakoličba, trasna in višinska
B18: navezava količkov in zavarovanje
B20: m | C20: 58.26 | E20: =C20*D20 -> 0
A22: 3 | B22: Postavitev in zavarovanje prečnih profilov
B24: kos | C24: =[5]List2!C3+[5]List2!C4+[5]List2!C6+[5]List2!C7+[5]List2!C5 -> 3 | E24: =C24*D24 -> 0
A26: 4 | B26: Označba in zavarovanje obstoječih
B27: komunalnih vodov. Obračun se izvrši
B28: po količinah vpisanih v knjigo obračunskih
B29: izmer
B31: pav | C31: 1 | E31: =C31*D31 -> 0
A33: 5 | B33: Sondažni izkopi za ugotovitev in preverjanje
B34: obstoječih komunalnih vodov.
B35: Obračun se izvrši po količinah vpisanih v
B36: knjigo obračunskih izmer
B38: pav | C38: 1 | E38: =C38*D38 -> 0
B41: PREDDELA SKUPAJ | E41: =E38+E31+E24+E20+E15 -> 0
A57: Št. | B57: Enota in opis dela | C57: količina | D57: cena/enoto v € | E57: cena skupaj v €
A58: 2.0 | B58: ZEMELJSKA DELA
A60: 1 | B60: Strojni izkop gradbenega jarka v lahki zemljini
B61: (III.kategorija) z nakladanjem in odvozom na
B62: začasno deponijo do 3 km.
B63: Obračun se izvrši po količinah vpisanih v knjigo
B64: obračunskih izmer
B65: Izkop gradbenega jarka za potrebe vgradnje cevi
B66: mora biti širine min. 0,90 m.
B68: m3 | C68: 96.22 | E68: =C68*D68 -> 0
A70: 2 | B70: Strojno rezanje obstoječega asfalta v širini 0,90m
B71: ter nakladanje in odvoz na začasno deponijo do 3km,
B72: vključno z vsemi dodatnimi in pomožnimi deli
B73: Obračun se izvrši po količinah vpisanih v knjigo
B74: obračunskih izmer
B76: m1 | C76: =1*[5]List2!C17 -> 60 | E76: =C76*D76 -> 0
A78: 3 | B78: Strojni izkop v debelini cca 60 cm, zgornji ustroj cestišča,
B79: z nakladanjem in odvozom na deponijo do 3km, vključno
B80: z vsemi dodatnimi in pomožnimi deli
B81: Obračun se izvrši po količinah vpisanih v knjigo
B82: obračunskih izmer
B83: m3 | C83: 31.46 | E83: =C83*D83 -> 0
A85: 4 | B85: Dovoz, zasip in utrjevanje gramoza za zgornji ustroj cestišča
B86: v debelini cca 60 cm, komprimiranje se naj vrši do ustrezne zbitosti
B87: Obračun se izvrši po količinah vpisanih v knjigo
B88: obračunskih izmer
B90: m3 | C90: 31.46 | E90: =C90*D90 -> 0
A92: 5 | B92: Dobava, dovoz in vgradnja dvoslojnega asfalta, v izvedbi BNOP 0/22
B93: deb. 5 cm in AB 0/8 deb. 3 cm in povrnitev v prejšnje stanje.
B94: Obračun se izvrši po količinah vpisanih v knjigo
B95: obračunskih izmer
B97: m2 | C97: 54 | E97: =C97*D97 -> 0
A99: 6 | B99: Opaženje z razpiranjem bočnih strani
B100: gradbenega jarka pri izkopu 75 st.
B101: Obračun se izvrši po količinah vpisanih v knjigo
B102: obračunskih izmer
B104: m2 | C104: 213.84 | E104: =C104*D104 -> 0
A106: 7 | B106: Ročno planiranje in strojno utrjevanje dna
B107: gradbenega jarka s komprimiranjem do
B108: zbitosti 95 % SPP
B110: m2 | C110: 52.43 | E110: =C110*D110 -> 0
A113: 8 | B113: Dobava in vgraditev peščenega materiala
B114: za peščeno posteljico (0-4 mm)
B115: s komprimacijo do zbitosti 95 % SPP
B116: Obračun se izvrši po količinah vpisanih v knjigo
B117: obračunskih izmer
B119: m3 | C119: 18.12 | E119: =C119*D119 -> 0
A121: 9 | B121: Zasip cevi v coni cevovoda v plasteh 20-30 cm
B122: z materialom granulacije 0-16 mm, ter strojno
B123: komprimacijo do zbitosti 95 % SPP z lahkim
B124: komprimacijskim sredstvom.
B125: Obračun se izvrši po količinah vpisanih v knjigo
B126: obračunskih izmer
B128: m3 | C128: 31.46 | E128: =C128*D128 -> 0
A130: 10 | B130: Zasip cevi nad cono cevovoda v plasteh
B131: 20-30 cm z izkopanim materialom iz začasne
B132: deponije s komprimacijo.
B133: Stopnja zbitosti je večja ali enaka
B134: zbitosti 95 % SPP.
B135: Obračun se izvrši po količinah vpisanih v knjigo
B136: obračunskih izmer
B138: m3 | C138: 43.78 | E138: =C138*D138 -> 0
A140: 11 | B140: Strojno nakladanje izkopanega materiala
B141: na kamion in odvoz na trajno deponijo vključno
B142: s stroški deponije.
B143: Obračun se izvrši po količinah vpisanih v knjigo
B144: obračunskih izmer
B146: m3 | C146: =C119+C128+C90 -> 81.04 | E146: =C146*D146 -> 0
A149: 12 | B149: Izčrpavanje vode-
B150: Obračun se izvrši po količinah vpisanih v
B151: knjigo obračunskih izmer
B153: pav | C153: 1 | E153: =C153*D153 -> 0
...

Sheet KANAL 2-3
B1: Kanal 2-3
A3: Št. | B3: Enota in opis dela | C3: količina | D3: cena/enoto v € | E3: cena skupaj v €
A4: 1.0 | B4: PREDDELA
A6: 1 | B6: Zavarovanje gradbišča med samo gradnjo z
B7: vso potrebno signalizacijo in varnostno zaščito
B8: za katero mora izvajalec gradbenih del izdelati
B9: poseben elaborat za potrebe organizacije gradbišča.
B10: V elaboratu morajo biti zajeti vsi posegi v smislu
B11: zagotavljenja varnosti pri gradbenem delu.
B12: Dela naj se opravijo v skladu s pogoji upravljalecev
B13: ceste.
B15: kos | C15: 1 | E15: =C15*D15 -> 0
A17: 2 | B17: Zakoličba, trasna in višinska
B18: navezava količkov in zavarovanje
B20: m | C20: 49.39 | E20: =C20*D20 -> 0
A22: 3 | B22: Postavitev in zavarovanje prečnih profilov
B24: kos | C24: =[6]List2!C3+[6]List2!C4+[6]List2!C6+[6]List2!C7+[6]List2!C5 -> 2 | E24: =C24*D24 -> 0
A26: 4 | B26: Označba in zavarovanje obstoječih
B27: komunalnih vodov. Obračun se izvrši
B28: po količinah vpisanih v knjigo obračunskih
B29: izmer
B31: pav | C31: 1 | E31: =C31*D31 -> 0
A33: 5 | B33: Sondažni izkopi za ugotovitev in preverjanje
B34: obstoječih komunalnih vodov.
B35: Obračun se izvrši po količinah vpisanih v
B36: knjigo obračunskih izmer
B38: pav | C38: 1 | E38: =C38*D38 -> 0
B41: PREDDELA SKUPAJ | E41: =E38+E31+E24+E20+E15 -> 0
A44: Št. | B44: Enota in opis dela | C44: količina | D44: cena/enoto v € | E44: cena skupaj v €
A45: 2.0 | B45: ZEMELJSKA DELA
A47: 1 | B47: Strojni izkop gradbenega jarka v lahki zemljini
B48: (III.kategorija) z nakladanjem in odvozom na
B49: začasno deponijo do 3 km.
B50: Obračun se izvrši po količinah vpisanih v knjigo
B51: obračunskih izmer
B52: Izkop gradbenega jarka za potrebe vgradnje cevi
B53: mora biti širine min. 0,90 m.
B55: m3 | C55: 73.34 | E55: =C55*D55 -> 0
A58: 2 | B58: Strojni izkop v debelini cca 60 cm, zgornji ustroj cestišča,
B59: z nakladanjem in odvozom na deponijo do 3km, vključno
B60: z vsemi dodatnimi in pomožnimi deli
B61: Obračun se izvrši po količinah vpisanih v knjigo
B62: obračunskih izmer
B63: m3 | C63: 26.67 | E63: =C63*D63 -> 0
A65: 3 | B65: Dovoz, zasip in utrjevanje gramoza za zgornji ustroj cestišča
B66: v debelini cca 60 cm, komprimiranje se naj vrši do ustrezne zbitosti
B67: Obračun se izvrši po količinah vpisanih v knjigo
B68: obračunskih izmer
B70: m3 | C70: 26.67 | E70: =C70*D70 -> 0
A73: 4 | B73: Opaženje z razpiranjem bočnih strani
B74: gradbenega jarka pri izkopu 75 st.
B75: Obračun se izvrši po količinah vpisanih v knjigo
B76: obračunskih izmer
B78: m2 | C78: 162.99 | E78: =C78*D78 -> 0
A80: 5 | B80: Ročno planiranje in strojno utrjevanje dna
B81: gradbenega jarka s komprimiranjem do
B82: zbitosti 95 % SPP
B84: m2 | C84: 44.45 | E84: =C84*D84 -> 0
A86: 6 | B86: Dobava in vgraditev peščenega materiala
B87: za peščeno posteljico (0-4 mm)
B88: s komprimacijo do zbitosti 95 % SPP
B89: Obračun se izvrši po količinah vpisanih v knjigo
B90: obračunskih izmer
B92: m3 | C92: 15.36 | E92: =C92*D92 -> 0
A95: 7 | B95: Zasip cevi v coni cevovoda v plasteh 20-30 cm
B96: z materialom granulacije 0-16 mm, ter strojno
B97: komprimacijo do zbitosti 95 % SPP z lahkim
B98: komprimacijskim sredstvom.
B99: Obračun se izvrši po količinah vpisanih v knjigo
B100: obračunskih izmer
B102: m3 | C102: 26.67 | E102: =C102*D102 -> 0
A104: 8 | B104: Zasip cevi nad cono cevovoda v plasteh
B105: 20-30 cm z izkopanim materialom iz začasne
B106: deponije s komprimacijo.
B107: Stopnja zbitosti je večja ali enaka
B108: zbitosti 95 % SPP.
B109: Obračun se izvrši po količinah vpisanih v knjigo
B110: obračunskih izmer
B112: m3 | C112: 28.89 | E112: =C112*D112 -> 0
A114: 9 | B114: Strojno nakladanje izkopanega materiala
B115: na kamion in odvoz na trajno deponijo vključno
B116: s stroški deponije.
B117: Obračun se izvrši po količinah vpisanih v knjigo
B118: obračunskih izmer
B120: m3 | C120: =C92+C102+C70 -> 68.7 | E120: =C120*D120 -> 0
A123: 10 | B123: Izčrpavanje vode-
B124: Obračun se izvrši po količinah vpisanih v
B125: knjigo obračunskih izmer
B127: pav | C127: 1 | E127: =C127*D127 -> 0
B129: Vse geomehanske preiskave nosilnosti zemeljskih tal
B130: in zasipa gradbene jame morajo biti vključene v
B131: ponudbeno ceno za izkope in zasipe gradbenih jam.
B132: Preiskave so določene na osnovi predpisov za
B133: izvajanje takšnih zemeljskih del.
B135: ZEMELJSKA DELA SKUPAJ | E135: =E127+E120+E112+E102+E92+E84+E78+E70+E63+E55 -> 0
A138: Št. | B138: Enota in opis dela | C138: količina | D138: cena/enoto v € | E138: cena skupaj v €
A139: 3.0 | B139: KANALIZACIJA
A143: 1 | B143: Dobava in montaža rebraste kanalizacijske
B144: cevi PP DN 250-SIST EN 13476-1 SN 16,
B145: vgrajene na peščeno posteljico.
...

Sheet KANAL 2-4
B1: Kanal 2-4
A3: Št. | B3: Enota in opis dela | C3: količina | D3: cena/enoto v € | E3: cena skupaj v €
A4: 1.0 | B4: PREDDELA
A6: 1 | B6: Zavarovanje gradbišča med samo gradnjo z
B7: vso potrebno signalizacijo in varnostno zaščito
B8: za katero mora izvajalec gradbenih del izdelati
B9: poseben elaborat za potrebe organizacije gradbišča.
B10: V elaboratu morajo biti zajeti vsi posegi v smislu
B11: zagotavljenja varnosti pri gradbenem delu.
B12: Dela naj se opravijo v skladu s pogoji upravljalecev
B13: ceste.
B15: kos | C15: 1 | E15: =C15*D15 -> 0
A17: 2 | B17: Zakoličba, trasna in višinska
B18: navezava količkov in zavarovanje
B20: m | C20: 58.5 | E20: =C20*D20 -> 0
A22: 3 | B22: Postavitev in zavarovanje prečnih profilov
B24: kos | C24: =[7]List2!C3+[7]List2!C4+[7]List2!C6+[7]List2!C7+[7]List2!C5 -> 3 | E24: =C24*D24 -> 0
A26: 4 | B26: Označba in zavarovanje obstoječih
B27: komunalnih vodov. Obračun se izvrši
B28: po količinah vpisanih v knjigo obračunskih
B29: izmer
B31: pav | C31: 1 | E31: =C31*D31 -> 0
A33: 5 | B33: Sondažni izkopi za ugotovitev in preverjanje
B34: obstoječih komunalnih vodov.
B35: Obračun se izvrši po količinah vpisanih v
B36: knjigo obračunskih izmer
B38: pav | C38: 1 | E38: =C38*D38 -> 0
B41: PREDDELA SKUPAJ | E41: =E38+E31+E24+E20+E15 -> 0
A57: Št. | B57: Enota in opis dela | C57: količina | D57: cena/enoto v € | E57: cena skupaj v €
A58: 2.0 | B58: ZEMELJSKA DELA
A60: 1 | B60: Strojni izkop gradbenega jarka v lahki zemljini
B61: (III.kategorija) z nakladanjem in odvozom na
B62: začasno deponijo do 3 km.
B63: Obračun se izvrši po količinah vpisanih v knjigo
B64: obračunskih izmer
B65: Izkop gradbenega jarka za potrebe vgradnje cevi
B66: mora biti širine min. 0,90 m.
B68: m3 | C68: 93.72 | E68: =C68*D68 -> 0
A70: 2 | B70: Strojno rezanje obstoječega asfalta v širini 0,90m
B71: ter nakladanje in odvoz na začasno deponijo do 3km,
B72: vključno z vsemi dodatnimi in pomožnimi deli
B73: Obračun se izvrši po količinah vpisanih v knjigo
B74: obračunskih izmer
B76: m1 | C76: =1*[7]List2!C17 -> 5 | E76: =C76*D76 -> 0
A78: 3 | B78: Strojni izkop v debelini cca 60 cm, zgornji ustroj cestišča,
B79: z nakladanjem in odvozom na deponijo do 3km, vključno
B80: z vsemi dodatnimi in pomožnimi deli
B81: Obračun se izvrši po količinah vpisanih v knjigo
B82: obračunskih izmer
B83: m3 | C83: 2.7 | E83: =C83*D83 -> 0
A85: 4 | B85: Dovoz, zasip in utrjevanje gramoza za zgornji ustroj cestišča
B86: v debelini cca 60 cm, komprimiranje se naj vrši do ustrezne zbitosti
B87: Obračun se izvrši po količinah vpisanih v knjigo
B88: obračunskih izmer
B90: m3 | C90: 2.7 | E90: =C90*D90 -> 0
A92: 5 | B92: Dobava, dovoz in vgradnja dvoslojnega asfalta, v izvedbi BNOP 0/22
B93: deb. 5 cm in AB 0/8 deb. 3 cm in povrnitev v prejšnje stanje.
B95: Obračun se izvrši po količinah vpisanih v knjigo
B96: obračunskih izmer
B98: m2 | C98: =1.2*[7]List2!C17 -> 6 | E98: =C98*D98 -> 0
A100: 6 | B100: Opaženje z razpiranjem bočnih strani
B101: gradbenega jarka pri izkopu 75 st.
B102: Obračun se izvrši po količinah vpisanih v knjigo
B103: obračunskih izmer
B105: m2 | C105: 208.26 | E105: =C105*D105 -> 0
A107: 7 | B107: Ročno planiranje in strojno utrjevanje dna
B108: gradbenega jarka s komprimiranjem do
B109: zbitosti 95 % SPP
B111: m2 | C111: 52.65 | E111: =C111*D111 -> 0
A114: 8 | B114: Dobava in vgraditev peščenega materiala
B115: za peščeno posteljico (0-4 mm)
B116: s komprimacijo do zbitosti 95 % SPP
B117: Obračun se izvrši po količinah vpisanih v knjigo
B118: obračunskih izmer
B120: m3 | C120: 18.19 | E120: =C120*D120 -> 0
A122: 9 | B122: Zasip cevi v coni cevovoda v plasteh 20-30 cm
B123: z materialom granulacije 0-16 mm, ter strojno
B124: komprimacijo do zbitosti 95 % SPP z lahkim
B125: komprimacijskim sredstvom.
B126: Obračun se izvrši po količinah vpisanih v knjigo
B127: obračunskih izmer
B129: m3 | C129: 31.59 | E129: =C129*D129 -> 0
A131: 10 | B131: Zasip cevi nad cono cevovoda v plasteh
B132: 20-30 cm z izkopanim materialom iz začasne
B133: deponije s komprimacijo.
B134: Stopnja zbitosti je večja ali enaka
B135: zbitosti 95 % SPP.
B136: Obračun se izvrši po količinah vpisanih v knjigo
B137: obračunskih izmer
B139: m3 | C139: 41.07 | E139: =C139*D139 -> 0
A141: 11 | B141: Strojno nakladanje izkopanega materiala
B142: na kamion in odvoz na trajno deponijo vključno
B143: s stroški deponije.
B144: Obračun se izvrši po količinah vpisanih v knjigo
B145: obračunskih izmer
B147: m3 | C147: =C120+C129+C90 -> 52.48 | E147: =C147*D147 -> 0
A150: 12 | B150: Izčrpavanje vode-
B151: Obračun se izvrši po količinah vpisanih v
B152: knjigo obračunskih izmer
B154: pav | C154: 1 | E154: =C154*D154 -> 0
...

Sheet KANAL 3-0
B1: Kanal 3-0
A3: Št. | B3: Enota in opis dela | C3: količina | D3: cena/enoto v € | E3: cena skupaj v €
A4: 1.0 | B4: PREDDELA
A6: 1 | B6: Zavarovanje gradbišča med samo gradnjo z
B7: vso potrebno signalizacijo in varnostno zaščito
B8: za katero mora izvajalec gradbenih del izdelati
B9: poseben elaborat za potrebe organizacije gradbišča.
B10: V elaboratu morajo biti zajeti vsi posegi v smislu
B11: zagotavljenja varnosti pri gradbenem delu.
B12: Dela naj se opravijo v skladu s pogoji upravljalecev
B13: ceste.
B15: kos | C15: 1 | E15: =C15*D15 -> 0
A17: 2 | B17: Zakoličba, trasna in višinska
B18: navezava količkov in zavarovanje
B20: m | C20: 279.93 | E20: =C20*D20 -> 0
A22: 3 | B22: Postavitev in zavarovanje prečnih profilov
B24: kos | C24: 10 | E24: =C24*D24 -> 0
A26: 4 | B26: Označba in zavarovanje obstoječih
B27: komunalnih vodov. Obračun se izvrši
B28: po količinah vpisanih v knjigo obračunskih
B29: izmer
B31: pav | C31: 1 | E31: =C31*D31 -> 0
A33: 5 | B33: Sondažni izkopi za ugotovitev in preverjanje
B34: obstoječih komunalnih vodov.
B35: Obračun se izvrši po količinah vpisanih v
B36: knjigo obračunskih izmer
B38: pav | C38: 1 | E38: =C38*D38 -> 0
B41: PREDDELA SKUPAJ | E41: =E38+E31+E24+E20+E15 -> 0
A44: Št. | B44: Enota in opis dela | C44: količina | D44: cena/enoto v € | E44: cena skupaj v €
A45: 2.0 | B45: ZEMELJSKA DELA
A47: 1 | B47: Strojni izkop gradbenega jarka v lahki zemljini
B48: (III.kategorija) z nakladanjem in odvozom na
B49: začasno deponijo do 3 km.
B50: Obračun se izvrši po količinah vpisanih v knjigo
B51: obračunskih izmer
B52: Izkop gradbenega jarka za potrebe vgradnje cevi
B53: mora biti širine min. 0,90 m.
B55: m3 | C55: 427.03 | E55: =C55*D55 -> 0
A57: 2 | B57: Strojno rezanje obstoječega asfalta v širini 0,90m
B58: ter nakladanje in odvoz na začasno deponijo do 3km,
B59: vključno z vsemi dodatnimi in pomožnimi deli
B60: Obračun se izvrši po količinah vpisanih v knjigo
B61: obračunskih izmer
B63: m1 | C63: =1*[8]List2!C17 -> 10 | E63: =C63*D63 -> 0
A65: 3 | B65: Strojni izkop v debelini cca 60 cm, zgornji ustroj cestišča,
B66: z nakladanjem in odvozom na deponijo do 3km, vključno
B67: z vsemi dodatnimi in pomožnimi deli
B68: Obračun se izvrši po količinah vpisanih v knjigo
B69: obračunskih izmer
B70: m3 | C70: =1.2*[8]List2!C18*0.6 -> 7.2 | E70: =C70*D70 -> 0
A72: 4 | B72: Dovoz, zasip in utrjevanje gramoza za zgornji ustroj cestišča
B73: v debelini cca 60 cm, komprimiranje se naj vrši do ustrezne zbitosti
B74: Obračun se izvrši po količinah vpisanih v knjigo
B75: obračunskih izmer
B77: m3 | C77: =0.6*1.2*[8]List2!C18 -> 7.2 | E77: =C77*D77 -> 0
A79: 5 | B79: Dobava, dovoz in vgradnja dvoslojnega asfalta, v izvedbi BNOP 0/22
B80: deb. 5 cm in AB 0/8 deb. 3 cm in povrnitev v prejšnje stanje.
B81: Obračun se izvrši po količinah vpisanih v knjigo
B82: obračunskih izmer
B84: m2 | C84: =1.2*[8]List2!C17 -> 12 | E84: =C84*D84 -> 0
A86: 6 | B86: Opaženje z razpiranjem bočnih strani
B87: gradbenega jarka pri izkopu 75 st.
B88: Obračun se izvrši po količinah vpisanih v knjigo
B89: obračunskih izmer
B91: m2 | C91: 948.96 | E91: =C91*D91 -> 0
A93: 7 | B93: Ročno planiranje in strojno utrjevanje dna
B94: gradbenega jarka s komprimiranjem do
B95: zbitosti 95 % SPP
B97: m2 | C97: 251.94 | E97: =C97*D97 -> 0
A100: 8 | B100: Dobava in vgraditev peščenega materiala
B101: za peščeno posteljico (0-4 mm)
B102: s komprimacijo do zbitosti 95 % SPP
B103: Obračun se izvrši po količinah vpisanih v knjigo
B104: obračunskih izmer
B106: m3 | C106: 87.04 | E106: =C106*D106 -> 0
A108: 9 | B108: Zasip cevi v coni cevovoda v plasteh 20-30 cm
B109: z materialom granulacije 0-16 mm, ter strojno
B110: komprimacijo do zbitosti 95 % SPP z lahkim
B111: komprimacijskim sredstvom.
B112: Obračun se izvrši po količinah vpisanih v knjigo
B113: obračunskih izmer
B115: m3 | C115: 151.16 | E115: =C115*D115 -> 0
A117: 10 | B117: Zasip cevi nad cono cevovoda v plasteh
B118: 20-30 cm z izkopanim materialom iz začasne
B119: deponije s komprimacijo.
B120: Stopnja zbitosti je večja ali enaka
B121: zbitosti 95 % SPP.
B122: Obračun se izvrši po količinah vpisanih v knjigo
B123: obračunskih izmer
B125: m3 | C125: 175.1 | E125: =C125*D125 -> 0
A127: 11 | B127: Strojno nakladanje izkopanega materiala
B128: na kamion in odvoz na trajno deponijo vključno
B129: s stroški deponije.
B130: Obračun se izvrši po količinah vpisanih v knjigo
B131: obračunskih izmer
B133: m3 | C133: =C70+C106+C115 -> 245.4 | E133: =C133*D133 -> 0
A135: 12 | B135: Izdelava prebojev pod obstoječim cestiščem-glej in upoštevaj
B136: detajl prečkanja (cca 10m), z vsemi dodatnimi in pomožnimi deli
B138: kom | C138: =1*[8]List2!C19 -> 1 | E138: =C138*D138 -> 0
A140: 13 | B140: Izčrpavanje vode-
...

Sheet KANAL 3-2
B1: Kanal 3-2
A3: Št. | B3: Enota in opis dela | C3: količina | D3: cena/enoto v € | E3: cena skupaj v €
A4: 1.0 | B4: PREDDELA
A6: 1 | B6: Zavarovanje gradbišča med samo gradnjo z
B7: vso potrebno signalizacijo in varnostno zaščito
B8: za katero mora izvajalec gradbenih del izdelati
B9: poseben elaborat za potrebe organizacije gradbišča.
B10: V elaboratu morajo biti zajeti vsi posegi v smislu
B11: zagotavljenja varnosti pri gradbenem delu.
B12: Dela naj se opravijo v skladu s pogoji upravljalecev
B13: ceste.
B15: kos | C15: 1 | E15: =C15*D15 -> 0
A17: 2 | B17: Zakoličba, trasna in višinska
B18: navezava količkov in zavarovanje
B20: m | C20: 51.05 | E20: =C20*D20 -> 0
A22: 3 | B22: Postavitev in zavarovanje prečnih profilov
B24: kos | C24: =[9]List2!C3+[9]List2!C4+[9]List2!C6+[9]List2!C7+[9]List2!C5 -> 2 | E24: =C24*D24 -> 0
A26: 4 | B26: Označba in zavarovanje obstoječih
B27: komunalnih vodov. Obračun se izvrši
B28: po količinah vpisanih v knjigo obračunskih
B29: izmer
B31: pav | C31: 1 | E31: =C31*D31 -> 0
A33: 5 | B33: Sondažni izkopi za ugotovitev in preverjanje
B34: obstoječih komunalnih vodov.
B35: Obračun se izvrši po količinah vpisanih v
B36: knjigo obračunskih izmer
B38: pav | C38: 1 | E38: =C38*D38 -> 0
B41: PREDDELA SKUPAJ | E41: =E38+E31+E24+E20+E15 -> 0
A44: Št. | B44: Enota in opis dela | C44: količina | D44: cena/enoto v € | E44: cena skupaj v €
A45: 2.0 | B45: ZEMELJSKA DELA
A47: 1 | B47: Strojni izkop gradbenega jarka v lahki zemljini
B48: (III.kategorija) z nakladanjem in odvozom na
B49: začasno deponijo do 3 km.
B50: Obračun se izvrši po količinah vpisanih v knjigo
B51: obračunskih izmer
B52: Izkop gradbenega jarka za potrebe vgradnje cevi
B53: mora biti širine min. 0,90 m.
B55: m3 | C55: 56.05 | E55: =C55*D55 -> 0
A57: 2 | B57: Strojno rezanje obstoječega asfalta v širini 0,90m
B58: ter nakladanje in odvoz na začasno deponijo do 3km,
B59: vključno z vsemi dodatnimi in pomožnimi deli
B60: Obračun se izvrši po količinah vpisanih v knjigo
B61: obračunskih izmer
B63: m1 | C63: 51 | E63: =C63*D63 -> 0
A65: 3 | B65: Strojni izkop v debelini cca 60 cm, zgornji ustroj cestišča,
B66: z nakladanjem in odvozom na deponijo do 3km, vključno
B67: z vsemi dodatnimi in pomožnimi deli
B68: Obračun se izvrši po količinah vpisanih v knjigo
B69: obračunskih izmer
B70: m3 | C70: 27.57 | E70: =C70*D70 -> 0
A72: 4 | B72: Dovoz, zasip in utrjevanje gramoza za zgornji ustroj cestišča
B73: v debelini cca 60 cm, komprimiranje se naj vrši do ustrezne zbitosti
B74: Obračun se izvrši po količinah vpisanih v knjigo
B75: obračunskih izmer
B77: m3 | C77: 27.57 | E77: =C77*D77 -> 0
A79: 5 | B79: Dobava, dovoz in vgradnja dvoslojnega asfalta, v izvedbi BNOP 0/22
B80: deb. 5 cm in AB 0/8 deb. 3 cm in povrnitev v prejšnje stanje.
B82: Obračun se izvrši po količinah vpisanih v knjigo
B83: obračunskih izmer
B85: m2 | C85: 46 | E85: =C85*D85 -> 0
A87: 6 | B87: Opaženje z razpiranjem bočnih strani
B88: gradbenega jarka pri izkopu 75 st.
B89: Obračun se izvrši po količinah vpisanih v knjigo
B90: obračunskih izmer
B92: m2 | C92: 124.56 | E92: =C92*D92 -> 0
A94: 7 | B94: Ročno planiranje in strojno utrjevanje dna
B95: gradbenega jarka s komprimiranjem do
B96: zbitosti 95 % SPP
B98: m2 | C98: 45.95 | E98: =C98*D98 -> 0
A101: 8 | B101: Dobava in vgraditev peščenega materiala
B102: za peščeno posteljico (0-4 mm)
B103: s komprimacijo do zbitosti 95 % SPP
B104: Obračun se izvrši po količinah vpisanih v knjigo
B105: obračunskih izmer
B107: m3 | C107: 15.87 | E107: =C107*D107 -> 0
A109: 9 | B109: Zasip cevi v coni cevovoda v plasteh 20-30 cm
B110: z materialom granulacije 0-16 mm, ter strojno
B111: komprimacijo do zbitosti 95 % SPP z lahkim
B112: komprimacijskim sredstvom.
B113: Obračun se izvrši po količinah vpisanih v knjigo
B114: obračunskih izmer
B116: m3 | C116: 27.57 | E116: =C116*D116 -> 0
A118: 10 | B118: Zasip cevi nad cono cevovoda v plasteh
B119: 20-30 cm z izkopanim materialom iz začasne
B120: deponije s komprimacijo.
B121: Stopnja zbitosti je večja ali enaka
B122: zbitosti 95 % SPP.
B123: Obračun se izvrši po količinah vpisanih v knjigo
B124: obračunskih izmer
B126: m3 | C126: 10.11 | E126: =C126*D126 -> 0
A128: 11 | B128: Strojno nakladanje izkopanega materiala
B129: na kamion in odvoz na trajno deponijo vključno
B130: s stroški deponije.
B131: Obračun se izvrši po količinah vpisanih v knjigo
B132: obračunskih izmer
B134: m3 | C134: =C107+C116+C77 -> 71.01 | E134: =C134*D134 -> 0
A137: 12 | B137: Izčrpavanje vode-
B138: Obračun se izvrši po količinah vpisanih v
B139: knjigo obračunskih izmer
B141: pav | C141: 1 | E141: =C141*D141 -> 0
...

Sheet cestna rasvetljava
A1: Objekt: Kanalizacijsko omrežje na Pušči - faza 3
A4: Popis del za cestno razsvetljavo
A6: A. GRADBENA PRIPRAVLJALNA IN KONČNA DELA
A7: Poz | B7: Popis za dobavo in montažo | C7: Količina | D7: Enota | E7: Cena/enoto | F7: Skupna cena
A8: 1 | B8: Uradna zakoličba trase kablovoda | C8: 150 | D8: m | F8: =C8*E8 -> 0
A9: =A8+1 -> 2 | B9: zavarovanje kabelskega jarka po celotni dolžini trase | C9: 150 | D9: m | F9: =C9*E9 -> 0
A10: =A9+1 -> 3 | B10: zavarovanje uvozov in peš prehodov | C10: 15 | D10: m | F10: =C10*E10 -> 0
A11: =A10+1 -> 4 | B11: prisotnost upravljalca elektroenergetskega omrežja ob delih v bližini NN zemeljskega omrežja | C11: 1 | D11: kom | F11: =C11*E11 -> 0
A12: =A11+1 -> 5 | B12: prisotnost upravljalca TK omrežja ob delih v bližini TK vodov (Telekom Slovenije | C12: 1 | D12: kom | F12: =C12*E12 -> 0
A13: =A12+1 -> 6 | B13: prisotnost upravljalca vodovodnega in kanalizacijskega omrežja na gradbišču | C13: 1 | D13: kom | F13: =C13*E13 -> 0
A14: =A13+1 -> 7 | B14: ostala drobna pripravljalna dela | C14: 1 | D14: kom | F14: =C14*E14 -> 0
A15: SKUPAJ PRIPRAVLJALNA DELA | E15: =SUM(F8:F14) -> 0
A22: B. GRADBENA DELA
A23: Poz | B23: Popis za dobavo in montažo | C23: Količina | D23: Enota | E23: Cena/enoto | F23: Skupna cena
A24: 1 | B24: Ročni in strojni izkop kabelskega jarka (40% -60%) v zemljišču III. kategorije dimenzij 0,4 x 0,8m | C24: 150 | D24: m | F24: =C24*E24 -> 0
A25: =A24+1 -> 2 | B25: dobava in polaganje plastične zaščitne cevi za kabel, tip PC-E/110mm na betonsko podlago (pod dovozi) | C25: 15 | D25: m | F25: =C25*E25 -> 0
A26: =A25+1 -> 3 | B26: dobava in polaganje plastične rebraste zaščitne cevi za kabel tip RCD Φ75mm | C26: 180 | D26: m | F26: =C26*E26 -> 0
A27: =A26+1 -> 4 | B27: dobava in polaganje opozorilnega traku | C27: 180 | D27: m | F27: =C27*E27 -> 0
A28: =A27+1 -> 5 | B28: Ročni in strojni (40% -60%) zasip kabelskega jarka v zemljišču III. kategorije dimenzij 0,4 x 0,8m. | C28: 150 | D28: m | F28: =C28*E28 -> 0
A29: =A28+1 -> 6 | B29: dobava in postavitev tipskega montažnega betonskega temelja, dimenzij 1x0,5x0,5m, komplet z izkopom, zasipom, utrjevanjem in planiranjem | C29: 6 | D29: kom | F29: =C29*E29 -> 0
A30: =A29+1 -> 7 | B30: dobava in montaža tipskega, vročepocinkanega koničnega kandelabra z vgreznjenimi vrati, debelina cinka je minimalno 100m višine h=5m, zgornjega zunanjega premera =60 mm, s sidrno ploščo za pritrditev na montažni betonski temelj | C30: 6 | D30: kom | F30: =C30*E30 -> 0
A31: =A30+1 -> 8 | B31: dodatna antikorozijska zaščita dela droga in vijakov v zemlji z bitumenskim premazom | C31: 6 | D31: kom | F31: =C31*E31 -> 0
A32: =A31+1 -> 9 | B32: ostala drobna gradbena dela | C32: 1 | D32: kom | F32: =C32*E32 -> 0
A33: SKUPAJ GRADBENA DELA | E33: =SUM(F24:F32) -> 0
A38: C. MONTAŽNA DELA
A39: Poz | B39: Popis za dobavo in montažo | C39: Količina | D39: Enota | E39: Cena/enoto | F39: Skupna cena
A40: 1 | B40: dobava in polaganje energetskega kabla z ojačano izolacijo -NAYY-J 4x16+2,5 mm2 položen v zaščitno cev RDC 75 mm v zemlji 0.8 m globoko, pri prečkanju ceste pod asfaltiranimi površinami pa v PC-E110mm ceveh na betonski podlagi. | C40: 200 | D40: m | F40: =C40*E40 -> 0
A41: =A40+1 -> 2 | B41: izdelava kabelskih končnikov in priključitev kablov | C41: 12 | D41: kom | F41: =C41*E41 -> 0
A42: =A41+1 -> 3 | B42: Dobava svetilke, skupne moči sistema do 35 W LED, z nastavljivim nosilcem in redukcijo ter naslednjimi karakteristikami oz. zahtevami (dopušča se odstopanje od skupne moči sistema 35 W, pri čemer naj bo svetilna učinkovitost min 77 lm/W): • napajalna napetost svetilke 230 V AC • svetlobni tok: min. 2.695 lm • življenjska doba: min. 60.000 ur • temperatura barve: do 4200 K • stopnja zaščite svetilke: IP66 • temperaturno območje delovanja: -30 °C do +60 °C • delovna temperatura: do +55 °C • zaščitni razred: class I ali II • ohišje svetilke: aluminijeva zlitina • barva ohišja: RAL 9006 • redukcija moči min. 50 % • montaža: možnost nastavitve kot svetilke od min. -15 °do min. + 15 ° • ULOR=0° (kot npr. LSL 30 Grah ali Siteco SL 20 ali druga enakovredna) | C42: 6 | D42: kom | F42: =C42*E42 -> 0
A43: =A42+1 -> 4 | B43: instalacija (ožičenje) kandelabrov (h=5m) in sicer od priključne omarice v svetilki do same svetilke s kablom NYY-J 3x1,5 mm2, kompletno z priključnim setom Stanovnik PVE-5/16 in vtičnico na višini 4,5m | C43: 6 | D43: kom | F43: =C43*E43 -> 0
A44: =A43+1 -> 5 | B44: dobava in polaganje pocinkanega jeklenega traku, FeZn 25x4 mm, komplet z vsem spojnim materialom, ter spojitvijo s kandelabri, položen v zemljo nad napajalnim kablom, pri prečkanju ceste pod asfaltiranimi površinami pa nad cevjo v kateri je napajalni kabel. | C44: 180 | D44: m | F44: =C44*E44 -> 0
A45: =A44+1 -> 6 | B45: Izvedba priključitve nove veje JR na obstoječi drog NN omrežja opremljenega s kablom JR SKS 2x16mm2, vključno z odvodniki, sponkami, ozemljitvenim vodom in vertikalno zaščito odvoda | C45: 1 | D45: kom | F45: =C45*E45 -> 0
A46: =A45+1 -> 7 | B46: drobni montažni material in pripadajoča dela | C46: 1 | D46: kom | F46: =C46*E46 -> 0
A47: SKUPAJ MONTAŽNA DELA | E47: =SUM(F40:F46) -> 0
A53: D. ZAKLJUČNA DELA
A54: Poz | B54: Popis za dobavo in montažo | C54: Količina | D54: Enota | E54: Cena/enoto | F54: Skupna cena
A55: 1 | B55: snemanje trase kablovoda in lokacij svetilk ter vris objektov v kataster | C55: 150 | D55: m | F55: =C55*E55 -> 0
A56: =A55+1 -> 2 | B56: kontrolne meritve električnih parametrov kablovoda, ozemljitvene upornosti na vsakem kandelabru, osvetljenosti vzdolž celotne trase | C56: 1 | D56: kom | F56: =C56*E56 -> 0
A57: =A56+1 -> 3 | B57: ostalo: -funkcionalni preizkus JR -priprava tehnične dokumentacije -pridobitev izjav o izpolnjenih pogojih iz soglasij -nadzor nad gradnjo -sodelovanje nadzornika na tehničnem pregledu | C57: 1 | D57: kom | F57: =C57*E57 -> 0
A58: =A57+1 -> 4 | B58: Izdelava PID projektne dokumentacije | C58: 1 | D58: kom | F58: =C58*E58 -> 0
A59: SKUPAJ ZAKLJUČNA DELA | E59: =SUM(F55:F58) -> 0
B69: REKAPITULACIJA STROŠKOV
B71: SKUPAJ PRIPRAVLJALNA DELA | F71: =E15 -> 0
B72: SKUPAJ GRADBENA DELA | F72: =E33 -> 0
B73: SKUPAJ MONTAŽNA DELA | F73: =E47 -> 0
B74: SKUPAJ ZAKLJUČNA DELA | F74: =E59 -> 0
B75: SKUPAJ JR | F75: =F71+F72+F73+F74 -> 0
B76: POPUST ( v % ) | F76: =F75*C76/100 -> 0
B77: SKUPAJ S POPUSTOM | F77: =F75-F76 -> 0
B78: DDV 22 % | F78: =F77*22/100 -> 0
B79: SKUPAJ Z DDV | F79: =F77+F78 -> 0

Sheet cesta
B7: Investitor/Naročnik:
B8: MESTNA OBČINA MURSKA SOBOTA KARDOŠEVA 2, M. SOBOTA
B9: Objekt: KANALIZACIJSKO OMREŽJE NA Pušči - faza 3
B10: Popis del za cesto
B14: REKAPITULACIJA CESTA
D19: količine | E19: cena na enoto | F19: skupaj
A20: I. | B20: PRIPRAVLJALNA IN ZAKLJUČNA DELA | F20: =F72 -> 0
A22: II. | B22: SPODNJI/ZGORNJI USTROJ | F22: =F122 -> 0
B25: SKUPAJ : | F25: =F20+F22 -> 0
B27: POPUST ( v % ) | F27: =F25*C27/100 -> 0
B28: SKUPAJ S POPUSTOM | F28: =F25-F27 -> 0
B29: DDV 22 % | F29: =F28*22/100 -> 0
B30: SKUPAJ Z DDV | F30: =F28+F29 -> 0
A37: I. | B37: PRIPRAVLJALNA IN ZAKLJUČNA DELA
A39: 1. | B39: Zavarovanje celotnega gradbišča v času gradnje s postavitvijo prometnih znakov in zapor ter dodatek zaradi gradnje pod prometom
C40: pavšal | D40: 1 | F40: =E40*D40 -> 0
A42: 2. | B42: Zakoličba osi trase ceste
C43: pavšal | D43: 1 | F43: =E43*D43 -> 0
B45: PROMETNA OPREMA
A46: 3. | B46: Dobava in montaža prometnih znakov dim. 30 x 30 cm z odsevno folijo 1. vrste z izkopom, betoniranjem temelja v bet. cev fi 30 cm, stebričkom in pritrdilnim materialom.
B47: stebriček fi 64mm, l=3650mm | C47: kom | D47: 1 | F47: =E47*D47 -> 0
B48: znak 2102 | C48: kom | D48: 1 | F48: =E48*D48 -> 0
B50: OZNAČBE NA VOZIŠČU
A51: 4. | B51: Izdelava vzdolžne debeloslojne črte z večkomponentno hladno plastiko z vibracijskim učinkom z enokomponentno barvo.
B52: 5111 - bela barva širine 15cm | C52: m1 | D52: 148 | F52: =E52*D52 -> 0
A54: 5. | B54: Izdelava debeloslojne označbe z večkomponentno hladno plastiko z enokomponentno barvo.
B55: 5234 - modra barva | C55: m2 | D55: 178 | F55: =E55*D55 -> 0
B57: NADZOR:
A58: 6. | B58: Projektantski nadzor
B59: - ocenjeno | C59: ur | D59: 8 | F59: =E59*D59 -> 0
A61: 7. | B61: Geomehanski nadzor
B62: - ocenjeno | C62: ur | D62: 4 | F62: =E62*D62 -> 0
A64: 8. | B64: Naprava geodetskega posnetka in projekta izvedenih del
B65: geodetski posnetek | C65: kom | D65: 1 | F65: =E65*D65 -> 0
B66: PID-gradbena dela | C66: kom | D66: 1 | F66: =E66*D66 -> 0
A68: 9. | B68: Razna nepredvidena dela se po vpisu v gradbeni dnevnik in potrjeno s strani nadzornega organa, obračun po dejanskih stroških, največ do 3 %
C69: 0.03 | D69: 0.03 | E69: =SUM(F39:F68) -> 0 | F69: =E69*D69 -> 0
B72: SKUPAJ PRIPRAVLJALNA DELA | F72: =SUM(F39:F69) -> 0
A74: ll | B74: SPODNJI / ZGORNJI USTROJ
B76: NOSILNE PLASTI:
A77: 1. | B77: Rezanje asfaltnega roba obstoječega vozišča s talno diamantno žago
C78: m1 | D78: 10 | F78: =E78*D78 -> 0
A80: 2. | B80: Izkop zemlje III.kat. za dosego planuma spodnjega ustroja. Nakladanje in odvoz materiala na stalno deponijo vključno z vsemi taksami. Obstoječi gramozni nasip v širini 3,5m ostane.
C81: m3 | D81: 351 | F81: =E81*D81 -> 0
A83: 3. | B83: Nabava, dovoz in vgrajevanje nasipne plasti iz gramoznice v debelini 40 cm z razgrinjanjem in vibriranjem Me=40MPa ter grobim planiranjem. Obstoječi gramozni nasip ostane.
C84: m3 | D84: 240 | F84: =E84*D84 -> 0
A86: 4. | B86: Valjanje tampona
B87: Me ≥ 40 Mpa | C87: m2 | D87: 1114 | F87: =E87*D87 -> 0
A89: 5. | B89: Nabava, dovoz in vgrajevanje nasipne plasti iz gramoznega drobljenca - TD32 v debelini 25 cm z razgrinjanjem in vibriranjem Me=45MPa ter grobim planiranjem
C90: m3 | D90: 252.3 | F90: =E90*D90 -> 0
A92: 6. | B92: Valjanje tampona
B93: Me ≥ 45 Mpa | C93: m2 | D93: 1009 | F93: =E93*D93 -> 0
B95: VOZIŠČE:
B96: VEZANE ZGORNJE NOSILNE PLASTI:
A97: 7. | B97: Čiščenje in premaz stikov z obstoječim asfaltom z bitumensko emulzijo
B98: obst. rob ceste | C98: m1 | D98: 10 | F98: =E98*D98 -> 0
A100: 8. | B100: Izdelava nosilne plasti asfalta AC 22 base B 50/70 A4 v debelini 5cm
C101: m2 | D101: 740 | F101: =E101*D101 -> 0
B103: OBRABNE IN ZAPORNE PLASTI:
A104: 9. | B104: Pobrizg asfalta z bitumensko emulzijo 0,4 kg/m2.
C105: m2 | D105: 740 | F105: =E105*D105 -> 0
A107: 10. | B107: Izdelava obrabnozaporne plasti asfalta AC 8 surf PmB 45/80-65 A3 v debelini 3,0cm
C108: m2 | D108: 740 | F108: =E108*D108 -> 0
B110: HODNIK:
A111: 11. | B111: Nabava, dovoz in vgrajevanje obrabnozaporne plasti asfalta AC 8surf B 50/70 A4 v debelini 5,0cm
C112: m2 | D112: 170 | F112: =E112*D112 -> 0
B114: ROBNI ELEMENTI VOZIŠČA:
A115: 12. | B115: Dobava in vgraditev prefabriciranih dvignjenih robnikov iz cementnega betona v betonsko podlago, komplet.
B116: prerez 15/25: | C116: m1 | D116: 11 | F116: =E116*D116 -> 0
B117: prerez 5/25: | C117: m1 | D117: 148 | F117: =E117*D117 -> 0
A119: 13. | B119: Razna nepredvidena dela se po vpisu v gradbeni dnevnik in potrjeno s strani nadzornega organa, obračun po dejanskih stroških, največ do 3 %.
C120: % | D120: 0.03 | E120: =SUM(F74:F119) -> 0 | F120: =E120*D120 -> 0
B122: SKUPAJ SPODNJI IN ZGORNJI USTROJ | F122: =SUM(F76:F120) -> 0
