Workbook
Name _Toc100454082: Plocnik_1B!$A$183
Name _Toc100454082: Vozisce_1B!$A$191
Name _Toc103136970: Plocnik_1B!#REF!
Name _Toc103136970: Vozisce_1B!#REF!
Name _Toc103400914: Plocnik_1B!$B$123
Name _Toc103400914: Vozisce_1B!$B$120
Name _Toc103495602: Plocnik_1B!$B$188
Name _Toc103495602: Vozisce_1B!$B$194
Name _Toc103495603: Plocnik_1B!#REF!
Name _Toc103495603: Vozisce_1B!$B$207
Name _Toc103495604: Plocnik_1B!#REF!
Name _Toc103495604: Vozisce_1B!#REF!
Name _Toc103495605: Plocnik_1B!#REF!
Name _Toc103495605: Vozisce_1B!#REF!
Name _Toc103495609: Plocnik_1B!#REF!
Name _Toc103495609: Vozisce_1B!#REF!
Name _Toc103495612: Plocnik_1B!#REF!
Name _Toc103495612: Vozisce_1B!#REF!
Name _Toc106433506: Plocnik_1B!#REF!
Name _Toc106433506: Vozisce_1B!#REF!
Name _Toc106433507: Plocnik_1B!#REF!
Name _Toc106433507: Vozisce_1B!#REF!
Name _Toc116357639: Plocnik_1B!#REF!
Name _Toc116357639: Vozisce_1B!#REF!
Name _Toc117392610: Plocnik_1B!$A$183
Name _Toc117392610: Vozisce_1B!$A$191
Name _Toc117475170: Plocnik_1B!#REF!
Name _Toc117475170: Vozisce_1B!#REF!
Name _Toc92683847: Plocnik_1B!$B$44
Name _Toc92683847: Vozisce_1B!#REF!
Name _Toc92683849: Plocnik_1B!#REF!
Name _Toc92683849: Vozisce_1B!#REF!
Name _Toc92683853: Plocnik_1B!$B$74
Name _Toc92683853: Vozisce_1B!$B$79
Name _Toc92683854: Plocnik_1B!#REF!
Name _Toc92683854: Vozisce_1B!#REF!
Name _Toc92683857: Plocnik_1B!$B$94
Name _Toc92683857: Vozisce_1B!$B$97
Name _Toc92683860: Plocnik_1B!$B$117
Name _Toc92683860: Vozisce_1B!#REF!
Name _Toc92683861: Plocnik_1B!#REF!
Name _Toc92683861: Vozisce_1B!#REF!
Name _Toc92683867: Plocnik_1B!$B$140
Name _Toc92683867: Vozisce_1B!$B$134
Name _Toc92683877: Plocnik_1B!#REF!
Name _Toc92683877: Vozisce_1B!#REF!
Name _Toc92683883: Plocnik_1B!$A$160
Name _Toc92683883: Vozisce_1B!#REF!
Name _Toc92683917: Plocnik_1B!$B$201
Name _Toc92683917: Vozisce_1B!$B$226
Name eeee: #REF!
Name Excel_BuiltIn_Print_Area_1: #REF!
Name Excel_BuiltIn_Print_Area_1: #REF!
Name Excel_BuiltIn_Print_Area_1: #REF!
Name Excel_BuiltIn_Print_Area_1: #REF!
Name Excel_BuiltIn_Print_Area_1A: #REF!
Name Excel_BuiltIn_Print_Area_3_1: #REF!
Name Excel_BuiltIn_Print_Area_3_1: GOI_1C!$A$3:$F$113
Name Excel_BuiltIn_Print_Area_3_1: #REF!
Name Excel_BuiltIn_Print_Area_3_1: #REF!

Sheet Splošna določila
A1: UVOD V PROJEKTANTSKI POPIS DEL
A3: SPLOŠNA OPOMBA: PZI projektantski popis in projektantski predračun je izdelan na podlagi PZI projekta, razgovora z odgovornim projektantom ter posameznimi ostalimi projektanti in načrtovalci. Popis zajema gradbena dela za območje vzdrževalnih del. Ostale dele kompleksa (hortikultura, elektroinstalacije, strojne instalacije, itd.) opredeljujejo drugi popisi. Pred izdelavo ponudbe je obvezen ogled lokacije objekta in projektne dokumentacije. Izvajalec je dolžan pri sestavi ponudbe upoštevati grafične in tekstualne dele projekta (PGD, PZI). V primeru tiskarskih napak in neskladij v projektu je dolžan na to opozoriti projektanta pred oddajo ponudbe. V sledečem popisu morajo biti v vseh postavkah vkalkulirane in upoštevane sledeče pripombe:
A5: 1. Vsi potrebni varnostni ukrepi in zaščite v smislu Zakona o varnosti in zdravja pri delu ter Pravilnika o listinah za sredstva pri delu, ki veljajo pri izvajanju navedenih del.
A7: 2. Vsi notranji in zunanji vertikalni in horizontalni transporti do začasnih in stalnih deponij ter vsa pripravljalna, pomožna in zaključna dela pri posameznih postavkah (tudi, če to ni posebej navedeno v posameznih postavkah). Odpadni in izkopani material se deponira na deponije, katere morajo imeti upravna dovoljenja za deponiranje posameznih vrst materiala. Ponudnik izbere lokacije posameznih deponij v skladu s tem popisom in v cenah za E.M. upošteva vse stroške deponiranja in transporta. Prikazane količine v tem popisu so v raščenem ali vgrajenem stanju. Posamezni koeficienti razrahljivosti so upoštevani že v ceni za enoto mere. Pri cenah za enoto je upoštevati določeno specifičnost lokacije glede na skladiščenje materiala.
A9: 3. Vgrajeni material mora ustrezati veljavnim normativom in predpisanim standardom, ter ustrezati kvaliteti določeni z veljavno zakonodajo ter projektom. Ponudnik to dokaže s predložitvijo izjav o skladnosti in ustreznih certifikatov pred vgrajevanjem, pridobitev teh listin mora biti vkalkulirana v cenah po enoti. Projektna dokumentacija v celoti je sestavni del tega popisa.
A11: 4. V času izdelave objekta morajo biti vsi vgrajeni materiali kot tudi začasno deponiran material na delovišču in skladiščih zaščiteni pred fizičnimi poškodbami, dežjem, mrazom in hudim vetrom ter ostalimi škodljivimi vremenskimi pogoji.
A13: 5. Pri gradnji objekta je obvezno upoštevati zahteve raznih Elaboratov, ter vse ostale pogoje posameznih soglasodajalcev, izdelovalcev posameznih načrtov in gradbenega dovoljenja. Pred pričetkom del mora izvajalec dodatno pregledati načrt gradbenih konstrukcij, načrt arhitekture, električnih inštalacij, naprav in opreme in načrt strojnih inštalacij, naprav in opreme in ostale izdelane načrte za predmetni objekt ter morebitne ugotovljene pripombe posredovati investitorju ali nadzorni službi.
A15: 6. V popisu so v vseh postavkah vkalkulirana popolnoma vsa pripravljalna, pomožna in zaključna dela, ki pripadajo k posamezni postavki in so potrebna za nemoteno izvajanje del! Ponudnik mora v posameznih cenah za enoto mere upoštevati vse potrebne vertikalne in horizontalne transporte ter upoštevati velikost parcele ter posledično zaradi tega sprotni dovoz določenega materiala in opreme na delovišče.
A17: 7. Vsebina popisa je izdelana na podlagi trenutno veljavnih predpisov in standardov. Količine so izračunane na podlagi GNG normativov in veljajo v nadaljevanju tudi kot kriterij za obračun posameznih količin!
A19: 8. Posamezni materiali, ki so v popisu navedeni z imenom ali tipom so za ponudnika obvezni! Materiali, ki so opremljeni s citatom: "ali enakovredno" za ponudnika niso obvezni! Ponudnik lahko ponuja druge artikle, material in opremo, vendar samo pod pogojem, da izpolnjuje navedene kriterije, parametre in lastnosti, ki se v posamezni postavki ali splošni opombi od določenega artikla, opreme ali materiala zahtevajo in če jih predhodno pisno potrdi projektant arhitekture!
A21: 9. Polega navedenega mora biti v cenah posameznih postavk upoštevano tudi sledeče:
A22: - vsi splošni in stalni stroški povezani z organizacijo in delom na gradbišču
... A29: 10. Navedene splošne opombe, pripombe in kriteriji veljajo za celoten popis.

Sheet Spošna določila - betonska dela
A1: SPLOŠNA DOLOČILA ZA BETONSKA DELA
A3: Pri izvajanju betonskih, armirano betonskih del je upoštevati vse pogoje, katere navaja in predpisuje Pravilnik o tehničnih normativih za beton in armirani beton in Projekt betona, katerega izdela izvajalec. Armatura se izdeluje v skladu s PZI projektom gradbenih konstrukcij; pri čemer je upoštevati vse pogoje in navodila za izdelavo iz vseh načrtov. Posebej pa je treba upoštevati sledeče:
A5: 1. Opaži morajo biti čisti in v celoti pripravljeni za betoniranje (močenje). Črpni beton se ne sme vgrajevati z višine večje od 1m! Betonirati se lahko začne šele po pregledu podlage, odrov, opažev in armature. Vse vezi, stebri in preklade pod ploščami se betonirajo skupaj s ploščo! Beton se ročno vgrajuje samo v predelne stene in v primerih kadar to dovoli nadzor.
A7: 2. Armatura ne sme rjaveti, pred montažo jo je potrebno očistiti nečistoč, upoštevati je debelino zaščitne plasti betona, pritrjen mora biti tako, da ostane med betoniranjem na svojem mestu.
A9: 3. Pred naročilom je upoštevati navedene eurokode in oznake betona; po končanem betoniranju je vgrajen beton potrebno zaščititi in negovati v skladu s pravili stroke.
A11: 4. Nadomestila za izvedbo elementov z naklonom do 5 % od vodoravnosti se posebej ne priznava. Za vidne konstrukcije se smatrajo vse tiste konstrukcije, ki po končani izdelavi ostanejo neometane.
A13: 5. Dopustna odstopanja za pravokotnost, dimenzije in ravnost posameznih betonskih ali armiranobetonskih konstrukcij so določena po določilih DIN 18202.
A15: 6. Pred začetkom betonskih del morata biti opaž in armatura popolnoma pripravljena. Odprtine za instalacijske vode morajo biti nameščene na točno predvidenih lokacijah, nameščena morajo biti vsa sidra, podometna inštalacija in ostali podometni elementi.
A17: 7. Pred pričetkom gradnje mora izvajalec izdelati Projekt izvajanja betonske konstrukcije ("projekt betona") skladen s standardom SIST EN 13670 in ga predložiti nadzoru in projektantu gradbenih konstrukcij v pregled in potrditev! Pripadajoči stroški morajo biti že vkalkulirani v ceno posamezne E.M. vgrajenega betona. Betoni so v celoti izdelani v skladu z SIST EN 206-1 in SIST 1026!
A19: 8. Ponudnik mora ob oddaji ponudbe naročniku predati vzorec finalno brušenega vidnega betona v dimenziji 50cm/50cm. Ponudnik mora pred začetkom gradnje vidnih armirano betonskih konstrukcij na gradbišču izvesti testno polje tlaka dimenzije 2m/2,5m (min. 2,5m2), ki je finalno obdelano na vse 3 značilne obdelave vidnega talnega betona. Testno polje mora biti enake kakovosti kot predhodno potrjen manjši vzorec. Testno polje mora biti izdelano z enakimi materiali in enako tehnologijo kot bo izdelana vidna betonska konstrukcija (enaka sestava betona, enaki opaži in ločevalno sredstvo, enaka tehnologija vgradnje, zgoščevanje in nege betona ter enaka končna obdelava (brušenje, štokanje). V konstrukciji mora biti uporabljena armatura in distančniki enakih dimenzij kot v končni konstrukciji. Testno polje pregleda nadzor, tehnolog vidnih betonov in projektant. Potrjeno tesno polje služi kot merilo kakovosti izvajanja vseh nadaljnjih faz izvajanja in finalne obdelave vidnih betonov.
A21: 10. Zahtevana je visoka natančnost izvedbe betonskih konstrukcij in površin. Pri izvedbi betonskih, jeklenih in drugih konstrukcij se za dopustne tolerance štejejo določila DIN 18202, pri čimer se pri izvedbi zaletišče predpisane vrednosti znižajo na 70% dopustnih po DIN 18202. Poleg navedenih toleranc pa veljajo absolutne tolerance na vse končne dimenzije in lege konstrukcij in sicer ± 1cm. Spoštovanje absolutnih toleranc pri vgrajenih konstrukcijah se dokazuje s geodetskimi izmerami pooblaščenega geodeta.
A23: Zahtevane kvalitete vidnega betona:
A24: Zahtevan je vidni beton razreda VB4 izdelan skladno s standardom SIST EN 13670, nacionalnim dodatkom in predpisom SIST-TP CEN/TR 15739 (zahteve za lastnosti površine razreda VB4 so natančno podane v tehničnem poročilu). Beli beton namenjen za zunanjo uporabo, pripravljen s cementom tipa CEM I 52,5R, ustreznimi dodatki in agregatnimi frakcijami. Sestavo betona videz in teksturo potrdi projektant. Pred izvajanjem del se izvede vzorec velikosti najmanj 2,50 m2 (minimalna proizveden količina je 1m3 belega betona ) izdelan po enakem postopku in enakimi materiali (beton, armatura, opaž) kot se bo gradil objekt. Izvede se obdelava površine kot je zahtevana v projektu. Vzorec potrdi projektant. Površina betona se zaščiti s hidrofobnim sredstvom, ki ne spremeni barve betona. Vrsta hidrofobne zaščite se preveri in potrdi na vzorcu (kot npr. Sikadard 704S ali Pieri Hydroxi 2000).

Sheet Dela_vsteta_v_Cena na enoto
A2: DELA VŠTETA V CENO
A4: V CENAH NA ENOTO JE ŽE VKLJUČENO IN SE NE OBRAČUNAVA POSEBEJ:
A7: 1. | B7: Čiščenje terena pred in po gradnji.
A9: 2. | B9: Črpanje vode in vsa dela za odvodnjavanje padavinske, izvorne in podtalne vode med gradnjo.
A11: 3. | B11: Vsa razpiranja kanala oziroma izvedba opaženega izkopa na nevarnih mestih, kjer je to potrebno za zagotavljanje varnosti in zdravja pri delu.
A13: 4. | B13: Zakoličba obstoječih komunalnih vodov pred začetkom gradnje.
A15: 5. | B15: Izdelava poročila o ravnanju z gradbenimi odpadki v skladu z zakonodajo, vključno z vsemi stroški in taksami ločenega zbiranja, sortiranja in evidentiranja gradbenih odpadkov, izkopanega materiala, kot tudi stroške odvoza in predelave le-teh, po določilih zakonodaje.
A17: 6. | B17: Postavitev gradbiščne table skladno z veljavno zakonodajo.
A19: 7. | B19: Prijava gradbišča v skladu z veljavno zakonodajo.
A21: 8. | B21: Stroški izdelave in dostave varnostnega načrta naročniku v skladu s predpisi o zagotavljanju varnosti in zdravja pri delu. Zagotoviti, da bo gradbišče urejeno v skladu z varnostnim načrtom. Načrt izvajalec preda v potrditev naročniku (inženirju) pet dni pred začetkom gradnje.
A23: 9. | B23: Stroški vseh potrebnih ukrepov, ki so predpisani in določeni z veljavnimi predpisi o varnosti in zdravju pri delu in varstvom pred požarom, ki jih mora izvajalec obvezno upoštevati.
A25: 10. | B25: Stroški soglasij in dovoljenj za zapore cest, vključno z elaboratom zapore ceste, stroški postavitve prometne in neprometne signalizacije, stroški zapor in preusmeritev prometa, objave v medijih in drugi stroški zapor.
A27: 11. | B27: Stroški vzdrževanja obvozov, še posebej na makadamskih obvozih na katerih je potrebno upoštevati stroške krpanja udarnih jam, protiprašnih ukrepov zaradi povečanega prometa itd.
A29: 12. | B29: Škoda na objektih ob gradbišču, ki jo povzroči izvajalec.
... A63: 29. | B63: Vsi morebitni stroški soglasij in drugi stroški, vezani na uporabo javnih površin, na izvedbo posegov v varovalni pas občinskih in državnih cest, za izvajanje del na in ob občinskih oziroma državnih cestah – prekopi, podkopi in vsi stroški, vezani na izpolnitev pogojev izdanih soglasij.

Sheet Rekapitulacija
A1: Investitor:
A2: MESTNA OBČINA MURSKA SOBOTA
A4: Objekt:
A5: »PRENOVA MESTNEGA SREDIŠČA – 1. Faza« (FAZA 1/2 Trg zmage (1B, 1C))
A8: REKAPITULACIJA
A10: FAZA 1B | B10: Vozišče | H10: =Vozisce_1B!F26 -> 0
B11: Pločnik | H11: =Plocnik_1B!F26 -> 0
B12: Elektro dela | H12: =Elektro_1B!F46 -> 0
B13: Vodovod | H13: =Vodovod_1B!F68 -> 0
G14: SKUPAJ - FAZA 1B | H14: =SUM(H10:H13) -> 0
A16: FAZA 1C | B16: Gradbeno obrtniška dela | H16: =GOI_1C!F112 -> 0
B17: Hortikultura | H17: =Hortikultura_1C!F16 -> 0
B18: Elektro dela | H18: =Elektro_1C!F139 -> 0
B19: Vodovod | H19: =Vodovod_1C!F54 -> 0
G20: SKUPAJ - FAZA 1C | H20: =SUM(H16:H19) -> 0
A23: NEPREDVIDENA DELA | G23: 0.05 | H23: =(H14+H20)*G23 -> 0
A26: SKUPAJ I. | H26: =H20+H14+H23 -> 0
A28: KOMERCIALNI POPUST | H28: =-(H26*G28) -> 0
A30: SKUPAJ II. | H30: =H26+H28 -> 0
A32: Osnova - 76.a člen ZDDV-1 | H32: =((H13+H19)+(H13+H19)*G23)-(H13+H19)*G28 -> 0
A33: Osnova - 22% DDV | H33: =(H10+H11+H12+H16+H17+H18)+(H10+H11+H12+H16+H17+H18)*G23-(H10+H11+H12+H16+H17+H18)*G28 -> 0
A34: DDV | G34: 0.22 | H34: =H33*G34 -> 0
A36: SKUPAJ Z DDV | H36: =H30+H34 -> 0

Sheet 1B=>

Sheet Vozisce_1B
A1: PONUDBENI PREDRAČUN : VOZIŠČE_1B
A3: OPOMBE:
A5: Popis del je usklajen s posebnimi tehničnimi pogoji - tehnična specifikacija za javne ceste TSC 09.000 : 2006.
A7: Vsa dela se morajo izvajati v skladu s tehničnim poročilom in načrti, po veljavnih standardih in smernicah.Vse eventualne sistemske rešitve ali spremembe ki bi nastale med gradnjo morajo biti podane s strani izvajalca in odobrene s strani strokovne službe investitorja.
A9: Komunalni vodi: morebitne prestavitve obstoječih komunalnih vodov je potrebno uskladiti s pristojnimi komunalnimi službami. Izvajalec mora najprej proučiti karto komunalnih vodov in morebitne prestavitve le-teh naročiti pri pristojnih službah.
A11: Odstranitvena dela se lahko začnejo šele po pristanku investitorja in v skladu z navodili nadzornega organa. Pred pričetkom del se mora izvajalec prepričati o lokaciji raznih napeljav in zagotoviti njihovo zaščito ali prestavitev. Morebitno začasno ali popolno zaporo prometa in potrebno signalizacijo izvede sam izvajalec v soglasju pristojnih organov.
A13: Obračuni izvršenih izkopov in zasipov se obračunavajo v raščenem stanju.
A15: Opomba: Zapora prometa in načrt začasne ureditve prometa med gradnjo ni predmet tega načrta. Izvajalec mora v ceno na enoto posameznih postavk zajeti tudi strošek izdelave načrt začasne ureditve prometa in vse stroške pridobivanja soglasja upravljalca ceste.
A17: REKAPITULACIJA:
A19: =+A31 -> 1.0 | B19: =B31 -> PREDDELA | F19: =F91 -> 0
A20: =+A95 -> 2.0 | B20: =B95 -> ZEMELJSKA DELA | F20: =F129 -> 0
A21: =+A132 -> 3.0 | B21: =B132 -> VOZIŠČNE KONSTRUKCIJE | F21: =F163 -> 0
A22: =+A166 -> 4.0 | B22: =+B166 -> ODVODNJAVANJE | F22: =+F190 -> 0
A23: =+A192 -> 6.0 | B23: =B192 -> OPREMA CEST | F23: =F220 -> 0
A24: =+A224 -> 7.0 | B24: =B224 -> TUJE STORITVE | F24: =F237 -> 0
B26: SKUPAJ | F26: =SUM(F19:F25) -> 0
A29: Zap. št. | B29: Opis del | C29: EM | D29: Količina | E29: Cena/EM | F29: Skupaj
A31: 1.0 | B31: PREDDELA
A33: 1.1 | B33: GEODETSKA DELA
A35: 11 131 | B35: Obnova in zavarovanje zakoličbe trase komunalnih vodov v ravninskem terenu - območje nadvišanega platoja | C35: m1 | D35: 25 | F35: =D35*E35 -> 0
A37: 11 221 | B37: Postavitev in zavarovanje prečnega profila ostale javne ceste v ravninskem terenu - območje nadvišanega platoja | C37: kos | D37: 2 | F37: =D37*E37 -> 0
A39: 11 631 | B39: Posnetek višine in položaja točke na terenu/objektu - območje nadvišanega platoja | C39: kos | D39: 10 | F39: =D39*E39 -> 0
A42: 1.1 | B42: GEODETSKA DELA SKUPAJ | F42: =SUM(F33:F39) -> 0
A45: 1.2 | B45: ČIŠČENJE TERENA
A47: 1.2.3 | B47: PORUŠITEV IN ODSTRANITEV VOZIŠČNIH KONSTRUKCIJ
A49: 12 323 | B49: Porušitev in odstranitev asfaltne plasti v debelini nad 10 cm - območje nadvišanega platoja | C49: m2 | D49: 230.5 | F49: =D49*E49 -> 0
A51: 12 383 | B51: Rezanje asfaltne plasti s talno diamantno žago, debele 11 do 15 cm - območje križišča - območje nadvišanega platoja | C51: m1 | D51: 20 | F51: =D51*E51 -> 0
A53: 12 391 | B53: Porušitev in odstranitev robnika iz cementnega betona - območje nadvišanega platoja | C53: m1 | D53: 8 | F53: =D53*E53 -> 0
A55: 12 392 | B55: Porušitev in odstranitev robnika iz naravnega kamna - območje nadvišanega platoja | C55: m1 | D55: 23 | F55: =D55*E55 -> 0
A57: 1.2.3 | B57: SKUPAJ | F57: =SUM(F47:F55) -> 0
A60: 1.2.4 | B60: PORUŠITEV IN ODSTRANITEV OBJEKTOV
A62: 12 431 | B62: Porušitev in odstranitev jaška z notranjo stranico/premerom do 60 cm - območje nadvišanega platoja | C62: m1 | D62: 2 | F62: =D62*E62 -> 0
A64: 1.2.4 | B64: SKUPAJ | F64: =SUM(F60:F62) -> 0
A67: 1.2 | B67: ČIŠČENJE TERENA SKUPAJ | F67: =F64+F57 -> 0
A70: 1.3 | B70: OSTALA PREDDELA
A72: 1.3.1 | B72: OMEJITVE PROMETA
A74: 13 111 | B74: Zavarovanje gradbišča v času gradnje s polovično zaporo prometa in usmerjanjem s semaforji - območje nadvišanega platoja | C74: dan | D74: 30 | F74: =D74*E74 -> 0
A76: 1.3.1 | B76: SKUPAJ | F76: =SUM(F72:F75) -> 0
A79: 1.3.2 | B79: PRIPRAVLJALNA DELA PRI OBJEKTIH
A81: 13 292 | B81: Začasna prestavitev inštalacij elektroenergetskega kabelskega voda nizke napetosti na območju objekta (oz. ustrezna zaščita) - območje nadvišanega platoja | C81: m1 | D81: 10 | F81: =D81*E81 -> 0
...

Sheet Plocnik_1B
A1: PONUDBENI PREDRAČUN : PLOČNIK_1B
A3: OPOMBE:
A5: Popis del je usklajen s posebnimi tehničnimi pogoji - tehnična specifikacija za javne ceste TSC 09.000 : 2006.
A7: Vsa dela se morajo izvajati v skladu s tehničnim poročilom in načrti, po veljavnih standardih in smernicah.Vse eventualne sistemske rešitve ali spremembe ki bi nastale med gradnjo morajo biti podane s strani izvajalca in odobrene s strani strokovne službe investitorja.
A9: Komunalni vodi: morebitne prestavitve obstoječih komunalnih vodov je potrebno uskladiti s pristojnimi komunalnimi službami. Izvajalec mora najprej proučiti karto komunalnih vodov in morebitne prestavitve le-teh naročiti pri pristojnih službah.
A11: Odstranitvena dela se lahko začnejo šele po pristanku investitorja in v skladu z navodili nadzornega organa. Pred pričetkom del se mora izvajalec prepričati o lokaciji raznih napeljav in zagotoviti njihovo zaščito ali prestavitev. Morebitno začasno ali popolno zaporo prometa in potrebno signalizacijo izvede sam izvajalec v soglasju pristojnih organov.
A13: Obračuni izvršenih izkopov in zasipov se obračunavajo v raščenem stanju.
A15: Opomba: Zapora prometa in načrt začasne ureditve prometa med gradnjo ni predmet tega načrta.
A17: REKAPITULACIJA:
A19: =+A31 -> 1.0 | B19: =B31 -> PREDDELA | F19: =F88 -> 0
A20: =+A92 -> 2.0 | B20: =B92 -> ZEMELJSKA DELA | F20: =F134 -> 0
A21: =+A138 -> 3.0 | B21: =B138 -> VOZIŠČNE KONSTRUKCIJE | F21: =F170 -> 0
A22: =+A174 -> 4.0 | B22: =+B174 -> ODVODNJAVANJE | F22: =+F182 -> 0
A23: =+A186 -> 6.0 | B23: =B186 -> OPREMA CEST | F23: =F195 -> 0
A24: =+A199 -> 7.0 | B24: =B199 -> TUJE STORITVE | F24: =F212 -> 0
B26: SKUPAJ | F26: =SUM(F19:F25) -> 0
A29: Zap. št. | B29: Opis del | C29: EM | D29: Količina | E29: Cena/EM | F29: Skupaj
A31: 1.0 | B31: PREDDELA
A33: 1.1 | B33: GEODETSKA DELA
A35: 11 131 | B35: Obnova in zavarovanje zakoličbe trase komunalnih vodov v ravninskem terenu | C35: m1 | D35: 25 | F35: =D35*E35 -> 0
A37: 11 631 | B37: Posnetek višine in položaja točke na terenu/objektu | C37: kos | D37: 10 | F37: =D37*E37 -> 0
A39: 1.1 | B39: GEODETSKA DELA SKUPAJ | F39: =SUM(F33:F37) -> 0
A42: 1.2 | B42: ČIŠČENJE TERENA
A44: 1.2.2 | B44: ODSTRANITEV PROMETNE SIGNALIZACIJE IN OPREME
A46: 12 151 | B46: Posek in odstranitev drevesa z deblom premera 11 do 30 cm ter odstranitev vej | C46: kos | D46: 1 | F46: =D46*E46 -> 0
A48: 12 163 | B48: Odstranitev panja s premerom 11 do 30 cm z odvozom na deponijo na razdaljo nad 1000 m | C48: kos | D48: 1 | F48: =D48*E48 -> 0
A50: 12 211 | B50: Demontaža prometnega znaka na enem podstavku - območje križišča | C50: kos | D50: 1 | F50: =D50*E50 -> 0
A52: 1.2.2 | B52: SKUPAJ | F52: =SUM(F44:F51) -> 0
A54: 1.2.3 | B54: PORUŠITEV IN ODSTRANITEV VOZIŠČNIH KONSTRUKCIJ
A56: 12 321 | B56: Porušitev in odstranitev asfaltne plasti v debelini do 5 cm (hodnik za pešce) | C56: m2 | D56: 170 | F56: =D56*E56 -> 0
A58: 12 323 | B58: Porušitev in odstranitev asfaltne plasti v debelini nad 10 cm | C58: m2 | D58: 34 | F58: =D58*E58 -> 0
A60: 12 382 | B60: Rezanje asfaltne plasti s talno diamantno žago, debele 6 do 10 cm | C60: m1 | D60: 60 | F60: =D60*E60 -> 0
A62: 12 391 | B62: Porušitev in odstranitev robnika iz cementnega betona | C62: m1 | D62: 20 | F62: =D62*E62 -> 0
A64: 12 391 | B64: Porušitev in odstranitev robnika iz cementnega betona | C64: m1 | D64: 9 | F64: =D64*E64 -> 0
A66: 1.2.3 | B66: SKUPAJ | F66: =SUM(F54:F64) -> 0
A69: 1.2 | B69: ČIŠČENJE TERENA SKUPAJ | F69: =F52+F66 -> 0
A72: 1.3 | B72: OSTALA PREDDELA
A74: 1.3.2 | B74: PRIPRAVLJALNA DELA PRI OBJEKTIH
A76: 13 292 | B76: Začasna prestavitev inštalacij elektroenergetskega kabelskega voda nizke napetosti na območju objekta (oz. ustrezna zaščita) | C76: m1 | D76: 7 | F76: =D76*E76 -> 0
A78: 13 293 | B78: Začasna prestavitev inštalacij PTT kabelskega voda na območju objekta (oz. ustrezna zaščita) | C78: m1 | D78: 7 | F78: =D78*E78 -> 0
...

Sheet Elektro_1B
A1: PONUDBENI PREDRAČUN : ELEKTRIČNE INŠTALACIJE IN ELEKTRIČNA OPREMA_1B
A3: SPLOŠNO:
A5: V ceno po enoti mere je zajeta dobava in montaža materiala ter opreme s pom. deli in drobnim materialom (rezanje, dolbljenje, kronsko vrtanje z udarnim kladivom, preboji vključeni v ceni).
A7: Vsa oprema in material se mora dobaviti z vsemi ustreznimi certifikati, atesti, garancijami, navodili za obratovanje, vzdrževanje, posluževanje in servisiranje. (v skladu z veljavno zakonodajo in zahtevami naročnika).
A9: Pri opremi in materialu je potrebno upoštevati stroške meritev, preiskusa in zagona, vključno s pridobitvijo ustreznih certifikatov in potrdil s strani pooblaščenih institucij.
A11: Pri izvedbi je potrebno upoštevati stroške vseh pripravljalnih in zaključnih del (vključno z usklajevanjem z ostalimi izvajalci na objektu), ažurno evidentiranje eventuelnih za izdelavo PID dokumentacije ter vse transportne, skladiščne, zavarovalne in ostale splošne stroške.
A14: Zap. št. | B14: Opis del | C14: EM | D14: Količina | E14: Cena/EM | F14: Skupaj
A16: 1. | B16: ZUNANJA UREDITEV-ELETRIČNE INŠTALACIJE Z POTREBNIMI GRADBENIMI DELI
A18: 1 | B18: Valjanec Fe/Zn 25x4 mm položen v skupni jarek s kablom (zunanja razsvetljava) | C18: m | D18: 25 | F18: =IF((D18*E18)=0," ",(D18*E18))
A20: =A18+1 -> 2 | B20: Križna sponka 58x58 z antikorozijsko zaščito z "Dekordal" trakom | C20: kom | D20: 3 | F20: =IF((D20*E20)=0," ",(D20*E20))
F21: =IF((D21*E21)=0," ",(D21*E21))
A22: =A20+1 -> 3 | B22: Izolacijska cev PEHD 110, rdeče barve, položena v izkopani jarek | C22: m | D22: 15 | F22: =IF((D22*E22)=0," ",(D22*E22))
F23: =IF((D23*E23)=0," ",(D23*E23))
A24: =A22+1 -> 4 | B24: Izolacijska cev PEHD 75, rdeče barve, položena v izkopani jarek | C24: m | D24: 50 | F24: =IF((D24*E24)=0," ",(D24*E24))
F25: =IF((D25*E25)=0," ",(D25*E25))
A26: =A24+1 -> 5 | B26: Izolacijska cev PEHD 2xfi50, rdeče barve, položena v izkopani jarek | C26: m | D26: 25 | F26: =IF((D26*E26)=0," ",(D26*E26))
F27: =IF((D27*E27)=0," ",(D27*E27))
A28: =A26+1 -> 6 | B28: Dobava in polaganje PVC opozorilnega traku POZOR ENERGETSKI KABEL, položen nad kabel v kabelski jarek (zunanja razsvetljava) | C28: m | D28: 25 | F28: =IF((D28*E28)=0," ",(D28*E28))
A30: =A28+1 -> 7 | B30: Izkop jarka v zemlji 90% III. IN 10% IV ktg. (dim. 0,4 x 0,8), s pravilnim odsekovanjem stranic in dna izkopa ter odlaganje ob rob izkopa (obračun v raščenem stanju) - za polaganje kanalizacije in zasipanje kabelske kanalizacije z tamponskim in izkopanim materialom po plasteh z utrjevanjem | C30: m3 | D30: 12 | F30: =IF((D30*E30)=0," ",(D30*E30))
F31: =IF((D31*E31)=0," ",(D31*E31))
A32: =A30+1 -> 8 | B32: Odvoz odvečne zemlje na stalno deponijo, skupaj z nakladanjem in zvračanjem ter stroški deponije (obračun v raščenem stanju) za zunanjo razsvetljavo | C32: m3 | D32: 2 | F32: =IF((D32*E32)=0," ",(D32*E32))
F33: =IF((D33*E33)=0," ",(D33*E33))
A34: =A32+1 -> 9 | B34: Izdelava kabelske posteljice dim. 0.2x0.8m s peskom garnulacije 0-4mm za zunanjo razsvetljavo | C34: m3 | D34: 2 | F34: =IF((D34*E34)=0," ",(D34*E34))
F35: =IF((D35*E35)=0," ",(D35*E35))
A36: =A34+1 -> 10 | B36: Dobava in polaganje PVC opozorilnega traku POZOR ENERGETSKI KABEL, položen nad kabel v kabelski jarek | C36: m | D36: 25 | F36: =IF((D36*E36)=0," ",(D36*E36))
A38: =A36+1 -> 11 | B38: Izkop gradbene jame in postavitev temelja svetilke za drog 4 m dim fi.50cm in globine 100cm dobava betonske cevi komplet z uvodnimi stigma cevmi in sidernimi vijaki iz zalitje z betonom C25/30 | C38: kom | D38: 2 | F38: =IF((D38*E38)=0," ",(D38*E38))
A40: =1+A38 -> 12 | B40: S2 - Svetilka javne razsvetljave oblikovno integrirana v steber. - Konstrukcija stebra iz jekla protikorozijsko zaščiten z cinkanjem površine - barvan-poliesterska strukturna barva Tiger Drylac 29/80077, postopek: prašno barvanje, z integrirano montažno sponko. - Montaža z 4 x M22 stebrnimi vijaki na pred pripravljen temelj. - Steber je pred ožičen za priključitev svetilke - Svetilka 4,5 M višine z priključno močjo do 18 watt in lumen paketom ne manjšim od 2100Lm pri 4000 K - Led svetlobni izvor pripravljen za hitro izmenjavo. - Napajalnik integriran sestavni del svetilke - Priključna sponka preko hitro spojnega elementa, ki je pred montiran iz strani proizvajalca. - Možnost menjave optike zaradi boljšega efekta ovetlitve. - CE certifikat - 5 letna garancija - Kot na primer PARK L GEOLUX Parkline I S 18 AC 40 | C40: kom | D40: 2 | F40: =IF((D40*E40)=0," ",(D40*E40))
A42: =A40+1 -> 13 | B42: Vris kabelske kanalizacije v podzemni kataster | C42: kpl | D42: 1 | F42: =IF((D42*E42)=0," ",(D42*E42))
A44: =A42+1 -> 14 | B44: Projektantski nadzor | C44: ur | D44: 4 | F44: =IF((D44*E44)=0," ",(D44*E44))
B46: =B16 -> ZUNANJA UREDITEV-ELETRIČNE INŠTALACIJE Z POTREBNIMI GRADBENIMI DELI | F46: =SUM(F18:F44) -> 0

Sheet Vodovod_1B
A1: PONUDBENI PREDRAČUN : VODOVODNE INŠTALACIJE_1B
A3: SPLOŠNO:
A5: V ceno po enoti mere je zajeta dobava in montaža materiala ter opreme s pom. deli in drobnim materialom (rezanje, dolbljenje, kronsko vrtanje z udarnim kladivom, preboji vključeni v ceni).
A7: Vsa oprema in material se mora dobaviti z vsemi ustreznimi certifikati, atesti, garancijami, navodili za obratovanje, vzdrževanje, posluževanje in servisiranje. (v skladu z veljavno zakonodajo in zahtevami naročnika).
A9: Pri opremi in materialu je potrebno upoštevati stroške meritev, preiskusa in zagona, vključno s pridobitvijo ustreznih certifikatov in potrdil s strani pooblaščenih institucij.
A11: Pri izvedbi je potrebno upoštevati stroške vseh pripravljalnih in zaključnih del (vključno z usklajevanjem z ostalimi izvajalci na objektu), ažurno evidentiranje eventuelnih za izdelavo PID dokumentacije ter vse transportne, skladiščne, zavarovalne in ostale splošne stroške.
A14: Zap. št. | B14: Opis del | C14: EM | D14: Količina | E14: Cena/EM | F14: Skupaj
A16: 1. | B16: CEVOVOD SLOVENSKA ULICA IN V6
A18: 1 | B18: Strojno rezanje asfalta z odstranitvijo asfalta in odvozom na deponijo | C18: m' | D18: 58.5 | F18: =IF((D18*E18)=0," ",(D18*E18))
A20: =A18+1 -> 2 | B20: Strojno-ročni izkop kanala za vodovodni vod z nakladanjem in odvozom na deponijo do 3 km | D20: 22.8 | F20: =IF((D20*E20)=0," ",(D20*E20))
F21: =IF((D21*E21)=0," ",(D21*E21))
A22: =A20+1 -> 3 | B22: Planiranje dna izkopa vodovodnega kanala | C22: m' | D22: 23 | F22: =IF((D22*E22)=0," ",(D22*E22))
F23: =IF((D23*E23)=0," ",(D23*E23))
A24: =A22+1 -> 4 | B24: Dobava in vgrajevanje peska granulacije 0-4 mm (okrogla zrnca) za posteljico, ob cevi in nad cevjo | C24: m³ | D24: 3.5 | F24: =IF((D24*E24)=0," ",(D24*E24))
F25: =IF((D25*E25)=0," ",(D25*E25))
A26: =A24+1 -> 5 | B26: Dobava in vgrajevanje gramoza z zasipavanjem po plasteh in utrditvijo do ustrezne zbitosti | C26: m³ | D26: 16.4 | F26: =IF((D26*E26)=0," ",(D26*E26))
F27: =IF((D27*E27)=0," ",(D27*E27))
A28: =A26+1 -> 6 | B28: Asfaltiranje prekopa skupaj z dobavo asfaltne mase, emulzije, prevozi,… | C28: m² | D28: 17.5 | F28: =IF((D28*E28)=0," ",(D28*E28))
A30: =A28+1 -> 7 | B30: Cev PE 100 PN16 Ø110 RC PROTECT SDR 11 | C30: m' | D30: 30 | F30: =IF((D30*E30)=0," ",(D30*E30))
F31: =IF((D31*E31)=0," ",(D31*E31))
A32: =A30+1 -> 8 | B32: Opozorilni trak | C32: m' | D32: 30 | F32: =IF((D32*E32)=0," ",(D32*E32))
F33: =IF((D33*E33)=0," ",(D33*E33))
A34: =A32+1 -> 9 | B34: Tlačni preizkus položenega cevovoda | C34: kpl | D34: 1 | F34: =IF((D34*E34)=0," ",(D34*E34))
F35: =IF((D35*E35)=0," ",(D35*E35))
A36: =A34+1 -> 10 | B36: Odvzem vzorca s poročilom | C36: kom | D36: 1 | F36: =IF((D36*E36)=0," ",(D36*E36))
A38: =A36+1 -> 11 | B38: Geodetski posnetek | C38: m' | D38: 30 | F38: =IF((D38*E38)=0," ",(D38*E38))
A40: =1+A38 -> 12 | B40: Nadzor upravljavca vodovoda (inženir) | C40: kpl | D40: 1 | F40: =IF((D40*E40)=0," ",(D40*E40))
A42: =A40+1 -> 13 | B42: T kos bajonetni MMB DN 100-100 | C42: kom | D42: 1 | F42: =IF((D42*E42)=0," ",(D42*E42))
A44: =A42+1 -> 14 | B44: EV zasun HSM bajonet/obojka DN 100 | C44: kom | D44: 2 | F44: =IF((D44*E44)=0," ",(D44*E44))
A46: =A44+1 -> 15 | B46: Spojka bajonetna varilna DN 100 | C46: kom | D46: 2 | F46: =IF((D46*E46)=0," ",(D46*E46))
F47: =IF((D47*E47)=0," ",(D47*E47))
A48: =A46+1 -> 16 | B48: Čep varilni 110 | C48: kom | D48: 1 | F48: =IF((D48*E48)=0," ",(D48*E48))
F49: =IF((D49*E49)=0," ",(D49*E49))
A50: =A48+1 -> 17 | B50: T kos bajonetni MMB DN 100-80 | C50: kom | D50: 1 | F50: =IF((D50*E50)=0," ",(D50*E50))
A52: =A50+1 -> 18 | B52: S kos bajonetni DN 100 | C52: kom | D52: 2 | F52: =IF((D52*E52)=0," ",(D52*E52))
F53: =IF((D53*E53)=0," ",(D53*E53))
A54: =A52+1 -> 19 | B54: S kos bajonetni DN 80 | C54: kom | D54: 1 | F54: =IF((D54*E54)=0," ",(D54*E54))
F55: =IF((D55*E55)=0," ",(D55*E55))
A56: =A54+1 -> 20 | B56: Obojka varilna 110 | C56: kom | D56: 2 | F56: =IF((D56*E56)=0," ",(D56*E56))
F57: =IF((D57*E57)=0," ",(D57*E57))
...

Sheet 1C=>

Sheet GOI_1C
A1: PONUDBENI PREDRAČUN : GRADBENO OBRTNIŠKA DELA_TRG_ZMAGE_1C
A3: Zap. št. | B3: Opis del | C3: EM | D3: Količina | E3: Cena/EM | F3: Skupaj
A5: A4.1 | B5: Kompletna izvedba odstranitev obstoječih pohodnih tlakovanih poti (delno asfaltiranih in delno tlakovanih), s prenosi in nalaganjem ruševin na transportno sredstvo ter odvoz na stalno deponijo. V ceni upoštevati plačilo komunalne takse. | C5: m2 | D5: 1860.37 | F5: =E5*D5 -> 0
A7: A4.2 | B7: Strojni izkop zemljine za izvedbo novega nasutja in finalnega tlaka, s sprotnim nakladanjem na transportno sredstvo; Odvoz na stalno deponijo - glej postavko A2.8. | C7: m3 | D7: 1438.9 | F7: =E7*D7 -> 0
A9: A4.3 | B9: Ročni odkop okoli morebitnih instalacij v terenu III. in IV. kategorije na lokaciji z odmetom na rob izkopa (količina ocenjena) | C9: m3 | D9: 5 | F9: =E9*D9 -> 0
A11: A4.4 | B11: Planiranje dna izkopa s točnostjo +- 1 cm z minimalnim izmetom ali dosipom ter premetom odvečnega materiala. Obračun po m2. POZOR: liti betonski tlak se izvaja direktno na utrjeni in planirani nasip. Eventualna večja poraba materiala betona zaradi nenatančno pripravljene podlage bremeni izvajalca! | C11: m2 | D11: 2398.32 | F11: =E11*D11 -> 0
A13: A4.5 | B13: Strojno utrjevanje dna izkopa v terenu III. in IV. kategorije z vibracijsko ploščo ali vibrovaljarjem do predpisane zbitosti 60 MPa; stopnjo utrjenosti dokazati na podlagi geomehanskih meritev. | C13: m2 | D13: 2398.32 | F13: =E13*D13 -> 0
A15: A4.6 | B15: Nabava, dobava in polaganje geotekstil (PP 300g) na uvaljan in utrjen planum, pred začetkom nasipavanja, vključno s potrebnimi preklopi 10% | C15: m2 | D15: 2398.32 | F15: =E15*D15 -> 0
A17: A4.7 | B17: Nabava, dobava in vgrajevanje gramoznega materiala kot tamponski nasip v deb. cca. 60 cm, pod finalnim tlakom, z razgrinjanjem, planiranjem s točnostjo +- 1 cm in utrjevanjem v plasteh do predpisane zbitosti 60 MPa. Obračun po m3 tampona v utrjenem stanju. Dela izvajati po navodilih geomehanika | C17: m3 | D17: 1438.9 | F17: =E17*D17 -> 0
A19: A4.8 | B19: Odvoz izkopanega materiala na stalno deponijo oddaljeno do 10 km, nakladanje je zajeto skupaj z izkopom. V postavki mora biti zajeto tudi plačilo komunalnega prispevka za stalno deponijo | C19: m3 | D19: =D7 -> 1438.9 | F19: =E19*D19 -> 0
A21: A4.9 | B21: Geomehanski pregled in nadzor v skladu z ZGO: strokovna prisotnost geomehanika v času izvajanja izkopa, utrjevanja in pregled temeljnih tal pred izvedbo temeljev. V ceni je zajeti vse potrebne obiske geomehanika, vključno z izdelavo končnega poročila. | C21: kpl | D21: 1 | F21: =E21*D21 -> 0
A23: A4.10a | B23: Kompletna dobava in vgradnja geotekstila - separacijske plasti kot npr. Dupont Geoproma. ali kakovostno enakovredno, | C23: m2 | D23: 84.82 | F23: =E23*D23 -> 0
A25: A4.10b | B25: Kompletna dobava in vgradnja prodca deb. 5 cm, drobna granulacija, vključno z vsemi pomožnimi, pripravljalnimi in zaključnimi deli ter vsemi potrebnimi horizontalnimi in vertikalnimi transporti. | C25: m3 | D25: 6.24 | F25: =E25*D25 -> 0
A27: A4.12a | B27: Kompletna izdelava, dobava in vgrajevanje izravnava obstoječih pasovnih temeljev s polimerizirano cementno malto v debelini 0,2cm - 5cm, vključno z vsemi pomožnimi deli in transportom do mesta vgrajevanja. Količina je ocenjena. | C27: m3 | D27: 2.5 | F27: =E27*D27 -> 0
B28: ►temelj ab podstaveka (spomenk zmage, betonski podstavek - podlaga)
A30: A4.12b | B30: Komprimiranje nasipne podlage pod temelji do trdnosti 40MPa | C30: m2 | D30: 120 | F30: =E30*D30 -> 0
A32: A4.12c | B32: Kompletna izdelava, dobava in vgrajevanje betona C8/10, podložni beton debeline 10cm, vključno z vsemi pomožnimi deli in transportom do mesta vgrajevanja: | C32: m3 | D32: 12 | F32: =E32*D32 -> 0
A34: A4.12d | B34: Dobava in vgradnja ločilnega sloja, PVC folije.
A36: A4.13a | B36: Kompletna izdelava, dobava in vgrajevanje betona C30/37, v armirane konstrukcije, prereza od 0.10 do 0.20 m3/m2/m1, vključno z vsemi pomožnimi deli in transportom do mesta vgrajevanja: | C36: m3 | D36: 29 | F36: =E36*D36 -> 0
B37: ►ab dilatirana betonska plošča, deb. 15 -20 cm, (spomenik zmage, betonski podstavek)
A39: A4.13b | B39: Kompletna izdelava, dobava in vgrajevanje betona C30/37 v debelini 5cm, po principu mokro na mokro, v armirane konstrukcije, prereza od 0.05 do 0.10 m3/m2/m1, vključno z vsemi pomožnimi deli in transportom do mesta vgrajevanja: | C39: m3 | D39: 6.5 | F39: =E39*D39 -> 0
B40: ►ab dilatirana betonska plošča - finalna terazzo plast betona, deb. 5 cm, (spomenik zmage, betonski podstavek) Upoštevati posneti betonski robovi 1 cm! - BRUŠEN BETON
B41: Izvedba finalnega belega betona sestavljenega iz agregata (mešanica rečnega proda Mure, agregat 0mm – 8mm) in mešanice belega in sivega cementa (razmerje 35% - 65%). Beton se nato grobo brusi, s cementnim mlekom zapolni nastale pore in nato fino brusi. Izpostavljeni robovi tlaka se naknadno fino pobrusijo pod kotom 45°- izvedba fazete. Končna obdelava površine je terazzo. Betonska plošča je razrezana na dilatacijska polja skladno z detajlom. Dilatacijske fuge se zapolni z redečo fugirno maso (zmrzlinsko in UV odporna), fuge poglobljene za 5mm. Betonska dela se izvajajo skladno s projektom betona, ki ga predhodno potrdi odgovorni nadzor in odgovorni projektant arhitekture
A43: A4.13c | B43: Izdelava projekta betona, skladno z navodili podanimi v Poročilu o detajlnem pregledu betonskih delov Spomenika padlih rdečearmejcev in partizanov, Irma Trzin, november 2017 | C43: kom | D43: 1 | F43: =E43*D43 -> 0
A46: A4.14 | B46: Kompletna izdelava, dobava in vgrajevanje betona C30/37, v armirane konstrukcije, prereza od 0.12 do 0.20 m3/m2/m1, vključno z vsemi pomožnimi deli in transportom do mesta vgrajevanja: | C46: m3 | D46: =43.5*0.75 -> 32.625 | F46: =E46*D46 -> 0
B47: ►ab monolitna betnska plošča, fino štokani beton 15 cm - FINO ŠTOKAN BETON V ceni upoštevati izvedbo dilatacij (ustrezni profili)! Upoštevati posneti betonski robovi 1 cm!
B48: Izvedba finalnega belega betona sestavljenega iz agregata (mešanica rečnega proda Mure in belega kremenčevega peska v razmerju 50%:50% agregat 0mm – 8mm) in mešanice belega in sivega cementa (razmerje 65% - 35%). Beton se nato grobo brusi, s cementnim mlekom zapolni nastale pore in nato fino štoka. Pričakovan razred odpornosti proti zdrsu je R11. Izpostavljeni robovi tlaka se naknadno fino pobrusijo pod kotom 45°- izvedba fazete.
A50: A4.15a | B50: Kompletna izdelava, dobava in vgrajevanje betona C30/37, v armirane konstrukcije, prereza od 0.12 do 0.20 m3/m2/m1, vključno z vsemi pomožnimi deli in transportom do mesta vgrajevanja: | C50: m3 | D50: =383.51*0.75 -> 287.6325 | F50: =E50*D50 -> 0
B51: ►ab monolitna betnska plošča, grobo štokani beton 15 cm - GROBO ŠTOKAN BETON V ceni upoštevati naknadno zarezana dilatacija 3/60mm
B52: Izvedba finalnega belega betona sestavljenega iz agregata (mešanica rečnega proda Mure in belega kremenčevega peska v razmerju 50%:50%, agregat 0mm – 16mm) in mešanice belega in sivega cementa (razmerje 65% - 35%).
A54: A4.15b | B54: Obdelava vidnega betona tako, da se grobo brusi, s cementnim mlekom zapolni nastale pore in nato grobo štoka. Pričakovan razred odpornosti proti zdrsu je R12. Izpostavljeni robovi tlaka se naknadno fino pobrusijo pod kotom 45°- izvedba fazete | C54: m2 | D54: 1900 | F54: =E54*D54 -> 0
A56: A4.16 | B56: Kompletna izdelava, dobava in vgrajevanje betona C25/30, v armirane konstrukcije, prereza od 0.12 do 0.20 m3/m2/m1, vključno z vsemi pomožnimi deli in transportom do mesta vgrajevanja: | C56: m3 | D56: 1.02 | F56: =E56*D56 -> 0
B57: ►ab točkovni temeljl (za ulično svetilko)
A59: A4.17 | B59: Kompletna izdelava, dobava in vgrajevanje betona C25/30, v armirane konstrukcije, prereza od 0.12 do 0.20 m3/m2/m1, vključno z vsemi pomožnimi deli in transportom do mesta vgrajevanja: | C59: m3 | D59: 1.5 | F59: =E59*D59 -> 0
B60: ►ab temelj stojni drogovi
A62: A4.18 | B62: Dobava, rezanje, krivljenje, vezanje in polaganje armature ter polaganje armaturnih mrež kompletno po armaturnem načrtu, z vsemi pomožnimi deli in prenosi, do mesta vgraditve. Armira se zgornja cona in robovi! Armatura RA 400/500 | C62: kg | D62: 29500 | F62: =E62*D62 -> 0
B63: Navedena količina je ocenjena po količinah vgrajenih betonov (60-70 kg/m3).
A65: A4.19 | B65: Izdelava opaža roba monolitne betonske plošče - fino štokan beton, višine 15 cm, opaž deloma v krožnem radiju oz. eliptičnem radiju, skupaj s potrebnim opiranjem; opaženje, razopaženje, čiščenje in zlaganjem po konačnih delih | C65: m1 | D65: 85.31 | F65: =E65*D65 -> 0
A67: A4.20 | B67: Izdelava opaža roba monolitne betonske plošče - grobo štokan beton, višine 15 cm, opaž deloma v krožnem radiju oz. eliptičnem radiju, skupaj s potrebnim opiranjem; opaženje, razopaženje, čiščenje in zlaganjem po konačnih delih | C67: m1 | D67: 1010.49 | F67: =E67*D67 -> 0
A69: A4.21 | B69: Izdelava opaža roba monolitne betonske plošče - spomenik zmage, betonski podstavek, višine 30 cm, skupaj s potrebnim opiranjem; opaženje, razopaženje, čiščenje in zlaganjem po konačnih delih | C69: m1 | D69: 86.04 | F69: =E69*D69 -> 0
...

Sheet Hortikultura_1C
A1: PONUDBENI PREDRAČUN : HORTIKULTURA_TRG_ZMAGE_1C
A3: OPOMBA: Projektantski popis del je pripravljen za zaščito obstoječih dreves med prenovo tlakovanih površin in podstavka spomenika, zasaditev in zatravitev ter vzdrževalna dela, namenjena zasaditvi. V predračunu je upoštevan tudi nanos dodatne rodovitne zemlje v območjih sajenja.
A5: POZOR: Tekom vseh gradbenih del v neposredni bližini obstoječih dreves je potrebno zagotoviti stalno mehansko zaščito debel, krošenj in korenin dreves. Zaščitni ukrepi po potrebi vključujejo naslednja dela: Zaščita okrog drevesnih debel, debelna zaščita v višini 2 m, tapecirana na strani proti deblu in Zaščitne kovinske plošče korenine skupaj s talno utrditvijo - gramoz in pesek v plasti, debeli 15 cm. Zaščitne ukrepe je potrebno izvajati, dela so vključena v enotno ceno cene zasaditev.
A7: Zap. št. | B7: Opis del | C7: EM | D7: Količina | E7: Cena/EM | F7: Skupaj
A9: 4 | B9: ZASADITEV
A10: 4.1 | B10: ODSTRANITEV DREVES in GRMOVNIC Odstranitev z odstranitvijo štorov, nakladanje in odvoz na deponijo (drevesa na zelenici in tise neposredno ob spomeniku) | C10: kos | D10: 6 | F10: =E10*D10 -> 0
A11: 4.2 | B11: ODSTRANITEV POKROVNIC Odstranitev in odvoz na drugo lokacijo, ki jo določi investitor, kjer se na novo posadijo (sajenje na drugi lokaciji ni zajeto v popis). | C11: m2 | D11: 120 | F11: =E11*D11 -> 0
A12: 4.3 | B12: ODSTRANITEV DREVES IN NJIHOVA PRESADITEV Odstrani in presadi se: Pinus heldreichii 8 kosov, izkop jame velikosti 1,5 m x 1,5 m x 1,5 m oz. v velikosti koreninske grude, dodajanje mešanice šote, hygromulla in komposta v sadilno jamo, odvoz mrtvice, sajenje, nabava in postavitev zaščitne opore - količkov, zalivanje, zaščita sadike za 2 do 3 leta. | C12: ure | D12: 32 | F12: =E12*D12 -> 0
A13: 4.4 | B13: DOBAVA IN SAJENJE POKROVNIH VRTNIC Nabava in dovoz rodovitne zemlje v globini 60 cm znotraj podstavka spomenika zmage, nabava in dovoz sadik: Rosa `Swany` pokrovna vrtnica, slovenskega ali nemškega izvora, dodajanje mešanice šote, hygromulla in komposta v sadilno površino (85 m2 v globini 60 cm), odvoz mrtvice, sajenje 4,5 kosa/m2. | C13: kos | D13: 388 | F13: =E13*D13 -> 0
A14: 4.5 | B14: DOBAVA, SAJENJE IN ZAŠČITA DREVOREDNIH DREVES Nabava in dovoz rodovitne zemlje, nabava in dovoz sadik (enake velikosti, kot so obstoječe breze ob zahodni strani Trga zmage, obseg debla 1,5m od tal min. 25cm): Betula pendula drevoredno drevo, slovenskega ali nemškega izvora, izkop jame velikosti 1,5 m x 1,5 m x 1,5 m oz. v velikosti koreninske grude, dodajanje mešanice šote, hygromulla in komposta v sadilno jamo, odvoz mrtvice, sajenje, nabava in postavitev zaščitne opore - količkov, zalivanje, zaščita sadike za 2 do 3 leta | C14: kos | D14: 3 | F14: =E14*D14 -> 0
A15: 4.6 | B15: ZATRAVITEV Odvoz in navoz plodne zemlje v globini 10 cm, razgrinjanje, grobo in fino planiranje, dognojevanje, nabava travne mešanice, zagrabljanje, uvaljanje in čiščenje po končanih delih, gnojilo, voda. Zatravitev se izvede s hidrosetvijo. V projektantski predračun je zajeto gnojilo bioalgen S90 (100 % biološko gnojilo; na 1 ha pride 2 l gnojila in 400 l vode). Na 1 m2 je načrtovanih 25-50 g travne mešanice. | C15: m2 | D15: 4600 | F15: =E15*D15 -> 0
B16: SKUPAJ ZATRAVITEV | F16: =SUM(F10:F15) -> 0

Sheet Elektro_1C
A1: PONUDBENI PREDRAČUN : ELEKTRIČNE INŠTALACIJE IN ELEKTRIČNA OPREMA_1C
A3: SPLOŠNO:
A4: V ceno po enoti mere je zajeta dobava in montaža materiala ter opreme s pom. deli in drobnim materialom (rezanje, dolbljenje, kronsko vrtanje z udarnim kladivom, preboji vključeni v ceni).
A6: Vsa oprema in material se mora dobaviti z vsemi ustreznimi certifikati, atesti, garancijami, navodili za obratovanje, vzdrževanje, posluževanje in servisiranje. (v skladu z veljavno zakonodajo in zahtevami naročnika).
A8: Pri opremi in materialu je potrebno upoštevati stroške meritev, preiskusa in zagona, vključno s pridobitvijo ustreznih certifikatov in potrdil s strani pooblaščenih institucij.
A10: Pri izvedbi je potrebno upoštevati stroške vseh pripravljalnih in zaključnih del (vključno z usklajevanjem z ostalimi izvajalci na objektu), ažurno evidentiranje eventuelnih za izdelavo PID dokumentacije ter vse transportne, skladiščne, zavarovalne in ostale splošne stroške.
A12: Zap. št. | B12: Opis del | C12: EM | D12: Količina | E12: Cena/EM | F12: Skupaj
A14: 1. | B14: ZUNANJA UREDITEV-ELETRIČNE INŠTALACIJE Z POTREBNIMI GRADBENIMI DELI
A17: 1 | B17: Vodnik položen delno v kab. kanalizacijo, delno pa v izol. cev z opozorilnim trakom
B18: - NYY-J 5x2,5 mm2 | C18: m | D18: 90 | F18: =IF((D18*E18)=0," ",(D18*E18))
B19: - NYY-J 5x6 mm2 | C19: m | D19: 170 | F19: =IF((D19*E19)=0," ",(D19*E19))
B20: - NAYY-J 5x10 mm2 | C20: m | D20: 420 | F20: =IF((D20*E20)=0," ",(D20*E20))
B21: - NAYY-J 5x16 mm2 | C21: m | D21: 620 | F21: =IF((D21*E21)=0," ",(D21*E21))
B22: - NAYY-J 5x35 mm2 | C22: m | D22: 370 | F22: =IF((D22*E22)=0," ",(D22*E22))
B23: -UTP 4x2x0,5 cat 6E, zemeljski tip | C23: m | D23: 270 | F23: =IF((D23*E23)=0," ",(D23*E23))
B24: -TOSM 1x6´zemeljski (odobri investitor) | C24: m | D24: 90 | F24: =IF((D24*E24)=0," ",(D24*E24))
A26: =1+A17 -> 2 | B26: S1 - Svetilka javne razsvetljave oblikovno integrirana v steber. - Konstrukcija stebra iz jekla protikorozijsko zaščiten z cinkanjem površine barvan-poliesterska strukturna barva Tiger Drylac 29/80077, postopek: prašno barvanje, z integrirano montažno sponko. - Montaža z 4 x M22 stebrnimi vijaki na pred pripravljen temelj. - Steber je pred ožičen za priključitev svetilke - Svetilka 4,5 m višine z priključno močjo do 18 watt in lumen paketom ne manjšim od 2100Lm pri 4000 K - Led svetlobni izvor pripravljen za hitro izmenjavo. - Napajalnik integriran sestavni del svetilke - Priključna sponka preko hitro spojnega elementa, ki je pred montiran iz strani proizvajalca. - Možnost menjave optike zaradi boljšega efekta osvetlitve. - CE certifikat - 5 letna garancija - Kot na primer PARK L GEOLUX Parkline I S 18 AC 40 | C26: kom | D26: 8 | F26: =IF((D26*E26)=0," ",(D26*E26))
A28: =1+A26 -> 3 | B28: Razdelilec E-CR-1 in PARK napajanje - tipski temelj s podložnim betonom, komplet z izolacijskimi cevmi PVC 4x110 mm ter sidrnimi vijaki za montažo E-CR po detajlu z kabelskim jaškom FI.1,0x1.0m in LTŽ pokrovim 125kN | C28: kos | D28: 1 | F28: =IF((D28*E28)=0," ",(D28*E28))
B29: 1- tipsko ohišje INOX 1600x1000x500 mm stopnja mehanske, dvojno pregrajeno za merilni in krmilni del, z dvojnimi vrati, zaščite IP66 | C29: kos | D29: 1
B30: - Polindirektni trifazni števec s 15-minutno re- gistracijo delovne energije kl.1 (IEC) ali B (MID),jalove energije kl.2, (3x230/400V, 5A) in komunikacijskim vmesnikom | C30: kos | D30: 1
B31: - glavno stikalo KG 160A,3p | C31: kos | D31: 1
B32: - kontaktor KN30 | C32: kos | D32: 7
B33: - foto rele HTR 03.3. s foto celico | C33: kos | D33: 1
B34: - grelec 100W za ogrevanje omare | C34: kos | D34: 1
B35: - termostat 0-30 st. C | C35: kos | D35: 2
B36: - tipska svetilka omare komplet s stikalom | C36: kos | D36: 1
B37: - varovalno podnožje PK250/3 z varovalkami | C37: kos | D37: 3
B38: - varovalčno stikalo 3x100 A z ustreznim varovalčnim vložkom | C38: kos | D38: 9
B39: - programska ura | C39: kos | D39: 1
B40: - varovalka Tytyan z vložkom 3x16A | C40: kos | D40: 7
... B49: - v. sponke, ožičenje, drobni montažni material in pribor ter enopolna shema dejanskega stanja in napisne ploščice | C49: kos | D49: 1
A51: =1+A28 -> 4 | B51: Razdelilec E-CR-2 napajanje - tipski temelj s podložnim betonom, komplet z izolacijskimi cevmi PVC 4x110 mm ter sidrnimi vijaki za montažo E-CR po detajlu z kabelskim jaškom FI.1,0x1.0m in LTŽ pokrovim 125kN | C51: kos | D51: 1 | F51: =IF((D51*E51)=0," ",(D51*E51))
B52: 1- tipsko ohišje INOX 1600x1000x500 mm stopnja mehanske, dvojno pregrajeno za merilni in krmilni del, z dvojnimi vrati, zaščite IP66 | C52: kos | D52: 1
B53: - Direktni trifazni števec s 15-minutno re- gistracijo delovne energije kl.1 (IEC) ali B (MID),jalove energije kl.2, (3x230/400V, 5A) in komunikacijskim vmesnikom | C53: kos | D53: 1
B54: - glavno stikalo KG 125A,3p | C54: kos | D54: 1
B55: - kontaktor KN30 | C55: kos | D55: 4
B56: - foto rele HTR 03.3. s foto celico | C56: kos | D56: 1
B57: - grelec 100W za ogrevanje omare | C57: kos | D57: 1
B58: - termostat 0-30 st. C | C58: kos | D58: 2
B59: - tipska svetilka omare komplet s stikalom | C59: kos | D59: 1
...

Sheet Vodovod_1C
A1: PONUDBENI PREDRAČUN : VODOVODNE INŠTALACIJE_1C
A3: SPLOŠNO:
A5: V ceno po enoti mere je zajeta dobava in montaža materiala ter opreme s pom. deli in drobnim materialom (rezanje, dolbljenje, kronsko vrtanje z udarnim kladivom, preboji vključeni v ceni).
A7: Vsa oprema in material se mora dobaviti z vsemi ustreznimi certifikati, atesti, garancijami, navodili za obratovanje, vzdrževanje, posluževanje in servisiranje. (v skladu z veljavno zakonodajo in zahtevami naročnika).
A9: Pri opremi in materialu je potrebno upoštevati stroške meritev, preiskusa in zagona, vključno s pridobitvijo ustreznih certifikatov in potrdil s strani pooblaščenih institucij.
A11: Pri izvedbi je potrebno upoštevati stroške vseh pripravljalnih in zaključnih del (vključno z usklajevanjem z ostalimi izvajalci na objektu), ažurno evidentiranje eventuelnih za izdelavo PID dokumentacije ter vse transportne, skladiščne, zavarovalne in ostale splošne stroške.
A14: Zap. št. | B14: Opis del | C14: EM | D14: Količina | E14: Cena/EM | F14: Skupaj
A16: 1. | B16: CEVOVOD KARDOŠEVA ULICA IN V5
A18: 1 | B18: Strojno rezanje asfalta z odstranitvijo asfalta in odvozom na deponijo | C18: m' | D18: 8 | F18: =IF((D18*E18)=0," ",(D18*E18))
A20: =A18+1 -> 2 | B20: Strojno-ročni izkop kanala za vodovodni vod z nakladanjem in odvozom na deponijo do 3 km | C20: m³ | D20: 3 | F20: =IF((D20*E20)=0," ",(D20*E20))
F21: =IF((D21*E21)=0," ",(D21*E21))
A22: =A20+1 -> 3 | B22: Strojno-ročni izkop gradbene jame za vodovodni vod in vodomerni jašek z odlaganjem ob rob gradbene jame | C22: m³ | D22: 10.2 | F22: =IF((D22*E22)=0," ",(D22*E22))
F23: =IF((D23*E23)=0," ",(D23*E23))
A24: 4 | B24: Planiranje dna izkopa vodovodnega kanala | C24: m' | D24: 10.2 | F24: =IF((D24*E24)=0," ",(D24*E24))
F25: =IF((D25*E25)=0," ",(D25*E25))
A26: =A24+1 -> 5 | B26: Dobava in vgrajevanje peska granulacije 0-4 mm (okrogla zrnca) za posteljico, ob cevi in nad cevjo | C26: m³ | D26: 1.6 | F26: =IF((D26*E26)=0," ",(D26*E26))
F27: =IF((D27*E27)=0," ",(D27*E27))
A28: =A26+1 -> 6 | B28: Dobava in vgrajevanje gramoza z zasipavanjem po plasteh in utrditvijo do ustrezne zbitosti | C28: m³ | D28: 2.75 | F28: =IF((D28*E28)=0," ",(D28*E28))
F29: =IF((D29*E29)=0," ",(D29*E29))
A30: =A28+1 -> 7 | B30: Zasip z materialom od izkopa | C30: m² | D30: 8.5 | F30: =IF((D30*E30)=0," ",(D30*E30))
A32: =A30+1 -> 8 | B32: Jašek za vodomer 1/1 | C32: kom | D32: 1 | F32: =IF((D32*E32)=0," ",(D32*E32))
F33: =IF((D33*E33)=0," ",(D33*E33))
A34: =A32+1 -> 9 | B34: Cev PE 100 PN16 Ø32 RC PROTECT | C34: m' | D34: 15 | F34: =IF((D34*E34)=0," ",(D34*E34))
F35: =IF((D35*E35)=0," ",(D35*E35))
A36: =A34+1 -> 10 | B36: opozorilni trak | C36: m' | D36: 15 | F36: =IF((D36*E36)=0," ",(D36*E36))
F37: =IF((D37*E37)=0," ",(D37*E37))
A38: =A36+1 -> 11 | B38: Cev zaščitna 63 | C38: m' | D38: 15 | F38: =IF((D38*E38)=0," ",(D38*E38))
A40: =A38+1 -> 12 | B40: Manšeta gumi 63-32 | C40: kom | D40: 2 | F40: =IF((D40*E40)=0," ",(D40*E40))
A42: =1+A40 -> 13 | B42: Spojka alk. 1" 2/2 | C42: kom | D42: 1 | F42: =IF((D42*E42)=0," ",(D42*E42))
A44: =A42+1 -> 14 | B44: Čep alk. 1" | C44: kom | D44: 2 | F44: =IF((D44*E44)=0," ",(D44*E44))
A46: =A44+1 -> 15 | B46: Tlačni preizkus položenega cevovoda | C46: kom | D46: 1 | F46: =IF((D46*E46)=0," ",(D46*E46))
A48: =A46+1 -> 16 | B48: Odvzem vzorca s poročilom | C48: kom | D48: 1 | F48: =IF((D48*E48)=0," ",(D48*E48))
F49: =IF((D49*E49)=0," ",(D49*E49))
A50: =A48+1 -> 17 | B50: Geodetski posnetek | C50: kom | D50: 1 | F50: =IF((D50*E50)=0," ",(D50*E50))
F51: =IF((D51*E51)=0," ",(D51*E51))
A52: =A50+1 -> 18 | B52: Nadzor upravljavca vodovoda (inženir) | C52: kpl | D52: 1 | F52: =IF((D52*E52)=0," ",(D52*E52))
B54: =B16 -> CEVOVOD KARDOŠEVA ULICA IN V5 | F54: =SUM(F18:F53) -> 0
