Workbook
Name _Toc100454082: Plocnik_1B!$A$183
Name _Toc100454082: Vozisce_1B!$A$191
Name _Toc103136970: Plocnik_1B!#REF!
Name _Toc103136970: Vozisce_1B!#REF!
Name _Toc103400914: Plocnik_1B!$B$123
Name _Toc103400914: Vozisce_1B!$B$120
Name _Toc103495602: Plocnik_1B!$B$188
Name _Toc103495602: Vozisce_1B!$B$194
Name _Toc103495603: Plocnik_1B!#REF!
Name _Toc103495603: Vozisce_1B!$B$207
Name _Toc103495604: Plocnik_1B!#REF!
Name _Toc103495604: Vozisce_1B!#REF!
Name _Toc103495605: Plocnik_1B!#REF!
Name _Toc103495605: Vozisce_1B!#REF!
Name _Toc103495609: Plocnik_1B!#REF!
Name _Toc103495609: Vozisce_1B!#REF!
Name _Toc103495612: Plocnik_1B!#REF!
Name _Toc103495612: Vozisce_1B!#REF!
Name _Toc106433506: Plocnik_1B!#REF!
Name _Toc106433506: Vozisce_1B!#REF!
Name _Toc106433507: Plocnik_1B!#REF!
Name _Toc106433507: Vozisce_1B!#REF!
Name _Toc116357639: Plocnik_1B!#REF!
Name _Toc116357639: Vozisce_1B!#REF!
Name _Toc117392610: Plocnik_1B!$A$183
Name _Toc117392610: Vozisce_1B!$A$191
Name _Toc117475170: Plocnik_1B!#REF!
Name _Toc117475170: Vozisce_1B!#REF!
Name _Toc92683847: Plocnik_1B!$B$44
Name _Toc92683847: Vozisce_1B!#REF!
Name _Toc92683849: Plocnik_1B!#REF!
Name _Toc92683849: Vozisce_1B!#REF!
Name _Toc92683853: Plocnik_1B!$B$74
Name _Toc92683853: Vozisce_1B!$B$79
Name _Toc92683854: Plocnik_1B!#REF!
Name _Toc92683854: Vozisce_1B!#REF!
Name _Toc92683857: Plocnik_1B!$B$94
Name _Toc92683857: Vozisce_1B!$B$97
Name _Toc92683860: Plocnik_1B!$B$117
Name _Toc92683860: Vozisce_1B!#REF!
Name _Toc92683861: Plocnik_1B!#REF!
Name _Toc92683861: Vozisce_1B!#REF!
Name _Toc92683867: Plocnik_1B!$B$140
Name _Toc92683867: Vozisce_1B!$B$134
Name _Toc92683877: Plocnik_1B!#REF!
Name _Toc92683877: Vozisce_1B!#REF!
Name _Toc92683883: Plocnik_1B!$A$160
Name _Toc92683883: Vozisce_1B!#REF!
Name _Toc92683917: Plocnik_1B!$B$201
Name _Toc92683917: Vozisce_1B!$B$226
Name eeee: #REF!
Name Excel_BuiltIn_Print_Area_1: #REF!
Name Excel_BuiltIn_Print_Area_1: #REF!
Name Excel_BuiltIn_Print_Area_1: #REF!
Name Excel_BuiltIn_Print_Area_1: #REF!
Name Excel_BuiltIn_Print_Area_1A: #REF!
Name Excel_BuiltIn_Print_Area_3_1: #REF!
Name Excel_BuiltIn_Print_Area_3_1: GOI_1C!$A$3:$F$113
Name Excel_BuiltIn_Print_Area_3_1: #REF!
Name Excel_BuiltIn_Print_Area_3_1: #REF!

Sheet Splošna določila
A1: UVOD V PROJEKTANTSKI POPIS DEL
A3: SPLOŠNA OPOMBA: PZI projektantski popis in projektantski predračun je izdelan na podlagi PZI projekta, razgovora z odgovornim projektantom ter posameznimi ostalimi projektanti in načrtovalci. Popis zajema gradbena dela za območje vzdrževalnih del. Ostale dele kompleksa (hortikultura, elektroinstalacije, strojne instalacije, itd.) opredeljujejo drugi popisi. Pred izdelavo ponudbe je obvezen ogled lokacije objekta in projektne dokumentacije. Izvajalec je dolžan pri sestavi ponudbe upoštevati grafične in tekstualne dele projekta (PGD, PZI). V primeru tiskarskih napak in neskladij v projektu je dolžan na to opozoriti projektanta pred oddajo ponudbe. V sledečem popisu morajo biti v vseh postavkah vkalkulirane in upoštevane sledeče pripombe:
A5: 1. Vsi potrebni varnostni ukrepi in zaščite v smislu Zakona o varnosti in zdravja pri delu ter Pravilnika o listinah za sredstva pri delu, ki veljajo pri izvajanju navedenih del.
A7: 2. Vsi notranji in zunanji vertikalni in horizontalni transporti do začasnih in stalnih deponij ter vsa pripravljalna, pomožna in zaključna dela pri posameznih postavkah (tudi, če to ni posebej navedeno v posameznih postavkah). Odpadni in izkopani material se deponira na deponije, katere morajo imeti upravna dovoljenja za deponiranje posameznih vrst materiala. Ponudnik izbere lokacije posameznih deponij v skladu s tem popisom in v cenah za E.M. upošteva vse stroške deponiranja in transporta. Prikazane količine v tem popisu so v raščenem ali vgrajenem stanju. Posamezni koeficienti razrahljivosti so upoštevani že v ceni za enoto mere. Pri cenah za enoto je upoštevati določeno specifičnost lokacije glede na skladiščenje materiala.
A9: 3. Vgrajeni material mora ustrezati veljavnim normativom in predpisanim standardom, ter ustrezati kvaliteti določeni z veljavno zakonodajo ter projektom. Ponudnik to dokaže s predložitvijo izjav o skladnosti in ustreznih certifikatov pred vgrajevanjem, pridobitev teh listin mora biti vkalkulirana v cenah po enoti. Projektna dokumentacija v celoti je sestavni del tega popisa.
A11: 4. V času izdelave objekta morajo biti vsi vgrajeni materiali kot tudi začasno deponiran material na delovišču in skladiščih zaščiteni pred fizičnimi poškodbami, dežjem, mrazom in hudim vetrom ter ostalimi škodljivimi vremenskimi pogoji.
A13: 5. Pri gradnji objekta je obvezno upoštevati zahteve raznih Elaboratov, ter vse ostale pogoje posameznih soglasodajalcev, izdelovalcev posameznih načrtov in gradbenega dovoljenja. Pred pričetkom del mora izvajalec dodatno pregledati načrt gradbenih konstrukcij, načrt arhitekture, električnih inštalacij, naprav in opreme in načrt strojnih inštalacij, naprav in opreme in ostale izdelane načrte za predmetni objekt ter morebitne ugotovljene pripombe posredovati investitorju ali nadzorni službi.
A15: 6. V popisu so v vseh postavkah vkalkulirana popolnoma vsa pripravljalna, pomožna in zaključna dela, ki pripadajo k posamezni postavki in so potrebna za nemoteno izvajanje del! Ponudnik mora v posameznih cenah za enoto mere upoštevati vse potrebne vertikalne in horizontalne transporte ter upoštevati velikost parcele ter posledično zaradi tega sprotni dovoz določenega materiala in opreme na delovišče.
A17: 7. Vsebina popisa je izdelana na podlagi trenutno veljavnih predpisov in standardov. Količine so izračunane na podlagi GNG normativov in veljajo v nadaljevanju tudi kot kriterij za obračun posameznih količin!
A19: 8. Posamezni materiali, ki so v popisu navedeni z imenom ali tipom so za ponudnika obvezni! Materiali, ki so opremljeni s citatom: "ali enakovredno" za ponudnika niso obvezni! Ponudnik lahko ponuja druge artikle, material in opremo, vendar samo pod pogojem, da izpolnjuje navedene kriterije, parametre in lastnosti, ki se v posamezni postavki ali splošni opombi od določenega artikla, opreme ali materiala zahtevajo in če jih predhodno pisno potrdi projektant arhitekture!
A21: 9. Polega navedenega mora biti v cenah posameznih postavk upoštevano tudi sledeče:
A22: - vsi splošni in stalni stroški povezani z organizacijo in delom na gradbišču
... A29: 10. Navedene splošne opombe, pripombe in kriteriji veljajo za celoten popis.

Sheet Spošna določila - betonska dela
A1: SPLOŠNA DOLOČILA ZA BETONSKA DELA
A3: Pri izvajanju betonskih, armirano betonskih del je upoštevati vse pogoje, katere navaja in predpisuje Pravilnik o tehničnih normativih za beton in armirani beton in Projekt betona, katerega izdela izvajalec. Armatura se izdeluje v skladu s PZI projektom gradbenih konstrukcij; pri čemer je upoštevati vse pogoje in navodila za izdelavo iz vseh načrtov. Posebej pa je treba upoštevati sledeče:
A5: 1. Opaži morajo biti čisti in v celoti pripravljeni za betoniranje (močenje). Črpni beton se ne sme vgrajevati z višine večje od 1m! Betonirati se lahko začne šele po pregledu podlage, odrov, opažev in armature. Vse vezi, stebri in preklade pod ploščami se betonirajo skupaj s ploščo! Beton se ročno vgrajuje samo v predelne stene in v primerih kadar to dovoli nadzor.
A7: 2. Armatura ne sme rjaveti, pred montažo jo je potrebno očistiti nečistoč, upoštevati je debelino zaščitne plasti betona, pritrjen mora biti tako, da ostane med betoniranjem na svojem mestu.
A9: 3. Pred naročilom je upoštevati navedene eurokode in oznake betona; po končanem betoniranju je vgrajen beton potrebno zaščititi in negovati v skladu s pravili stroke.
A11: 4. Nadomestila za izvedbo elementov z naklonom do 5 % od vodoravnosti se posebej ne priznava. Za vidne konstrukcije se smatrajo vse tiste konstrukcije, ki po končani izdelavi ostanejo neometane.
A13: 5. Dopustna odstopanja za pravokotnost, dimenzije in ravnost posameznih betonskih ali armiranobetonskih konstrukcij so določena po določilih DIN 18202.
A15: 6. Pred začetkom betonskih del morata biti opaž in armatura popolnoma pripravljena. Odprtine za instalacijske vode morajo biti nameščene na točno predvidenih lokacijah, nameščena morajo biti vsa sidra, podometna inštalacija in ostali podometni elementi.
A17: 7. Pred pričetkom gradnje mora izvajalec izdelati Projekt izvajanja betonske konstrukcije ("projekt betona") skladen s standardom SIST EN 13670 in ga predložiti nadzoru in projektantu gradbenih konstrukcij v pregled in potrditev! Pripadajoči stroški morajo biti že vkalkulirani v ceno posamezne E.M. vgrajenega betona. Betoni so v celoti izdelani v skladu z SIST EN 206-1 in SIST 1026!
A19: 8. Ponudnik mora ob oddaji ponudbe naročniku predati vzorec finalno brušenega vidnega betona v dimenziji 50cm/50cm. Ponudnik mora pred začetkom gradnje vidnih armirano betonskih konstrukcij na gradbišču izvesti testno polje tlaka dimenzije 2m/2,5m (min. 2,5m2), ki je finalno obdelano na vse 3 značilne obdelave vidnega talnega betona. Testno polje mora biti enake kakovosti kot predhodno potrjen manjši vzorec. Testno polje mora biti izdelano z enakimi materiali in enako tehnologijo kot bo izdelana vidna betonska konstrukcija (enaka sestava betona, enaki opaži in ločevalno sredstvo, enaka tehnologija vgradnje, zgoščevanje in nege betona ter enaka končna obdelava (brušenje, štokanje). V konstrukciji mora biti uporabljena armatura in distančniki enakih dimenzij kot v končni konstrukciji. Testno polje pregleda nadzor, tehnolog vidnih betonov in projektant. Potrjeno tesno polje služi kot merilo kakovosti izvajanja vseh nadaljnjih faz izvajanja in finalne obdelave vidnih betonov.
A21: 10. Zahtevana je visoka natančnost izvedbe betonskih konstrukcij in površin. Pri izvedbi betonskih, jeklenih in drugih konstrukcij se za dopustne tolerance štejejo določila DIN 18202, pri čimer se pri izvedbi zaletišče predpisane vrednosti znižajo na 70% dopustnih po DIN 18202. Poleg navedenih toleranc pa veljajo absolutne tolerance na vse končne dimenzije in lege konstrukcij in sicer ± 1cm. Spoštovanje absolutnih toleranc pri vgrajenih konstrukcijah se dokazuje s geodetskimi izmerami pooblaščenega geodeta.
A23: Zahtevane kvalitete vidnega betona:
A24: Zahtevan je vidni beton razreda VB4 izdelan skladno s standardom SIST EN 13670, nacionalnim dodatkom in predpisom SIST-TP CEN/TR 15739 (zahteve za lastnosti površine razreda VB4 so natančno podane v tehničnem poročilu). Beli beton namenjen za zunanjo uporabo, pripravljen s cementom tipa CEM I 52,5R, ustreznimi dodatki in agregatnimi frakcijami. Sestavo betona videz in teksturo potrdi projektant. Pred izvajanjem del se izvede vzorec velikosti najmanj 2,50 m2 (minimalna proizveden količina je 1m3 belega betona ) izdelan po enakem postopku in enakimi materiali (beton, armatura, opaž) kot se bo gradil objekt. Izvede se obdelava površine kot je zahtevana v projektu. Vzorec potrdi projektant. Površina betona se zaščiti s hidrofobnim sredstvom, ki ne spremeni barve betona. Vrsta hidrofobne zaščite se preveri in potrdi na vzorcu (kot npr. Sikadard 704S ali Pieri Hydroxi 2000).

Sheet Dela_vsteta_v_Cena na enoto
A2: DELA VŠTETA V CENO
A4: V CENAH NA ENOTO JE ŽE VKLJUČENO IN SE NE OBRAČUNAVA POSEBEJ:
A7: 1. | B7: Čiščenje terena pred in po gradnji.
A9: 2. | B9: Črpanje vode in vsa dela za odvodnjavanje padavinske, izvorne in podtalne vode med gradnjo.
A11: 3. | B11: Vsa razpiranja kanala oziroma izvedba opaženega izkopa na nevarnih mestih, kjer je to potrebno za zagotavljanje varnosti in zdravja pri delu.
A13: 4. | B13: Zakoličba obstoječih komunalnih vodov pred začetkom gradnje.
A15: 5. | B15: Izdelava poročila o ravnanju z gradbenimi odpadki v skladu z zakonodajo, vključno z vsemi stroški in taksami ločenega zbiranja, sortiranja in evidentiranja gradbenih odpadkov, izkopanega materiala, kot tudi stroške odvoza in predelave le-teh, po določilih zakonodaje.
A17: 6. | B17: Postavitev gradbiščne table skladno z veljavno zakonodajo.
A19: 7. | B19: Prijava gradbišča v skladu z veljavno zakonodajo.
A21: 8. | B21: Stroški izdelave in dostave varnostnega načrta naročniku v skladu s predpisi o zagotavljanju varnosti in zdravja pri delu. Zagotoviti, da bo gradbišče urejeno v skladu z varnostnim načrtom. Načrt izvajalec preda v potrditev naročniku (inženirju) pet dni pred začetkom gradnje.
A23: 9. | B23: Stroški vseh potrebnih ukrepov, ki so predpisani in določeni z veljavnimi predpisi o varnosti in zdravju pri delu in varstvom pred požarom, ki jih mora izvajalec obvezno upoštevati.
A25: 10. | B25: Stroški soglasij in dovoljenj za zapore cest, vključno z elaboratom zapore ceste, stroški postavitve prometne in neprometne signalizacije, stroški zapor in preusmeritev prometa, objave v medijih in drugi stroški zapor.
A27: 11. | B27: Stroški vzdrževanja obvozov, še posebej na makadamskih obvozih na katerih je potrebno upoštevati stroške krpanja udarnih jam, protiprašnih ukrepov zaradi povečanega prometa itd.
A29: 12. | B29: Škoda na objektih ob gradbišču, ki jo povzroči izvajalec.
... A63: 29. | B63: Vsi morebitni stroški soglasij in drugi stroški, vezani na uporabo javnih površin, na izvedbo posegov v varovalni pas občinskih in državnih cest, za izvajanje del na in ob občinskih oziroma državnih cestah – prekopi, podkopi in vsi stroški, vezani na izpolnitev pogojev izdanih soglasij.

Sheet Rekapitulacija
A1: Investitor:
A2: MESTNA OBČINA MURSKA SOBOTA
A4: Objekt:
A5: »PRENOVA MESTNEGA SREDIŠČA – 1. Faza« (FAZA 1/2 Trg zmage (1B, 1C))
A8: REKAPITULACIJA
A10: FAZA 1B | B10: Vozišče | H10: =Vozisce_1B!F26 -> 0
B11: Pločnik | H11: =Plocnik_1B!F26 -> 0
B12: Elektro dela | H12: =Elektro_1B!F46 -> 0
B13: Vodovod | H13: =Vodovod_1B!F68 -> 0
G14: SKUPAJ - FAZA 1B | H14: =SUM(H10:H13) -> 0
A16: FAZA 1C | B16: Gradbeno obrtniška dela | H16: =GOI_1C!F112 -> 0
B17: Hortikultura | H17: =Hortikultura_1C!F16 -> 0
B18: Elektro dela | H18: =Elektro_1C!F139 -> 0
B19: Vodovod | H19: =Vodovod_1C!F54 -> 0
G20: SKUPAJ - FAZA 1C | H20: =SUM(H16:H19) -> 0
A23: NEPREDVIDENA DELA | G23: 0.05 | H23: =(H14+H20)*G23 -> 0
A26: SKUPAJ I. | H26: =H20+H14+H23 -> 0
A28: KOMERCIALNI POPUST | H28: =-(H26*G28) -> 0
A30: SKUPAJ II. | H30: =H26+H28 -> 0
A32: Osnova - 76.a člen ZDDV-1 | H32: =((H13+H19)+(H13+H19)*G23)-(H13+H19)*G28 -> 0
A33: Osnova - 22% DDV | H33: =(H10+H11+H12+H16+H17+H18)+(H10+H11+H12+H16+H17+H18)*G23-(H10+H11+H12+H16+H17+H18)*G28 -> 0
A34: DDV | G34: 0.22 | H34: =H33*G34 -> 0
A36: SKUPAJ Z DDV | H36: =H30+H34 -> 0

Sheet 1B=>

Sheet Vozisce_1B
A1: PONUDBENI PREDRAČUN : VOZIŠČE_1B
A3: OPOMBE:
A5: Popis del je usklajen s posebnimi tehničnimi pogoji - tehnična specifikacija za javne ceste TSC 09.000 : 2006.
A7: Vsa dela se morajo izvajati v skladu s tehničnim poročilom in načrti, po veljavnih standardih in smernicah.Vse eventualne sistemske rešitve ali spremembe ki bi nastale med gradnjo morajo biti podane s strani izvajalca in odobrene s strani strokovne službe investitorja.
A9: Komunalni vodi: morebitne prestavitve obstoječih komunalnih vodov je potrebno uskladiti s pristojnimi komunalnimi službami. Izvajalec mora najprej proučiti karto komunalnih vodov in morebitne prestavitve le-teh naročiti pri pristojnih službah.
A11: Odstranitvena dela se lahko začnejo šele po pristanku investitorja in v skladu z navodili nadzornega organa. Pred pričetkom del se mora izvajalec prepričati o lokaciji raznih napeljav in zagotoviti njihovo zaščito ali prestavitev. Morebitno začasno ali popolno zaporo prometa in potrebno signalizacijo izvede sam izvajalec v soglasju pristojnih organov.
A13: Obračuni izvršenih izkopov in zasipov se obračunavajo v raščenem stanju.
A15: Opomba: Zapora prometa in načrt začasne ureditve prometa med gradnjo ni predmet tega načrta. Izvajalec mora v ceno na enoto posameznih postavk zajeti tudi strošek izdelave načrt začasne ureditve prometa in vse stroške pridobivanja soglasja upravljalca ceste.
A17: REKAPITULACIJA:
A19: =+A31 -> 1.0 | B19: =B31 -> PREDDELA | F19: =F91 -> 0
A20: =+A95 -> 2.0 | B20: =B95 -> ZEMELJSKA DELA | F20: =F129 -> 0
A21: =+A132 -> 3.0 | B21: =B132 -> VOZIŠČNE KONSTRUKCIJE | F21: =F163 -> 0
A22: =+A166 -> 4.0 | B22: =+B166 -> ODVODNJAVANJE | F22: =+F190 -> 0
A23: =+A192 -> 6.0 | B23: =B192 -> OPREMA CEST | F23: =F220 -> 0
A24: =+A224 -> 7.0 | B24: =B224 -> TUJE STORITVE | F24: =F237 -> 0
B26: SKUPAJ | F26: =SUM(F19:F25) -> 0
A29: Zap. št. | B29: Opis del | C29: EM | D29: Količina | E29: Cena/EM | F29: Skupaj
A31: 1.0 | B31: PREDDELA
A33: 1.1 | B33: GEODETSKA DELA
A35: 11 131 | B35: Obnova in zavarovanje zakoličbe trase komunalnih vodov v ravninskem terenu - območje nadvišanega platoja | C35: m1 | D35: 25 | F35: =D35*E35 -> 0
A37: 11 221 | B37: Postavitev in zavarovanje prečnega profila ostale javne ceste v ravninskem terenu - območje nadvišanega platoja | C37: kos | D37: 2 | F37: =D37*E37 -> 0
A39: 11 631 | B39: Posnetek višine in položaja točke na terenu/objektu - območje nadvišanega platoja | C39: kos | D39: 10 | F39: =D39*E39 -> 0
A42: 1.1 | B42: GEODETSKA DELA SKUPAJ | F42: =SUM(F33:F39) -> 0
A45: 1.2 | B45: ČIŠČENJE TERENA
A47: 1.2.3 | B47: PORUŠITEV IN ODSTRANITEV VOZIŠČNIH KONSTRUKCIJ
A49: 12 323 | B49: Porušitev in odstranitev asfaltne plasti v debelini nad 10 cm - območje nadvišanega platoja | C49: m2 | D49: 230.5 | F49: =D49*E49 -> 0
A51: 12 383 | B51: Rezanje asfaltne plasti s talno diamantno žago, debele 11 do 15 cm - območje križišča - območje nadvišanega platoja | C51: m1 | D51: 20 | F51: =D51*E51 -> 0
A53: 12 391 | B53: Porušitev in odstranitev robnika iz cementnega betona - območje nadvišanega platoja | C53: m1 | D53: 8 | F53: =D53*E53 -> 0
A55: 12 392 | B55: Porušitev in odstranitev robnika iz naravnega kamna - območje nadvišanega platoja | C55: m1 | D55: 23 | F55: =D55*E55 -> 0
A57: 1.2.3 | B57: SKUPAJ | F57: =SUM(F47:F55) -> 0
A60: 1.2.4 | B60: PORUŠITEV IN ODSTRANITEV OBJEKTOV
A62: 12 431 | B62: Porušitev in odstranitev jaška z notranjo stranico/premerom do 60 cm - območje nadvišanega platoja | C62: m1 | D62: 2 | F62: =D62*E62 -> 0
A64: 1.2.4 | B64: SKUPAJ | F64: =SUM(F60:F62) -> 0
A67: 1.2 | B67: ČIŠČENJE TERENA SKUPAJ | F67: =F64+F57 -> 0
A70: 1.3 | B70: OSTALA PREDDELA
A72: 1.3.1 | B72: OMEJITVE PROMETA
A74: 13 111 | B74: Zavarovanje gradbišča v času gradnje s polovično zaporo prometa in usmerjanjem s semaforji - območje nadvišanega platoja | C74: dan | D74: 30 | F74: =D74*E74 -> 0
A76: 1.3.1 | B76: SKUPAJ | F76: =SUM(F72:F75) -> 0
A79: 1.3.2 | B79: PRIPRAVLJALNA DELA PRI OBJEKTIH
A81: 13 292 | B81: Začasna prestavitev inštalacij elektroenergetskega kabelskega voda nizke napetosti na območju objekta (oz. ustrezna zaščita) - območje nadvišanega platoja | C81: m1 | D81: 10 | F81: =D81*E81 -> 0
A83: 13 293 | B83: Začasna prestavitev inštalacij PTT kabelskega voda na območju objekta (oz. ustrezna zaščita) - območje nadvišanega platoja | C83: m1 | D83: 23 | F83: =D83*E83 -> 0
A85: 13 294 | B85: Začasna prestavitev vodovoda iz cevi s premerom 100mm na območju objekta (oz. ustrezna zaščita) - območje nadvišanega platoja | C85: m1 | D85: 10 | F85: =D85*E85 -> 0
A87: 1.3.2 | B87: SKUPAJ | F87: =SUM(F79:F86) -> 0
A89: 1.3 | B89: OSTALA PREDDELA SKUPAJ | F89: =F87+F76 -> 0
A91: 1.0 | B91: PREDDELA SKUPAJ | F91: =F89+F67+F42 -> 0
A95: 2.0 | B95: ZEMELJSKA DELA
A97: 2.1 | B97: IZKOPI
A99: 21 224 | B99: Široki izkop vezljive zemljine – 3. kategorije – strojno z nakladanjem - območje nadvišanega platoja | C99: m3 | D99: 127 | F99: =D99*E99 -> 0
A101: 21 314 | B101: Izkop vezljive zemljine/zrnate kamnine – 3. kategorije za temelje, kanalske rove, prepuste, jaške in drenaže, širine do 1,0 m in globine do 1,0 m – strojno, planiranje dna ročno - območje nadvišanega platoja | C101: m3 | D101: 5 | F101: =D101*E101 -> 0
A103: 2.1 | B103: IZKOPI SKUPAJ | F103: =SUM(F97:F102) -> 0
A106: 2.2 | B106: PLANUM TEMELJNIH TAL
A108: 22 113 | B108: Ureditev planuma temeljnih tal zrnate kamnine – 3. kategorije - območje nadvišanega platoja | C108: m2 | D108: 253 | F108: =D108*E108 -> 0
A110: 2.2 | B110: PLANUM TEMELJNIH TAL SKUPAJ | F110: =SUM(F106:F109) -> 0
A113: 2.3 | B113: LOČILNE, DRENAŽNE IN FILTRSKE PLASTI TER DELOVNI PLATO
A115: 23 315 | B115: Dobava in vgraditev geotekstilije za ločilno plast (po načrtu), natezna trdnost nad 18 kN/m2 - območje nadvišanega platoja. Potrebo po vgradnji na licu mesta oceni geomehanik. | C115: m2 | D115: 253 | F115: =D115*E115 -> 0
A117: 2.3 | B117: LOČILNE, DRENAŽNE IN FILTRSKE PLASTI SKUPAJ | F117: =SUM(F113:F116) -> 0
A120: 2.9 | B120: PREVOZI, RAZPROSTIRANJE IN UREDITEV DEPONIJE MATERIALA
A122: 29 116 | B122: Prevoz materiala na razdaljo nad 10 do 15 km (m3 zemljine je cca 1.7 tone) - območje nadvišanega platoja | C122: t | D122: =D99*1.7 -> 215.9 | F122: =D122*E122 -> 0
A124: 29 164 | B124: Nakladanje zrnate zemljine – 3. kategorije - območje nadvišanega platoja | C124: m3 | D124: =D99 -> 127 | F124: =D124*E124 -> 0
A126: 2.9 | B126: PREVOZI, RAZPROSTIRANJE IN URED. DEPO. SKUPAJ | F126: =SUM(F120:F125) -> 0
A129: 2 | B129: ZEMELJSKA DELA SKUPAJ | F129: =F103+F110+F117+F126 -> 0
A132: 3.0 | B132: VOZIŠČNE KONSTRUKCIJE
A134: 3.1 | B134: NOSILNE PLATI
A136: 3.1.1 | B136: NEVEZANE NOSILNE PLASTI
A139: 3.1.1 | B139: SKUPAJ | F139: =SUM(F136:F138) -> 0
A141: 3.1.3 | B141: VEZANE ZGORNJE NOSILNE IN NOSILNOOBRABNE PLASTI Z BITUMENSKIMI VEZIVI
A143: 31 342 | B143: Izdelava zgornje nosilne plasti bituminiziranega drobljenca zrnavosti 0/22 mm v debelini 6 cm - AC 22 base B 50/70, A3 - VOZIŠČE - območje nadvišanega platoja | C143: m2 | D143: 230.5 | F143: =D143*E143 -> 0
A145: 3.1.3 | B145: SKUPAJ | F145: =SUM(F141:F144) -> 0
A147: 3.1 | B147: NOSILNE PLASTI SKUPAJ | F147: =F145+F139 -> 0
A150: 3.3 | B150: VEZANE NOSILNE IN OBRABNE PLASTI – CEMENTNI BETONI
A152: 33 324 | B152: Izdelava obrabnonosilne plasti iz ojačenega cementnega betona C 30/37 iz zmesi zrn iz karbonatnih in silikatnih kamnin v debelini 20 cm - območje nadvišanega platoja | C152: m2 | D152: 230.5 | F152: =D152*E152 -> 0
B154: ►ab monolitna betnska plošča, grobo štokani beton 20 cm - GROBO ŠTOKAN BETON V ceni upoštevati izvedbo dilatacij (ustrezni profili)! Upoštevati posneti betonski robovi 1 cm!
B155: Izvedba finalnega belega betona sestavljenega iz agregata (mešanica rečnega proda Mure in belega kremenčevega peska v razmerju 50%:50%, agregat 0mm – 16mm) in mešanice belega in sivega cementa (razmerje 65% - 35%). Beton se nato grobo brusi, s cementnim mlekom zapolni nastale pore in nato grobo štoka. Pričakovan razred odpornosti proti zdrsu je R12. Izpostavljeni robovi tlaka se naknadno fino pobrusijo pod kotom 45°- izvedba fazete
B156: V ceni je všteta dobava, rezanje, krivljenje, vezanje in polaganje armature ter polaganje armaturnih mrež kompletno po armaturnem načrtu, z vsemi pomožnimi deli in prenosi, do mesta vgraditve. RA 400/500, mozniki iz gladkega jekla StSp 37 s premerom 25 mm in sidra iz rebrastega jekla BSt 500S (IVS) s premerom 20 mm, dolžine 800 mm Armira se zgornja cona in robovi!
B157: Navedena količina je ocenjena po količinah vgrajenih betonov (70 kg/m3).
B158: V ceni je všteta nega betona in zaščita pred izsuševanjem ali padavinami.
A160: 3.3 | B160: VEZANE NOSILNE IN OBRABNE PLASTI | F160: =F152 -> 0
A163: 3 | B163: VOZIŠČNE KONSTRUKCIJE SKUPAJ | F163: =F160+F147 -> 0
A166: 4.0 | B166: ODVODNJAVANJE
A168: 4.3 | B168: GLOBINSKO ODVODNJAVANJE - KANALIZACIJA
A170: 43 232 | B170: Izdelava kanalizacije iz cevi iz polivinilklorida, vključno s podložno plastjo iz cementnega betona, premera 15 cm, v globini do 1,0 m | C170: m1 | D170: 10 | F170: =E170*D170 -> 0
A172: 43 281 | B172: Obbetoniranje cevi za kanalizacijo s cementnim betonom C 12/15, po detajlu iz načrta, premera 15 cm | C172: m1 | D172: 10 | F172: =E172*D172 -> 0
A174: 43 831 | B174: Preskus tesnosti cevi premera do 20 cm | C174: m1 | D174: 10 | F174: =E174*D174 -> 0
A176: 4.3 | B176: GLOBINSKO ODVODNJAVANJE - KANALIZACIJA SKUPAJ | F176: =SUM(F168:F175) -> 0
A179: 4.4 | B179: JAŠKI
A181: 44 122 | B181: Izdelava jaška iz cementnega betona, krožnega prereza s premerom 40 cm, globokega 1,0 do 1,5 m. | C181: kos | D181: 2 | F181: =E181*D181 -> 0
A183: 44 797 | B183: Preskus tesnosti jaška premera do 50 cm | C183: kos | D183: 2 | F183: =E183*D183 -> 0
A185: 44 854 | B185: Dobava in vgraditev rešetke iz duktilne litine z nosilnostjo 400 kN, s prerezom 400/400 mm | C185: kos | D185: 2 | F185: =E185*D185 -> 0
A187: 4.4 | B187: JAŠKI SKUPAJ | F187: =SUM(F180:F185) -> 0
A190: 4.0 | B190: ODVODNJAVANJE SKUPAJ | F190: =F187+F176 -> 0
A192: 6.0 | B192: OPREMA CEST
A194: 6.1 | B194: POKONČNA OPREMA CEST
A196: 61 124 | B196: Izdelava temelja iz cementnega betona C 12/15, globine 80 cm, premera 50 cm | C196: kos | D196: 6 | F196: =E196*D196 -> 0
A198: 61 128 | B198: Dobava in vgraditev stebrička za prometni znak iz vroče cinkane jeklene cevi s premerom 64 mm, dolge 4000 mm | C198: kos | D198: 6 | F198: =E198*D198 -> 0
A200: 61 712 | B200: Dobava in pritrditev prometnega znaka, podloga iz vroče cinkane jeklene pločevine, znak z barvo-folijo 3. vrste, velikost od 0,11 do 0,20 m2 - območje križišča | C200: kos | D200: 2 | F200: =E200*D200 -> 0
A202: 61 713 | B202: Dobava in pritrditev prometnega znaka, podloga iz vroče cinkane jeklene pločevine, znak z barvo-folijo 3. vrste, velikost od 0,21 do 0,40 m2 - območje križišča | C202: kos | D202: 6 | F202: =E202*D202 -> 0
A204: 6.1 | B204: POKONČNA OPREMA CEST SKUPAJ | F204: =SUM(F195:F202) -> 0
A207: 6.2 | B207: OZNAČBE NA VOZIŠČIH
A209: 62 123 | B209: Izdelava tankoslojne vzdolžne označbe na vozišču z enokomponentno belo barvo, vključno 250 g/m2 posipa z drobci / kroglicami stekla, strojno, debelina plasti suhe snovi 250 m, širina črte 15 cm | C209: m1 | D209: 62 | F209: =E209*D209 -> 0
A211: 62 163 | B211: Izdelava tankoslojne prečne in ostalih označb na vozišču z enokomponentno belo barvo, vključno 250 g/m2 posipa z drobci / kroglicami stekla, strojno, debelina plasti suhe snovi 250 m, širina črte 50 cm | C211: m2 | D211: 21 | F211: =E211*D211 -> 0
...

Sheet Plocnik_1B
A1: PONUDBENI PREDRAČUN : PLOČNIK_1B
A3: OPOMBE:
A5: Popis del je usklajen s posebnimi tehničnimi pogoji - tehnična specifikacija za javne ceste TSC 09.000 : 2006.
A7: Vsa dela se morajo izvajati v skladu s tehničnim poročilom in načrti, po veljavnih standardih in smernicah.Vse eventualne sistemske rešitve ali spremembe ki bi nastale med gradnjo morajo biti podane s strani izvajalca in odobrene s strani strokovne službe investitorja.
A9: Komunalni vodi: morebitne prestavitve obstoječih komunalnih vodov je potrebno uskladiti s pristojnimi komunalnimi službami. Izvajalec mora najprej proučiti karto komunalnih vodov in morebitne prestavitve le-teh naročiti pri pristojnih službah.
A11: Odstranitvena dela se lahko začnejo šele po pristanku investitorja in v skladu z navodili nadzornega organa. Pred pričetkom del se mora izvajalec prepričati o lokaciji raznih napeljav in zagotoviti njihovo zaščito ali prestavitev. Morebitno začasno ali popolno zaporo prometa in potrebno signalizacijo izvede sam izvajalec v soglasju pristojnih organov.
A13: Obračuni izvršenih izkopov in zasipov se obračunavajo v raščenem stanju.
A15: Opomba: Zapora prometa in načrt začasne ureditve prometa med gradnjo ni predmet tega načrta.
A17: REKAPITULACIJA:
A19: =+A31 -> 1.0 | B19: =B31 -> PREDDELA | F19: =F88 -> 0
A20: =+A92 -> 2.0 | B20: =B92 -> ZEMELJSKA DELA | F20: =F134 -> 0
A21: =+A138 -> 3.0 | B21: =B138 -> VOZIŠČNE KONSTRUKCIJE | F21: =F170 -> 0
A22: =+A174 -> 4.0 | B22: =+B174 -> ODVODNJAVANJE | F22: =+F182 -> 0
A23: =+A186 -> 6.0 | B23: =B186 -> OPREMA CEST | F23: =F195 -> 0
A24: =+A199 -> 7.0 | B24: =B199 -> TUJE STORITVE | F24: =F212 -> 0
B26: SKUPAJ | F26: =SUM(F19:F25) -> 0
A29: Zap. št. | B29: Opis del | C29: EM | D29: Količina | E29: Cena/EM | F29: Skupaj
A31: 1.0 | B31: PREDDELA
A33: 1.1 | B33: GEODETSKA DELA
A35: 11 131 | B35: Obnova in zavarovanje zakoličbe trase komunalnih vodov v ravninskem terenu | C35: m1 | D35: 25 | F35: =D35*E35 -> 0
A37: 11 631 | B37: Posnetek višine in položaja točke na terenu/objektu | C37: kos | D37: 10 | F37: =D37*E37 -> 0
A39: 1.1 | B39: GEODETSKA DELA SKUPAJ | F39: =SUM(F33:F37) -> 0
A42: 1.2 | B42: ČIŠČENJE TERENA
A44: 1.2.2 | B44: ODSTRANITEV PROMETNE SIGNALIZACIJE IN OPREME
A46: 12 151 | B46: Posek in odstranitev drevesa z deblom premera 11 do 30 cm ter odstranitev vej | C46: kos | D46: 1 | F46: =D46*E46 -> 0
A48: 12 163 | B48: Odstranitev panja s premerom 11 do 30 cm z odvozom na deponijo na razdaljo nad 1000 m | C48: kos | D48: 1 | F48: =D48*E48 -> 0
A50: 12 211 | B50: Demontaža prometnega znaka na enem podstavku - območje križišča | C50: kos | D50: 1 | F50: =D50*E50 -> 0
A52: 1.2.2 | B52: SKUPAJ | F52: =SUM(F44:F51) -> 0
A54: 1.2.3 | B54: PORUŠITEV IN ODSTRANITEV VOZIŠČNIH KONSTRUKCIJ
A56: 12 321 | B56: Porušitev in odstranitev asfaltne plasti v debelini do 5 cm (hodnik za pešce) | C56: m2 | D56: 170 | F56: =D56*E56 -> 0
A58: 12 323 | B58: Porušitev in odstranitev asfaltne plasti v debelini nad 10 cm | C58: m2 | D58: 34 | F58: =D58*E58 -> 0
A60: 12 382 | B60: Rezanje asfaltne plasti s talno diamantno žago, debele 6 do 10 cm | C60: m1 | D60: 60 | F60: =D60*E60 -> 0
A62: 12 391 | B62: Porušitev in odstranitev robnika iz cementnega betona | C62: m1 | D62: 20 | F62: =D62*E62 -> 0
A64: 12 391 | B64: Porušitev in odstranitev robnika iz cementnega betona | C64: m1 | D64: 9 | F64: =D64*E64 -> 0
A66: 1.2.3 | B66: SKUPAJ | F66: =SUM(F54:F64) -> 0
A69: 1.2 | B69: ČIŠČENJE TERENA SKUPAJ | F69: =F52+F66 -> 0
A72: 1.3 | B72: OSTALA PREDDELA
A74: 1.3.2 | B74: PRIPRAVLJALNA DELA PRI OBJEKTIH
A76: 13 292 | B76: Začasna prestavitev inštalacij elektroenergetskega kabelskega voda nizke napetosti na območju objekta (oz. ustrezna zaščita) | C76: m1 | D76: 7 | F76: =D76*E76 -> 0
A78: 13 293 | B78: Začasna prestavitev inštalacij PTT kabelskega voda na območju objekta (oz. ustrezna zaščita) | C78: m1 | D78: 7 | F78: =D78*E78 -> 0
A80: 13 294 | B80: Začasna prestavitev vodovoda iz cevi s premerom 100mm na območju objekta (oz. ustrezna zaščita) | C80: m1 | D80: 29 | F80: =D80*E80 -> 0
A82: 1.3.2 | B82: SKUPAJ | F82: =SUM(F74:F81) -> 0
A84: 1.3 | B84: OSTALA PREDDELA SKUPAJ | F84: =F82 -> 0
A88: 1.0 | B88: PREDDELA SKUPAJ | F88: =F84+F69+F39 -> 0
A92: 2.0 | B92: ZEMELJSKA DELA
A94: 2.1 | B94: IZKOPI
A96: 21 112 | B96: Površinski izkop plodne zemljine – 1. kategorije – strojno z odrivom do 50 m. | C96: m3 | D96: 3.9 | F96: =D96*E96 -> 0
A98: 21 224 | B98: Široki izkop vezljive zemljine – 3. kategorije – strojno z nakladanjem. | C98: m3 | D98: 98 | F98: =D98*E98 -> 0
A100: 2.1 | B100: IZKOPI SKUPAJ | F100: =SUM(F94:F99) -> 0
A103: 2.2 | B103: PLANUM TEMELJNIH TAL
A105: 22 113 | B105: Ureditev planuma temeljnih tal zrnate kamnine – 3. kategorije. | C105: m2 | D105: 170 | F105: =D105*E105 -> 0
A107: 2.2 | B107: PLANUM TEMELJNIH TAL SKUPAJ | F107: =SUM(F103:F106) -> 0
A110: 2.3 | B110: LOČILNE, DRENAŽNE IN FILTRSKE PLASTI TER DELOVNI PLATO
A112: 23 315 | B112: Dobava in vgraditev geotekstilije za ločilno plast (po načrtu), natezna trdnost nad 18 kN/m2. | C112: m2 | D112: 170 | F112: =D112*E112 -> 0
A114: 2.3 | B114: LOČILNE, DRENAŽNE IN FILTRSKE PLASTI SKUPAJ | F114: =SUM(F110:F113) -> 0
A117: 2.4 | B117: NASIPI, ZASIPI, KLINI, POSTELJICA IN GLINASTI NABOJ
A118: 24 451 | B118: Vgraditev posteljice v debelini plasti do 40 cm iz zrnate kamnine (zmrzlinsko odporen kamniti material frakcije 0/100mm) – 3. kategorije | C118: m3 | D118: 56 | F118: =D118*E118 -> 0
A121: 2.4 | B121: NASIPI, ZASIPI, KLINI, POSTELJICA SKUPAJ | F121: =SUM(F117:F120) -> 0
A123: 2.9 | B123: PREVOZI, RAZPROSTIRANJE IN UREDITEV DEPONIJE MATERIALA
A125: 29 116 | B125: Prevoz materiala na razdaljo nad 10 do 15 km (m3 zemljine je cca 1.7 tone) | C125: t | D125: =D129*1.7 -> 173.23 | F125: =D125*E125 -> 0
A127: 29 131 | B127: Razprostiranje odvečne plodne zemljine – 1. kategorije. | C127: m3 | D127: =D96 -> 3.9 | F127: =D127*E127 -> 0
A129: 29 164 | B129: Nakladanje zrnate zemljine – 3. kategorije. | C129: m3 | D129: 101.9 | F129: =D129*E129 -> 0
A131: 2.9 | B131: PREVOZI, RAZPROSTIRANJE IN URED. DEPO. SKUPAJ | F131: =SUM(F123:F130) -> 0
A134: 2 | B134: ZEMELJSKA DELA SKUPAJ | F134: =F100+F107+F121+F131+F114 -> 0
A138: 3.0 | B138: VOZIŠČNE KONSTRUKCIJE
A140: 3.1 | B140: NOSILNE PLATI
A142: 3.1.1 | B142: NEVEZANE NOSILNE PLASTI
A144: 31 131 | B144: Izdelava nevezane nosilne plasti enakomerno zrnatega drobljenca iz kamnine v debelini do 20 cm | C144: m3 | D144: 29.5 | F144: =D144*E144 -> 0
A146: 3.1.1 | B146: SKUPAJ | F146: =SUM(F142:F145) -> 0
A148: 3.1 | B148: NOSILNE PLATI SKUPAJ | F148: =F146 -> 0
A150: 3.3 | B150: VEZANE NOSILNE IN OBRABNE PLASTI – CEMENTNI BETONI
A152: 33 324 | B152: Izdelava obrabnonosilne plasti iz ojačenega cementnega betona C 30/37 iz zmesi zrn iz karbonatnih in silikatnih kamnin v debelini 20 cm - površine za pešce | C152: m2 | D152: 170 | F152: =D152*E152 -> 0
B153: ►ab monolitna betnska plošča, grobo štokani beton 20 cm - FINO ŠTOKAN BETON V ceni upoštevati izvedbo dilatacij (ustrezni profili)! Upoštevati posneti betonski robovi 1 cm!
B154: Izvedba finalnega belega betona sestavljenega iz agregata (mešanica rečnega proda Mure in belega kremenčevega peska v razmerju 50%:50%, agregat 0mm – 16mm) in mešanice belega in sivega cementa (razmerje 65% - 35%). Beton se nato grobo brusi, s cementnim mlekom zapolni nastale pore in nato grobo štoka. Pričakovan razred odpornosti proti zdrsu je R12. Izpostavljeni robovi tlaka se naknadno fino pobrusijo pod kotom 45°- izvedba fazete
B155: V ceni je všteta dobava, rezanje, krivljenje, vezanje in polaganje armature ter polaganje armaturnih mrež kompletno po armaturnem načrtu, z vsemi pomožnimi deli in prenosi, do mesta vgraditve. RA 400/500, mozniki iz gladkega jekla StSp 37 s premerom 25 mm in sidra iz rebrastega jekla BSt 500S (IVS) s premerom 20 mm, dolžine 800 mm Armira se zgornja cona in robovi!
B156: Navedena količina je ocenjena po količinah vgrajenih betonov (70 kg/m3). V ceni je všteta nega betona in zaščita pred izsuševanjem ali padavinami.
A158: 3.3 | B158: VEZANE NOSILNE IN OBRABNE PLASTI | F158: =F152 -> 0
A160: 3.5 | B160: ROBNI ELEMENTI VOZIŠČ
A162: 3.5.2 | B162: ROBNIKI
A164: 35 299 | B164: Dobava in vgradnja ploščato jeklo 16 x 100 mm, cinkan in vijačen v temelj, v ceni upoštevati izvedbo temelja 15/20 cm, na katerega se privijači jekleni profil, vključno z vsemi pomožnimi, pripravljalnimi in zaključnimi del | C164: m1 | D164: 13.5 | F164: =D164*E164 -> 0
A166: 3.5.2 | B166: SKUPAJ | F166: =SUM(F162:F165) -> 0
A168: 3.5 | B168: ROBNI ELEMENTI VOZIŠČ SKUPAJ | F168: =F166 -> 0
A170: 3 | B170: VOZIŠČNE KONSTRUKCIJE SKUPAJ | F170: =F168+F148+F158 -> 0
A174: 4.0 | B174: ODVODNJAVANJE
A176: 4.4 | B176: JAŠKI
A178: 44 996 | B178: Kompletna dobava in montaža novih pokrovov na obstoječe komunalne jaške, pokrovi z vlitim betonskim tlakom v RF okvir, nosilnost 400kN. Izberemo pokrove brez navojev za dvig ampak takšne z utorom za dvižno kljuko. Vključno z vsemi pomožnimi, pripravljalnimi in zaključnimi deli ter vsemi potrebnimi horizontalnimi in vertikalnimi transporti | C178: kos | D178: 3 | F178: =E178*D178 -> 0
A180: 4.4 | B180: JAŠKI SKUPAJ | F180: =SUM(F177:F178) -> 0
A182: 4.0 | B182: ODVODNJAVANJE SKUPAJ | F182: =F180 -> 0
A186: 6.0 | B186: OPREMA CEST
A188: 6.1 | B188: POKONČNA OPREMA CEST
A190: 61 124 | B190: Izdelava temelja iz cementnega betona C 12/15, globine 80 cm, premera 50 cm (prestavitev obstoječih prometnih znakov, ostalo se uporabi od obstoječe opreme) | C190: kos | D190: 1 | F190: =E190*D190 -> 0
A192: 6.2 | B192: OZNAČBE NA VOZIŠČIH SKUPAJ | F192: =SUM(F190:F191) -> 0
A195: 6.0 | B195: OPREMA CEST | F195: =F192 -> 0
A199: 7.0 | B199: TUJE STORITVE
A201: 7.9 | B201: PRESKUSI, NADZOR IN TEHNIČNA DOKUMENTACIJA
A203: 79 311 | B203: Projektantski nadzor | C203: ur | D203: 10 | F203: =E203*D203 -> 0
A205: 79 351 | B205: Geotehnični nadzor | C205: kos | D205: 1 | F205: =E205*D205 -> 0
A207: 79 514 | B207: Izdelava projektne dokumentacije za projekt izvedenih del | C207: kos | D207: 1 | F207: =E207*D207 -> 0
A209: 7.9 | B209: PRESKUSI, NADZOR IN TEHNIČNA DOK. SKUPAJ | F209: =SUM(F202:F208) -> 0
A212: 7.0 | B212: TUJE STORITVE SKUPAJ | F212: =F209 -> 0

Sheet Elektro_1B
A1: PONUDBENI PREDRAČUN : ELEKTRIČNE INŠTALACIJE IN ELEKTRIČNA OPREMA_1B
A3: SPLOŠNO:
A5: V ceno po enoti mere je zajeta dobava in montaža materiala ter opreme s pom. deli in drobnim materialom (rezanje, dolbljenje, kronsko vrtanje z udarnim kladivom, preboji vključeni v ceni).
A7: Vsa oprema in material se mora dobaviti z vsemi ustreznimi certifikati, atesti, garancijami, navodili za obratovanje, vzdrževanje, posluževanje in servisiranje. (v skladu z veljavno zakonodajo in zahtevami naročnika).
A9: Pri opremi in materialu je potrebno upoštevati stroške meritev, preiskusa in zagona, vključno s pridobitvijo ustreznih certifikatov in potrdil s strani pooblaščenih institucij.
A11: Pri izvedbi je potrebno upoštevati stroške vseh pripravljalnih in zaključnih del (vključno z usklajevanjem z ostalimi izvajalci na objektu), ažurno evidentiranje eventuelnih za izdelavo PID dokumentacije ter vse transportne, skladiščne, zavarovalne in ostale splošne stroške.
A14: Zap. št. | B14: Opis del | C14: EM | D14: Količina | E14: Cena/EM | F14: Skupaj
A16: 1. | B16: ZUNANJA UREDITEV-ELETRIČNE INŠTALACIJE Z POTREBNIMI GRADBENIMI DELI
A18: 1 | B18: Valjanec Fe/Zn 25x4 mm položen v skupni jarek s kablom (zunanja razsvetljava) | C18: m | D18: 25 | F18: =IF((D18*E18)=0," ",(D18*E18))
A20: =A18+1 -> 2 | B20: Križna sponka 58x58 z antikorozijsko zaščito z "Dekordal" trakom | C20: kom | D20: 3 | F20: =IF((D20*E20)=0," ",(D20*E20))
F21: =IF((D21*E21)=0," ",(D21*E21))
A22: =A20+1 -> 3 | B22: Izolacijska cev PEHD 110, rdeče barve, položena v izkopani jarek | C22: m | D22: 15 | F22: =IF((D22*E22)=0," ",(D22*E22))
F23: =IF((D23*E23)=0," ",(D23*E23))
A24: =A22+1 -> 4 | B24: Izolacijska cev PEHD 75, rdeče barve, položena v izkopani jarek | C24: m | D24: 50 | F24: =IF((D24*E24)=0," ",(D24*E24))
F25: =IF((D25*E25)=0," ",(D25*E25))
A26: =A24+1 -> 5 | B26: Izolacijska cev PEHD 2xfi50, rdeče barve, položena v izkopani jarek | C26: m | D26: 25 | F26: =IF((D26*E26)=0," ",(D26*E26))
F27: =IF((D27*E27)=0," ",(D27*E27))
A28: =A26+1 -> 6 | B28: Dobava in polaganje PVC opozorilnega traku POZOR ENERGETSKI KABEL, položen nad kabel v kabelski jarek (zunanja razsvetljava) | C28: m | D28: 25 | F28: =IF((D28*E28)=0," ",(D28*E28))
A30: =A28+1 -> 7 | B30: Izkop jarka v zemlji 90% III. IN 10% IV ktg. (dim. 0,4 x 0,8), s pravilnim odsekovanjem stranic in dna izkopa ter odlaganje ob rob izkopa (obračun v raščenem stanju) - za polaganje kanalizacije in zasipanje kabelske kanalizacije z tamponskim in izkopanim materialom po plasteh z utrjevanjem | C30: m3 | D30: 12 | F30: =IF((D30*E30)=0," ",(D30*E30))
F31: =IF((D31*E31)=0," ",(D31*E31))
A32: =A30+1 -> 8 | B32: Odvoz odvečne zemlje na stalno deponijo, skupaj z nakladanjem in zvračanjem ter stroški deponije (obračun v raščenem stanju) za zunanjo razsvetljavo | C32: m3 | D32: 2 | F32: =IF((D32*E32)=0," ",(D32*E32))
F33: =IF((D33*E33)=0," ",(D33*E33))
A34: =A32+1 -> 9 | B34: Izdelava kabelske posteljice dim. 0.2x0.8m s peskom garnulacije 0-4mm za zunanjo razsvetljavo | C34: m3 | D34: 2 | F34: =IF((D34*E34)=0," ",(D34*E34))
F35: =IF((D35*E35)=0," ",(D35*E35))
A36: =A34+1 -> 10 | B36: Dobava in polaganje PVC opozorilnega traku POZOR ENERGETSKI KABEL, položen nad kabel v kabelski jarek | C36: m | D36: 25 | F36: =IF((D36*E36)=0," ",(D36*E36))
A38: =A36+1 -> 11 | B38: Izkop gradbene jame in postavitev temelja svetilke za drog 4 m dim fi.50cm in globine 100cm dobava betonske cevi komplet z uvodnimi stigma cevmi in sidernimi vijaki iz zalitje z betonom C25/30 | C38: kom | D38: 2 | F38: =IF((D38*E38)=0," ",(D38*E38))
A40: =1+A38 -> 12 | B40: S2 - Svetilka javne razsvetljave oblikovno integrirana v steber. - Konstrukcija stebra iz jekla protikorozijsko zaščiten z cinkanjem površine - barvan-poliesterska strukturna barva Tiger Drylac 29/80077, postopek: prašno barvanje, z integrirano montažno sponko. - Montaža z 4 x M22 stebrnimi vijaki na pred pripravljen temelj. - Steber je pred ožičen za priključitev svetilke - Svetilka 4,5 M višine z priključno močjo do 18 watt in lumen paketom ne manjšim od 2100Lm pri 4000 K - Led svetlobni izvor pripravljen za hitro izmenjavo. - Napajalnik integriran sestavni del svetilke - Priključna sponka preko hitro spojnega elementa, ki je pred montiran iz strani proizvajalca. - Možnost menjave optike zaradi boljšega efekta ovetlitve. - CE certifikat - 5 letna garancija - Kot na primer PARK L GEOLUX Parkline I S 18 AC 40 | C40: kom | D40: 2 | F40: =IF((D40*E40)=0," ",(D40*E40))
A42: =A40+1 -> 13 | B42: Vris kabelske kanalizacije v podzemni kataster | C42: kpl | D42: 1 | F42: =IF((D42*E42)=0," ",(D42*E42))
A44: =A42+1 -> 14 | B44: Projektantski nadzor | C44: ur | D44: 4 | F44: =IF((D44*E44)=0," ",(D44*E44))
B46: =B16 -> ZUNANJA UREDITEV-ELETRIČNE INŠTALACIJE Z POTREBNIMI GRADBENIMI DELI | F46: =SUM(F18:F44) -> 0

Sheet Vodovod_1B
A1: PONUDBENI PREDRAČUN : VODOVODNE INŠTALACIJE_1B
A3: SPLOŠNO:
A5: V ceno po enoti mere je zajeta dobava in montaža materiala ter opreme s pom. deli in drobnim materialom (rezanje, dolbljenje, kronsko vrtanje z udarnim kladivom, preboji vključeni v ceni).
A7: Vsa oprema in material se mora dobaviti z vsemi ustreznimi certifikati, atesti, garancijami, navodili za obratovanje, vzdrževanje, posluževanje in servisiranje. (v skladu z veljavno zakonodajo in zahtevami naročnika).
A9: Pri opremi in materialu je potrebno upoštevati stroške meritev, preiskusa in zagona, vključno s pridobitvijo ustreznih certifikatov in potrdil s strani pooblaščenih institucij.
A11: Pri izvedbi je potrebno upoštevati stroške vseh pripravljalnih in zaključnih del (vključno z usklajevanjem z ostalimi izvajalci na objektu), ažurno evidentiranje eventuelnih za izdelavo PID dokumentacije ter vse transportne, skladiščne, zavarovalne in ostale splošne stroške.
A14: Zap. št. | B14: Opis del | C14: EM | D14: Količina | E14: Cena/EM | F14: Skupaj
A16: 1. | B16: CEVOVOD SLOVENSKA ULICA IN V6
A18: 1 | B18: Strojno rezanje asfalta z odstranitvijo asfalta in odvozom na deponijo | C18: m' | D18: 58.5 | F18: =IF((D18*E18)=0," ",(D18*E18))
A20: =A18+1 -> 2 | B20: Strojno-ročni izkop kanala za vodovodni vod z nakladanjem in odvozom na deponijo do 3 km | D20: 22.8 | F20: =IF((D20*E20)=0," ",(D20*E20))
F21: =IF((D21*E21)=0," ",(D21*E21))
A22: =A20+1 -> 3 | B22: Planiranje dna izkopa vodovodnega kanala | C22: m' | D22: 23 | F22: =IF((D22*E22)=0," ",(D22*E22))
F23: =IF((D23*E23)=0," ",(D23*E23))
A24: =A22+1 -> 4 | B24: Dobava in vgrajevanje peska granulacije 0-4 mm (okrogla zrnca) za posteljico, ob cevi in nad cevjo | C24: m³ | D24: 3.5 | F24: =IF((D24*E24)=0," ",(D24*E24))
F25: =IF((D25*E25)=0," ",(D25*E25))
A26: =A24+1 -> 5 | B26: Dobava in vgrajevanje gramoza z zasipavanjem po plasteh in utrditvijo do ustrezne zbitosti | C26: m³ | D26: 16.4 | F26: =IF((D26*E26)=0," ",(D26*E26))
F27: =IF((D27*E27)=0," ",(D27*E27))
A28: =A26+1 -> 6 | B28: Asfaltiranje prekopa skupaj z dobavo asfaltne mase, emulzije, prevozi,… | C28: m² | D28: 17.5 | F28: =IF((D28*E28)=0," ",(D28*E28))
A30: =A28+1 -> 7 | B30: Cev PE 100 PN16 Ø110 RC PROTECT SDR 11 | C30: m' | D30: 30 | F30: =IF((D30*E30)=0," ",(D30*E30))
F31: =IF((D31*E31)=0," ",(D31*E31))
A32: =A30+1 -> 8 | B32: Opozorilni trak | C32: m' | D32: 30 | F32: =IF((D32*E32)=0," ",(D32*E32))
F33: =IF((D33*E33)=0," ",(D33*E33))
A34: =A32+1 -> 9 | B34: Tlačni preizkus položenega cevovoda | C34: kpl | D34: 1 | F34: =IF((D34*E34)=0," ",(D34*E34))
F35: =IF((D35*E35)=0," ",(D35*E35))
A36: =A34+1 -> 10 | B36: Odvzem vzorca s poročilom | C36: kom | D36: 1 | F36: =IF((D36*E36)=0," ",(D36*E36))
A38: =A36+1 -> 11 | B38: Geodetski posnetek | C38: m' | D38: 30 | F38: =IF((D38*E38)=0," ",(D38*E38))
A40: =1+A38 -> 12 | B40: Nadzor upravljavca vodovoda (inženir) | C40: kpl | D40: 1 | F40: =IF((D40*E40)=0," ",(D40*E40))
A42: =A40+1 -> 13 | B42: T kos bajonetni MMB DN 100-100 | C42: kom | D42: 1 | F42: =IF((D42*E42)=0," ",(D42*E42))
A44: =A42+1 -> 14 | B44: EV zasun HSM bajonet/obojka DN 100 | C44: kom | D44: 2 | F44: =IF((D44*E44)=0," ",(D44*E44))
A46: =A44+1 -> 15 | B46: Spojka bajonetna varilna DN 100 | C46: kom | D46: 2 | F46: =IF((D46*E46)=0," ",(D46*E46))
F47: =IF((D47*E47)=0," ",(D47*E47))
A48: =A46+1 -> 16 | B48: Čep varilni 110 | C48: kom | D48: 1 | F48: =IF((D48*E48)=0," ",(D48*E48))
F49: =IF((D49*E49)=0," ",(D49*E49))
A50: =A48+1 -> 17 | B50: T kos bajonetni MMB DN 100-80 | C50: kom | D50: 1 | F50: =IF((D50*E50)=0," ",(D50*E50))
A52: =A50+1 -> 18 | B52: S kos bajonetni DN 100 | C52: kom | D52: 2 | F52: =IF((D52*E52)=0," ",(D52*E52))
F53: =IF((D53*E53)=0," ",(D53*E53))
A54: =A52+1 -> 19 | B54: S kos bajonetni DN 80 | C54: kom | D54: 1 | F54: =IF((D54*E54)=0," ",(D54*E54))
F55: =IF((D55*E55)=0," ",(D55*E55))
A56: =A54+1 -> 20 | B56: Obojka varilna 110 | C56: kom | D56: 2 | F56: =IF((D56*E56)=0," ",(D56*E56))
F57: =IF((D57*E57)=0," ",(D57*E57))
A58: =A56+1 -> 21 | B58: Varovalo horizontalno DN 100 | C58: kom | D58: 6 | F58: =IF((D58*E58)=0," ",(D58*E58))
A60: =A58+1 -> 22 | B60: Varovalo horizontalno DN 80 | C60: kom | D60: 2 | F60: =IF((D60*E60)=0," ",(D60*E60))
A62: =1+A60 -> 23 | B62: Garnitura vgr. DN 100 | C62: kom | D62: 2 | F62: =IF((D62*E62)=0," ",(D62*E62))
A64: =A62+1 -> 24 | B64: Kapa cestna za EV + p. plošča | C64: kom | D64: 2 | F64: =IF((D64*E64)=0," ",(D64*E64))
A66: =A64+1 -> 25 | B66: Tabla označevalna za EV | C66: kom | D66: 2 | F66: =IF((D66*E66)=0," ",(D66*E66))
B68: =B16 -> CEVOVOD SLOVENSKA ULICA IN V6 | F68: =SUM(F18:F67) -> 0

Sheet 1C=>

Sheet GOI_1C
A1: PONUDBENI PREDRAČUN : GRADBENO OBRTNIŠKA DELA_TRG_ZMAGE_1C
A3: Zap. št. | B3: Opis del | C3: EM | D3: Količina | E3: Cena/EM | F3: Skupaj
A5: A4.1 | B5: Kompletna izvedba odstranitev obstoječih pohodnih tlakovanih poti (delno asfaltiranih in delno tlakovanih), s prenosi in nalaganjem ruševin na transportno sredstvo ter odvoz na stalno deponijo. V ceni upoštevati plačilo komunalne takse. | C5: m2 | D5: 1860.37 | F5: =E5*D5 -> 0
A7: A4.2 | B7: Strojni izkop zemljine za izvedbo novega nasutja in finalnega tlaka, s sprotnim nakladanjem na transportno sredstvo; Odvoz na stalno deponijo - glej postavko A2.8. | C7: m3 | D7: 1438.9 | F7: =E7*D7 -> 0
A9: A4.3 | B9: Ročni odkop okoli morebitnih instalacij v terenu III. in IV. kategorije na lokaciji z odmetom na rob izkopa (količina ocenjena) | C9: m3 | D9: 5 | F9: =E9*D9 -> 0
A11: A4.4 | B11: Planiranje dna izkopa s točnostjo +- 1 cm z minimalnim izmetom ali dosipom ter premetom odvečnega materiala. Obračun po m2. POZOR: liti betonski tlak se izvaja direktno na utrjeni in planirani nasip. Eventualna večja poraba materiala betona zaradi nenatančno pripravljene podlage bremeni izvajalca! | C11: m2 | D11: 2398.32 | F11: =E11*D11 -> 0
A13: A4.5 | B13: Strojno utrjevanje dna izkopa v terenu III. in IV. kategorije z vibracijsko ploščo ali vibrovaljarjem do predpisane zbitosti 60 MPa; stopnjo utrjenosti dokazati na podlagi geomehanskih meritev. | C13: m2 | D13: 2398.32 | F13: =E13*D13 -> 0
A15: A4.6 | B15: Nabava, dobava in polaganje geotekstil (PP 300g) na uvaljan in utrjen planum, pred začetkom nasipavanja, vključno s potrebnimi preklopi 10% | C15: m2 | D15: 2398.32 | F15: =E15*D15 -> 0
A17: A4.7 | B17: Nabava, dobava in vgrajevanje gramoznega materiala kot tamponski nasip v deb. cca. 60 cm, pod finalnim tlakom, z razgrinjanjem, planiranjem s točnostjo +- 1 cm in utrjevanjem v plasteh do predpisane zbitosti 60 MPa. Obračun po m3 tampona v utrjenem stanju. Dela izvajati po navodilih geomehanika | C17: m3 | D17: 1438.9 | F17: =E17*D17 -> 0
A19: A4.8 | B19: Odvoz izkopanega materiala na stalno deponijo oddaljeno do 10 km, nakladanje je zajeto skupaj z izkopom. V postavki mora biti zajeto tudi plačilo komunalnega prispevka za stalno deponijo | C19: m3 | D19: =D7 -> 1438.9 | F19: =E19*D19 -> 0
A21: A4.9 | B21: Geomehanski pregled in nadzor v skladu z ZGO: strokovna prisotnost geomehanika v času izvajanja izkopa, utrjevanja in pregled temeljnih tal pred izvedbo temeljev. V ceni je zajeti vse potrebne obiske geomehanika, vključno z izdelavo končnega poročila. | C21: kpl | D21: 1 | F21: =E21*D21 -> 0
A23: A4.10a | B23: Kompletna dobava in vgradnja geotekstila - separacijske plasti kot npr. Dupont Geoproma. ali kakovostno enakovredno, | C23: m2 | D23: 84.82 | F23: =E23*D23 -> 0
A25: A4.10b | B25: Kompletna dobava in vgradnja prodca deb. 5 cm, drobna granulacija, vključno z vsemi pomožnimi, pripravljalnimi in zaključnimi deli ter vsemi potrebnimi horizontalnimi in vertikalnimi transporti. | C25: m3 | D25: 6.24 | F25: =E25*D25 -> 0
A27: A4.12a | B27: Kompletna izdelava, dobava in vgrajevanje izravnava obstoječih pasovnih temeljev s polimerizirano cementno malto v debelini 0,2cm - 5cm, vključno z vsemi pomožnimi deli in transportom do mesta vgrajevanja. Količina je ocenjena. | C27: m3 | D27: 2.5 | F27: =E27*D27 -> 0
B28: ►temelj ab podstaveka (spomenk zmage, betonski podstavek - podlaga)
A30: A4.12b | B30: Komprimiranje nasipne podlage pod temelji do trdnosti 40MPa | C30: m2 | D30: 120 | F30: =E30*D30 -> 0
A32: A4.12c | B32: Kompletna izdelava, dobava in vgrajevanje betona C8/10, podložni beton debeline 10cm, vključno z vsemi pomožnimi deli in transportom do mesta vgrajevanja: | C32: m3 | D32: 12 | F32: =E32*D32 -> 0
A34: A4.12d | B34: Dobava in vgradnja ločilnega sloja, PVC folije.
A36: A4.13a | B36: Kompletna izdelava, dobava in vgrajevanje betona C30/37, v armirane konstrukcije, prereza od 0.10 do 0.20 m3/m2/m1, vključno z vsemi pomožnimi deli in transportom do mesta vgrajevanja: | C36: m3 | D36: 29 | F36: =E36*D36 -> 0
B37: ►ab dilatirana betonska plošča, deb. 15 -20 cm, (spomenik zmage, betonski podstavek)
A39: A4.13b | B39: Kompletna izdelava, dobava in vgrajevanje betona C30/37 v debelini 5cm, po principu mokro na mokro, v armirane konstrukcije, prereza od 0.05 do 0.10 m3/m2/m1, vključno z vsemi pomožnimi deli in transportom do mesta vgrajevanja: | C39: m3 | D39: 6.5 | F39: =E39*D39 -> 0
B40: ►ab dilatirana betonska plošča - finalna terazzo plast betona, deb. 5 cm, (spomenik zmage, betonski podstavek) Upoštevati posneti betonski robovi 1 cm! - BRUŠEN BETON
B41: Izvedba finalnega belega betona sestavljenega iz agregata (mešanica rečnega proda Mure, agregat 0mm – 8mm) in mešanice belega in sivega cementa (razmerje 35% - 65%). Beton se nato grobo brusi, s cementnim mlekom zapolni nastale pore in nato fino brusi. Izpostavljeni robovi tlaka se naknadno fino pobrusijo pod kotom 45°- izvedba fazete. Končna obdelava površine je terazzo. Betonska plošča je razrezana na dilatacijska polja skladno z detajlom. Dilatacijske fuge se zapolni z redečo fugirno maso (zmrzlinsko in UV odporna), fuge poglobljene za 5mm. Betonska dela se izvajajo skladno s projektom betona, ki ga predhodno potrdi odgovorni nadzor in odgovorni projektant arhitekture
A43: A4.13c | B43: Izdelava projekta betona, skladno z navodili podanimi v Poročilu o detajlnem pregledu betonskih delov Spomenika padlih rdečearmejcev in partizanov, Irma Trzin, november 2017 | C43: kom | D43: 1 | F43: =E43*D43 -> 0
A46: A4.14 | B46: Kompletna izdelava, dobava in vgrajevanje betona C30/37, v armirane konstrukcije, prereza od 0.12 do 0.20 m3/m2/m1, vključno z vsemi pomožnimi deli in transportom do mesta vgrajevanja: | C46: m3 | D46: =43.5*0.75 -> 32.625 | F46: =E46*D46 -> 0
B47: ►ab monolitna betnska plošča, fino štokani beton 15 cm - FINO ŠTOKAN BETON V ceni upoštevati izvedbo dilatacij (ustrezni profili)! Upoštevati posneti betonski robovi 1 cm!
B48: Izvedba finalnega belega betona sestavljenega iz agregata (mešanica rečnega proda Mure in belega kremenčevega peska v razmerju 50%:50% agregat 0mm – 8mm) in mešanice belega in sivega cementa (razmerje 65% - 35%). Beton se nato grobo brusi, s cementnim mlekom zapolni nastale pore in nato fino štoka. Pričakovan razred odpornosti proti zdrsu je R11. Izpostavljeni robovi tlaka se naknadno fino pobrusijo pod kotom 45°- izvedba fazete.
A50: A4.15a | B50: Kompletna izdelava, dobava in vgrajevanje betona C30/37, v armirane konstrukcije, prereza od 0.12 do 0.20 m3/m2/m1, vključno z vsemi pomožnimi deli in transportom do mesta vgrajevanja: | C50: m3 | D50: =383.51*0.75 -> 287.6325 | F50: =E50*D50 -> 0
B51: ►ab monolitna betnska plošča, grobo štokani beton 15 cm - GROBO ŠTOKAN BETON V ceni upoštevati naknadno zarezana dilatacija 3/60mm
B52: Izvedba finalnega belega betona sestavljenega iz agregata (mešanica rečnega proda Mure in belega kremenčevega peska v razmerju 50%:50%, agregat 0mm – 16mm) in mešanice belega in sivega cementa (razmerje 65% - 35%).
A54: A4.15b | B54: Obdelava vidnega betona tako, da se grobo brusi, s cementnim mlekom zapolni nastale pore in nato grobo štoka. Pričakovan razred odpornosti proti zdrsu je R12. Izpostavljeni robovi tlaka se naknadno fino pobrusijo pod kotom 45°- izvedba fazete | C54: m2 | D54: 1900 | F54: =E54*D54 -> 0
A56: A4.16 | B56: Kompletna izdelava, dobava in vgrajevanje betona C25/30, v armirane konstrukcije, prereza od 0.12 do 0.20 m3/m2/m1, vključno z vsemi pomožnimi deli in transportom do mesta vgrajevanja: | C56: m3 | D56: 1.02 | F56: =E56*D56 -> 0
B57: ►ab točkovni temeljl (za ulično svetilko)
A59: A4.17 | B59: Kompletna izdelava, dobava in vgrajevanje betona C25/30, v armirane konstrukcije, prereza od 0.12 do 0.20 m3/m2/m1, vključno z vsemi pomožnimi deli in transportom do mesta vgrajevanja: | C59: m3 | D59: 1.5 | F59: =E59*D59 -> 0
B60: ►ab temelj stojni drogovi
A62: A4.18 | B62: Dobava, rezanje, krivljenje, vezanje in polaganje armature ter polaganje armaturnih mrež kompletno po armaturnem načrtu, z vsemi pomožnimi deli in prenosi, do mesta vgraditve. Armira se zgornja cona in robovi! Armatura RA 400/500 | C62: kg | D62: 29500 | F62: =E62*D62 -> 0
B63: Navedena količina je ocenjena po količinah vgrajenih betonov (60-70 kg/m3).
A65: A4.19 | B65: Izdelava opaža roba monolitne betonske plošče - fino štokan beton, višine 15 cm, opaž deloma v krožnem radiju oz. eliptičnem radiju, skupaj s potrebnim opiranjem; opaženje, razopaženje, čiščenje in zlaganjem po konačnih delih | C65: m1 | D65: 85.31 | F65: =E65*D65 -> 0
A67: A4.20 | B67: Izdelava opaža roba monolitne betonske plošče - grobo štokan beton, višine 15 cm, opaž deloma v krožnem radiju oz. eliptičnem radiju, skupaj s potrebnim opiranjem; opaženje, razopaženje, čiščenje in zlaganjem po konačnih delih | C67: m1 | D67: 1010.49 | F67: =E67*D67 -> 0
A69: A4.21 | B69: Izdelava opaža roba monolitne betonske plošče - spomenik zmage, betonski podstavek, višine 30 cm, skupaj s potrebnim opiranjem; opaženje, razopaženje, čiščenje in zlaganjem po konačnih delih | C69: m1 | D69: 86.04 | F69: =E69*D69 -> 0
A71: A4.22 | B71: Izdelava opaža roba dilatirana betonske plošče - spomenik zmage, betonski podstavek, višine 10-18 cm, skupaj s potrebnim opiranjem; opaženje, razopaženje, čiščenje in zlaganjem po konačnih delih | C71: m1 | D71: 86.04 | F71: =E71*D71 -> 0
A73: A4.23 | B73: Izdelava opaža ab točkovni temelj za ulično svetilko, skupaj s potrebnim opiranjem; opaženje, razopaženje, čiščenje in zlaganjem po konačnih delih | C73: m2 | D73: 10.24 | F73: =E73*D73 -> 0
A75: A4.24 | B75: Izdelava opaža ab temelj stojni drogovi, skupaj s potrebnim opiranjem; opaženje, razopaženje, čiščenje in zlaganjem po konačnih delih | C75: m2 | D75: 12.3 | F75: =E75*D75 -> 0
A77: A4.25 | B77: Kompletna izdelava, dobava in montaža klopi z naslonom, vključno z vsemi pomožnimi, pripravljalnimi in zaključnimi deli ter vsemi potrebnimi horizontalnimi in vertikalnimi transporti | C77: kom | D77: 6 | F77: =E77*D77 -> 0
B78: V ceni upoštevati:
B79: Klop ima svoj temelj iz pustega nearmiranega betona debeline 20cm
B80: Armiran betonski podstavek iz belega brušenega betona (terrazzo). V beton so vsidrani kovinski elementi za pritrditev nosilcev sedalne površine. Kovinski elementi morajo biti iz nerjaveče kovine ali obdelani proti koroziji, cinkani.
B81: Nosilci za sedalno površino morajo biti ustrezno dimenzionirani. Jekleni ali železni posamezni rezani elementi so med seboj spojeni s kvalitetnimi predpisanimi zvari ali vijačenimi spoji iz nerjaveče obdelanega materiala.
B82: Sedalo: lesena konstrukcija je izdelana iz masivnega hrasta 1. kvalitete zaščitnega s črno pol-prekrivno mat lazuro. Les se zlepi po višini v minimalno 2 kosih v preseku 50/200 mm, 100 %-no površinsko poravna, obrusi in pobarva v črno mat barvo (lužilo). Robovi letev so minimalno posneti in obdelani do gladkega otipa. Lesene dele se z nerjavečimi vijaki iz spodnje strani pritrdi v kovinski nosilec. Lesena konstrukcija je snemljiva zaradi varovanja in eventuelne odstranitve v zimskem času.
B83: Nosilci za naslon, dimenzij: 50/60/560 mm, debelina pločevine 5 mm. Nosilci so ob montaži sedalne površine privijačeni in zalepljeni v beton z nerjavečimi vijaki. Lesen naslon je vstavljen med nosilca in privijačen z nerjavečimi vijaki. Nosilci so privijačeni v vsidrane kovinske elemente na betonskem podstavku.
A85: A4.26 | B85: Kompletna izvedba prestavitev obstoječih klopi na začasno deponijo na gradbišču, vključno s kasnejšim ponovnim prenosom na novo lokacijo, vključno z vsemi pomožnimi, pripravljalnimi in zaključnimi deli ter vsemi potrebnimi horizontalnimi in vertikalnimi transporti. | C85: kom | D85: 3 | F85: =E85*D85 -> 0
A87: A4.27 | B87: Kompletna dobava in vgradnja betonske taktilne oznake iz belega betona – linijski element 50/30/6 cm (DxŠxV v detajlu 1C – D02), točkovni element 30/30/6cm, vključno z vsemi pomožnimi, pripravljalnimi in zaključnimi deli ter vsemi potrebnimi horizontalnimi in vertikalnimi transporti. | C87: m1 | D87: 108.68 | F87: =E87*D87 -> 0
A89: A4.28 | B89: Kompletna dobava in vgradnja betonski prefabrikati dim. 20x20x200 cm. Le-ti so izdelani iz brušenega (terazzo) belega betona z enako betonsko mešanica kot v primeru tlakov litih na licu mesta. Zgornji rob prefabrikata je poravnan z končno niveleto betonskega tlaka. Tekom izvajanja zalivanja in štokanja litega tlaka je potrebno prefabrikate mehansko zaščititi. Vključno z vsemi pomožnimi, pripravljalnimi in zaključnimi deli ter vsemi potrebnimi horizontalnimi in vertikalnimi transporti | C89: kos | D89: 48 | F89: =E89*D89 -> 0
A91: A4.29 | B91: Kompletna dobava in montaža INFO TABLE, vključno z vsemi pomožnimi, pripravljalnimi in zaključnimi deli ter vsemi potrebnimi horizontalnimi in vertikalnimi transporti. Dela vključujejo tudi prestavitev obstoječe table na novo lokacijo. | C91: kom | D91: 1 | F91: =E91*D91 -> 0
B92: Izdelava po naslednji specifikaciji: informacijske table (po detajlu arhitekta), iz varjenega vroče cinkanega jekla, mat črno barvanega, dimenzije 75x150x8 cm. Jeklen element mora biti iz nerjaveče kovine ali obdelan proti koroziji, cinkan. Okvir je izdelan iz ploščate pločevine 10 mm (trakovi), rezane in brušene v dimenzijah. Hrbet table izdelan iz aluminijske sendvič pločevine (npr. Alucobond) dim. 75cm x 75cm, prašno barvan. Okvir je sidran v temelj s primernimi globinskimi vložki ter dvokomponentnimi lepili. Zaradi stabilnosti stojala segajo sidra skozi celotno globino drenažnega betona v dodatno temeljno podlago. Okvir table je brušen po robovih do gladkega otipa brez deformacij, zvari so skriti in pobrušeni. Sidrani vijaki (poglobljen imbus), ki prebodejo spodnji del okvirja so vtopljeni v profil in poravnani z zgornjo ploskvijo kovine. si kovinski deli so barvani s strukturno poliuretansko prašno barvano barvo v antracit tonu – Tiger Drylac 29/80077. Vključno z vsemi pomožnimi, pripravljalnimi in zaključnimi deli ter vsemi potrebnimi horizontalnimi in vertikalnimi transporti. V ceno vključen tudi izdelava dvostranske nalepke z natisnjeno vsebino v barvah, tisk odporen na UV in meteorne vplive, dim. nalepke 75cm x 75cm.
A94: A4.30 | B94: Kompletna dobava in montaža novih pokrovov na obstoječe komunalne jaške, pokrovi z vlitim betonskim tlakom v RF okvir. Izberemo pokrove brez navojev za dvig ampak takšne z utorom za dvižno kljuko. Vključno z vsemi pomožnimi, pripravljalnimi in zaključnimi deli ter vsemi potrebnimi horizontalnimi in vertikalnimi transporti
A95: a) | B95: pokrovi TK | C95: kom | D95: 1 | F95: =E95*D95 -> 0
A97: A4.31 | B97: Kompletna dobava in montaža novih pokrovov na obstoječe komunalne jaške, pokrovi z vlitim betonskim tlakom v RF okvir, nosilnost 350kN. Izberemo pokrove brez navojev za dvig ampak takšne z utorom za dvižno kljuko. Vključno z vsemi pomožnimi, pripravljalnimi in zaključnimi deli ter vsemi potrebnimi horizontalnimi in vertikalnimi transporti.
A98: c) | B98: dvojni pokrovi s prečko ELEKTRO | C98: kom | D98: 3 | F98: =E98*D98 -> 0
A100: A4.32 | B100: Kopletna dobava in montaža cestnega betonskega robnika, skupaj s pripravo nivelete, podlage, obbetonirranjem in fugiranjem, dim. robnika 15/25cm, | C100: m1 | D100: =91+15+17 -> 123 | F100: =E100*D100 -> 0
A102: A4.33 | B102: Kompletna dobava in montaža droga za postavitev ulične dekoracije, vključno z vsemi pomožnimi, pripravljalnimi in zaključnimi deli ter vsemi potrebnimi horizontalnimi in vertikalnimi transporti. | C102: kom | D102: 12 | F102: =E102*D102 -> 0
B103: Izdelava po naslednji specifikaciji: jeklene vroče cinkana cev, zunanji premer 290mm, d=3mm, na vrhu cevi navarjena pločevina, na cev navarjena ušesa za pritrditev dekoracije, oblika, materiali, dimenzije po detajlu, pokrov barvan s strukturno poliuretansko prašno barvano barvo v antracit tonu – Tiger Drylac 29/80077. Vključno s ključavnico obešanko za primerno zunanje pogoje in z vsemi pomožnimi, pripravljalnimi in zaključnimi deli ter vsemi potrebnimi horizontalnimi in vertikalnimi transporti.
A105: A4.34 | B105: Kompletna dobava in montaža stojnega mesta za drogove, vključno z vsemi pomožnimi, pripravljalnimi in zaključnimi deli ter vsemi potrebnimi horizontalnimi in vertikalnimi transporti. | C105: kom | D105: 12 | F105: =E105*D105 -> 0
B106: Izdelava po naslednji specifikaciji: jeklene vroče cinkana cev, notranji prememr 300mm, d=6mm, skupaj s pokrovom, oblika, materiali, dimenzije po detajlu, pokrov barvan s strukturno poliuretansko prašno barvano barvo v antracit tonu – Tiger Drylac 29/80077. Vključno s ključavnico obešanko za primerno zunanje pogoje in z vsemi pomožnimi, pripravljalnimi in zaključnimi deli ter vsemi potrebnimi horizontalnimi in vertikalnimi transporti.
A108: A4.36 | B108: Geodetski posnetek celotnega območja za namen pridobitve uporabnega dovoljenja, skupaj s posnetkom izvedenih komunalnih vodov. | C108: kom | D108: 1 | F108: =E108*D108 -> 0
A110: A4.37 | B110: Projekt izvedenih del (obseg: vodilna mapa, vsi načrti PZI) | C110: kom | D110: 1 | F110: =E110*D110 -> 0
B112: SKUPAJ GOI - FAZA 1 C | F112: =SUM(F4:F111) -> 0

Sheet Hortikultura_1C
A1: PONUDBENI PREDRAČUN : HORTIKULTURA_TRG_ZMAGE_1C
A3: OPOMBA: Projektantski popis del je pripravljen za zaščito obstoječih dreves med prenovo tlakovanih površin in podstavka spomenika, zasaditev in zatravitev ter vzdrževalna dela, namenjena zasaditvi. V predračunu je upoštevan tudi nanos dodatne rodovitne zemlje v območjih sajenja.
A5: POZOR: Tekom vseh gradbenih del v neposredni bližini obstoječih dreves je potrebno zagotoviti stalno mehansko zaščito debel, krošenj in korenin dreves. Zaščitni ukrepi po potrebi vključujejo naslednja dela: Zaščita okrog drevesnih debel, debelna zaščita v višini 2 m, tapecirana na strani proti deblu in Zaščitne kovinske plošče korenine skupaj s talno utrditvijo - gramoz in pesek v plasti, debeli 15 cm. Zaščitne ukrepe je potrebno izvajati, dela so vključena v enotno ceno cene zasaditev.
A7: Zap. št. | B7: Opis del | C7: EM | D7: Količina | E7: Cena/EM | F7: Skupaj
A9: 4 | B9: ZASADITEV
A10: 4.1 | B10: ODSTRANITEV DREVES in GRMOVNIC Odstranitev z odstranitvijo štorov, nakladanje in odvoz na deponijo (drevesa na zelenici in tise neposredno ob spomeniku) | C10: kos | D10: 6 | F10: =E10*D10 -> 0
A11: 4.2 | B11: ODSTRANITEV POKROVNIC Odstranitev in odvoz na drugo lokacijo, ki jo določi investitor, kjer se na novo posadijo (sajenje na drugi lokaciji ni zajeto v popis). | C11: m2 | D11: 120 | F11: =E11*D11 -> 0
A12: 4.3 | B12: ODSTRANITEV DREVES IN NJIHOVA PRESADITEV Odstrani in presadi se: Pinus heldreichii 8 kosov, izkop jame velikosti 1,5 m x 1,5 m x 1,5 m oz. v velikosti koreninske grude, dodajanje mešanice šote, hygromulla in komposta v sadilno jamo, odvoz mrtvice, sajenje, nabava in postavitev zaščitne opore - količkov, zalivanje, zaščita sadike za 2 do 3 leta. | C12: ure | D12: 32 | F12: =E12*D12 -> 0
A13: 4.4 | B13: DOBAVA IN SAJENJE POKROVNIH VRTNIC Nabava in dovoz rodovitne zemlje v globini 60 cm znotraj podstavka spomenika zmage, nabava in dovoz sadik: Rosa `Swany` pokrovna vrtnica, slovenskega ali nemškega izvora, dodajanje mešanice šote, hygromulla in komposta v sadilno površino (85 m2 v globini 60 cm), odvoz mrtvice, sajenje 4,5 kosa/m2. | C13: kos | D13: 388 | F13: =E13*D13 -> 0
A14: 4.5 | B14: DOBAVA, SAJENJE IN ZAŠČITA DREVOREDNIH DREVES Nabava in dovoz rodovitne zemlje, nabava in dovoz sadik (enake velikosti, kot so obstoječe breze ob zahodni strani Trga zmage, obseg debla 1,5m od tal min. 25cm): Betula pendula drevoredno drevo, slovenskega ali nemškega izvora, izkop jame velikosti 1,5 m x 1,5 m x 1,5 m oz. v velikosti koreninske grude, dodajanje mešanice šote, hygromulla in komposta v sadilno jamo, odvoz mrtvice, sajenje, nabava in postavitev zaščitne opore - količkov, zalivanje, zaščita sadike za 2 do 3 leta | C14: kos | D14: 3 | F14: =E14*D14 -> 0
A15: 4.6 | B15: ZATRAVITEV Odvoz in navoz plodne zemlje v globini 10 cm, razgrinjanje, grobo in fino planiranje, dognojevanje, nabava travne mešanice, zagrabljanje, uvaljanje in čiščenje po končanih delih, gnojilo, voda. Zatravitev se izvede s hidrosetvijo. V projektantski predračun je zajeto gnojilo bioalgen S90 (100 % biološko gnojilo; na 1 ha pride 2 l gnojila in 400 l vode). Na 1 m2 je načrtovanih 25-50 g travne mešanice. | C15: m2 | D15: 4600 | F15: =E15*D15 -> 0
B16: SKUPAJ ZATRAVITEV | F16: =SUM(F10:F15) -> 0

Sheet Elektro_1C
A1: PONUDBENI PREDRAČUN : ELEKTRIČNE INŠTALACIJE IN ELEKTRIČNA OPREMA_1C
A3: SPLOŠNO:
A4: V ceno po enoti mere je zajeta dobava in montaža materiala ter opreme s pom. deli in drobnim materialom (rezanje, dolbljenje, kronsko vrtanje z udarnim kladivom, preboji vključeni v ceni).
A6: Vsa oprema in material se mora dobaviti z vsemi ustreznimi certifikati, atesti, garancijami, navodili za obratovanje, vzdrževanje, posluževanje in servisiranje. (v skladu z veljavno zakonodajo in zahtevami naročnika).
A8: Pri opremi in materialu je potrebno upoštevati stroške meritev, preiskusa in zagona, vključno s pridobitvijo ustreznih certifikatov in potrdil s strani pooblaščenih institucij.
A10: Pri izvedbi je potrebno upoštevati stroške vseh pripravljalnih in zaključnih del (vključno z usklajevanjem z ostalimi izvajalci na objektu), ažurno evidentiranje eventuelnih za izdelavo PID dokumentacije ter vse transportne, skladiščne, zavarovalne in ostale splošne stroške.
A12: Zap. št. | B12: Opis del | C12: EM | D12: Količina | E12: Cena/EM | F12: Skupaj
A14: 1. | B14: ZUNANJA UREDITEV-ELETRIČNE INŠTALACIJE Z POTREBNIMI GRADBENIMI DELI
A17: 1 | B17: Vodnik položen delno v kab. kanalizacijo, delno pa v izol. cev z opozorilnim trakom
B18: - NYY-J 5x2,5 mm2 | C18: m | D18: 90 | F18: =IF((D18*E18)=0," ",(D18*E18))
B19: - NYY-J 5x6 mm2 | C19: m | D19: 170 | F19: =IF((D19*E19)=0," ",(D19*E19))
B20: - NAYY-J 5x10 mm2 | C20: m | D20: 420 | F20: =IF((D20*E20)=0," ",(D20*E20))
B21: - NAYY-J 5x16 mm2 | C21: m | D21: 620 | F21: =IF((D21*E21)=0," ",(D21*E21))
B22: - NAYY-J 5x35 mm2 | C22: m | D22: 370 | F22: =IF((D22*E22)=0," ",(D22*E22))
B23: -UTP 4x2x0,5 cat 6E, zemeljski tip | C23: m | D23: 270 | F23: =IF((D23*E23)=0," ",(D23*E23))
B24: -TOSM 1x6´zemeljski (odobri investitor) | C24: m | D24: 90 | F24: =IF((D24*E24)=0," ",(D24*E24))
A26: =1+A17 -> 2 | B26: S1 - Svetilka javne razsvetljave oblikovno integrirana v steber. - Konstrukcija stebra iz jekla protikorozijsko zaščiten z cinkanjem površine barvan-poliesterska strukturna barva Tiger Drylac 29/80077, postopek: prašno barvanje, z integrirano montažno sponko. - Montaža z 4 x M22 stebrnimi vijaki na pred pripravljen temelj. - Steber je pred ožičen za priključitev svetilke - Svetilka 4,5 m višine z priključno močjo do 18 watt in lumen paketom ne manjšim od 2100Lm pri 4000 K - Led svetlobni izvor pripravljen za hitro izmenjavo. - Napajalnik integriran sestavni del svetilke - Priključna sponka preko hitro spojnega elementa, ki je pred montiran iz strani proizvajalca. - Možnost menjave optike zaradi boljšega efekta osvetlitve. - CE certifikat - 5 letna garancija - Kot na primer PARK L GEOLUX Parkline I S 18 AC 40 | C26: kom | D26: 8 | F26: =IF((D26*E26)=0," ",(D26*E26))
A28: =1+A26 -> 3 | B28: Razdelilec E-CR-1 in PARK napajanje - tipski temelj s podložnim betonom, komplet z izolacijskimi cevmi PVC 4x110 mm ter sidrnimi vijaki za montažo E-CR po detajlu z kabelskim jaškom FI.1,0x1.0m in LTŽ pokrovim 125kN | C28: kos | D28: 1 | F28: =IF((D28*E28)=0," ",(D28*E28))
B29: 1- tipsko ohišje INOX 1600x1000x500 mm stopnja mehanske, dvojno pregrajeno za merilni in krmilni del, z dvojnimi vrati, zaščite IP66 | C29: kos | D29: 1
B30: - Polindirektni trifazni števec s 15-minutno re- gistracijo delovne energije kl.1 (IEC) ali B (MID),jalove energije kl.2, (3x230/400V, 5A) in komunikacijskim vmesnikom | C30: kos | D30: 1
B31: - glavno stikalo KG 160A,3p | C31: kos | D31: 1
B32: - kontaktor KN30 | C32: kos | D32: 7
B33: - foto rele HTR 03.3. s foto celico | C33: kos | D33: 1
B34: - grelec 100W za ogrevanje omare | C34: kos | D34: 1
B35: - termostat 0-30 st. C | C35: kos | D35: 2
B36: - tipska svetilka omare komplet s stikalom | C36: kos | D36: 1
B37: - varovalno podnožje PK250/3 z varovalkami | C37: kos | D37: 3
B38: - varovalčno stikalo 3x100 A z ustreznim varovalčnim vložkom | C38: kos | D38: 9
B39: - programska ura | C39: kos | D39: 1
B40: - varovalka Tytyan z vložkom 3x16A | C40: kos | D40: 7
... B49: - v. sponke, ožičenje, drobni montažni material in pribor ter enopolna shema dejanskega stanja in napisne ploščice | C49: kos | D49: 1
A51: =1+A28 -> 4 | B51: Razdelilec E-CR-2 napajanje - tipski temelj s podložnim betonom, komplet z izolacijskimi cevmi PVC 4x110 mm ter sidrnimi vijaki za montažo E-CR po detajlu z kabelskim jaškom FI.1,0x1.0m in LTŽ pokrovim 125kN | C51: kos | D51: 1 | F51: =IF((D51*E51)=0," ",(D51*E51))
B52: 1- tipsko ohišje INOX 1600x1000x500 mm stopnja mehanske, dvojno pregrajeno za merilni in krmilni del, z dvojnimi vrati, zaščite IP66 | C52: kos | D52: 1
B53: - Direktni trifazni števec s 15-minutno re- gistracijo delovne energije kl.1 (IEC) ali B (MID),jalove energije kl.2, (3x230/400V, 5A) in komunikacijskim vmesnikom | C53: kos | D53: 1
B54: - glavno stikalo KG 125A,3p | C54: kos | D54: 1
B55: - kontaktor KN30 | C55: kos | D55: 4
B56: - foto rele HTR 03.3. s foto celico | C56: kos | D56: 1
B57: - grelec 100W za ogrevanje omare | C57: kos | D57: 1
B58: - termostat 0-30 st. C | C58: kos | D58: 2
B59: - tipska svetilka omare komplet s stikalom | C59: kos | D59: 1
B60: - varovalno podnožje PK250/3 z varovalkami | C60: kos | D60: 1
B61: - varovalčno stikalo 3x100 A z ustreznim varovalčnim vložkom | C61: kos | D61: 3
B62: - programska ura | C62: kos | D62: 1
B63: - RCD 63/0,03 A 4 polni | C63: kos | D63: 1
... B75: - v. sponke, ožičenje, drobni montažni material in pribor ter enopolna shema dejanskega stanja in napisne ploščice | C75: kos | D75: 1
A77: =1+A51 -> 5 | B77: Indetifikacija in zaščita obstoječe NN in TK infrastrukture | C77: kpl | D77: 1 | F77: =IF((D77*E77)=0," ",(D77*E77))
A79: =1+A77 -> 6 | B79: Odstranitev obstoječe merilne omarice KPL-1 in odvoz na ustrezno deponijo, priprava obstoječih tokokrogov 9 komplet z drobnim montažnim materialom za prevezavo na novopredvideno omarico E-CR-1 na isti lokaciji | C79: kpl | D79: 1 | F79: =IF((D79*E79)=0," ",(D79*E79))
A81: =1+A79 -> 7 | B81: Odstranitev obstoječe merilne omarice KPL-2 in odvoz na ustrezno deponijo, priprava obstoječih tokokrogov 6 komplet z drobnim montažnim materialom za prevezavo na novopredvideno omarico E-CR-2 na isti lokaciji | C81: kpl | D81: 1 | F81: =IF((D81*E81)=0," ",(D81*E81))
A83: =1+A81 -> 8 | B83: Odstranitev obstoječe ulične svetilke komplet s temeljem in odklopom od NN omrežja in odvozom na ustrezno deponijo. | C83: kpl | D83: 8 | F83: =IF((D83*E83)=0," ",(D83*E83))
A85: =1+A83 -> 9 | B85: Dobava in uvlačenje napajalnega kablovoda NA2XY-0 4X150+1,5mm2 od obstoječega NN omrežja do E-CR | C85: m | D85: 90 | F85: =IF((D85*E85)=0," ",(D85*E85))
A87: =A84+1 -> 1 | B87: Dobava in montaža potopnega elektro stebrička z • 1x3x63A vtičnica 5 polna • 2x3x32A vtičnica 5 polna vtičnicami IP 66, zaščitnimi elementi ter glavnim stikalom, z ključavnico in ustreznim montažnim materialom. Potopni stebriček se vgradi v ustrezen povozni kabelski jašek z ustreznim pokrovom. | C87: kom | D87: 2 | F87: =E87*D87 -> 0
A89: =1+A85 -> 10 | B89: Izdelava IP 66 doz v jašku in priprava za novoletno razsvetljavo ter priključitev dovodnega kablovoda | C89: kpl | D89: 13 | F89: =IF((D89*E89)=0," ",(D89*E89))
A91: =1+A89 -> 11 | B91: Izvedba priklopa napajalnega dela CR s strani elektrodistributerja, priključitev na NN omrežje, stikalne manipulacije za zavarovanje gradbišča, izdelava elaborata priklopa na NN omrežje, soglasje za priklop, pogodba o priključitvi | C91: kpl | D91: 1 | F91: =IF((D91*E91)=0," ",(D91*E91))
A93: =A91+1 -> 12 | B93: Valjanec Fe/Zn 25x4 mm položen v skupni jarek s kablom (zunanja razsvetljava) | C93: m | D93: 450 | F93: =IF((D93*E93)=0," ",(D93*E93))
A95: =A93+1 -> 13 | B95: Križna sponka 58x58 z antikorozijsko zaščito z "Dekordal" trakom | C95: kom | D95: 35 | F95: =IF((D95*E95)=0," ",(D95*E95))
F96: =IF((D96*E96)=0," ",(D96*E96))
A97: =A95+1 -> 14 | B97: Izolacijska cev PEHD 110, rdeče barve, položena v izkopani jarek | C97: m | D97: 485 | F97: =IF((D97*E97)=0," ",(D97*E97))
F98: =IF((D98*E98)=0," ",(D98*E98))
A99: =A97+1 -> 15 | B99: Izolacijska cev PEHD 75, rdeče barve, položena v izkopani jarek | C99: m | D99: 1040 | F99: =IF((D99*E99)=0," ",(D99*E99))
F100: =IF((D100*E100)=0," ",(D100*E100))
A101: =A99+1 -> 16 | B101: Izolacijska cev PEHD 2xfi50, rdeče barve, položena v izkopani jarek | C101: m | D101: 240 | F101: =IF((D101*E101)=0," ",(D101*E101))
F102: =IF((D102*E102)=0," ",(D102*E102))
A103: =A101+1 -> 17 | B103: Izdelava stika na kovinske mase (stebri, ograje) z varjenjem in antikorozijsko zaščito zvara | C103: kom | D103: 17 | F103: =IF((D103*E103)=0," ",(D103*E103))
F104: =IF((D104*E104)=0," ",(D104*E104))
A105: =A103+1 -> 18 | B105: Izkop jarka v zemlji 90% III. IN 10% IV ktg. (dim. 0,4 x 0,8), s pravilnim odsekovanjem stranic in dna izkopa ter odlaganje ob rob izkopa (obračun v raščenem stanju) - za polaganje kanalizacije in zasipanje kabelske kanalizacije z tamponskim in izkopanim materialom po plasteh z utrjevanjem | C105: m3 | D105: 190 | F105: =IF((D105*E105)=0," ",(D105*E105))
F106: =IF((D106*E106)=0," ",(D106*E106))
A107: =A105+1 -> 19 | B107: Odvoz odvečne zemlje na stalno deponijo, skupaj z nakladanjem in zvračanjem ter stroški deponije (obračun v raščenem stanju) za zunanjo razsvetljavo | C107: m3 | D107: 48 | F107: =IF((D107*E107)=0," ",(D107*E107))
F108: =IF((D108*E108)=0," ",(D108*E108))
A109: =A107+1 -> 20 | B109: Izdelava kabelske posteljice dim. 0.2x0.8m s peskom garnulacije 0-4mm za zunanjo razsvetljavo | C109: m3 | D109: 48 | F109: =IF((D109*E109)=0," ",(D109*E109))
F110: =IF((D110*E110)=0," ",(D110*E110))
A111: =A109+1 -> 21 | B111: Dobava in polaganje PVC opozorilnega traku POZOR ENERGETSKI KABEL, položen nad kabel v kabelski jarek | C111: m | D111: 470 | F111: =IF((D111*E111)=0," ",(D111*E111))
F112: =IF((D112*E112)=0," ",(D112*E112))
A113: =A111+1 -> 22 | B113: Izdelava elektro kabelskega jaška dim. BC fi. 1.6 x 1.5m globine, komplet | C113: kos | D113: 3 | F113: =E113*D113 -> 0
A115: =A113+1 -> 23 | B115: Izdelava in dobava dvojnega pokrova 600/600mm z prečko opremljen z napisom ELEKTRO, nosilnost 350kN - zajeto v gradbenih delih | C115: kos | D115: 0 | F115: =E115*D115 -> 0
A117: =A115+1 -> 24 | B117: Strojni in ročni izkop zemlje 70% III. IN 30% IV ktg za kabelski jašek dim BC fi 1,6 x1,5m preboji in tesnenjem za kabelsko kanalizacijo 3x110mm in 2xfi.110mm, dobava in vgrajevanje betona C25/30 in opaža za temelj, skupaj s povoznim litoželeznim pokrovom. Vključno z odvozom izkopanega materiala | C117: kom | D117: 3 | F117: =IF((D117*E117)=0," ",(D117*E117))
F118: =IF((D118*E118)=0," ",(D118*E118))
A119: =A117+1 -> 25 | B119: Poseg v obstoječi kabelski jašek komplet s preboji za 2x110mm cevi s tesnenjem | C119: kpl | D119: 1 | F119: =IF((D119*E119)=0," ",(D119*E119))
F120: =IF((D120*E120)=0," ",(D120*E120))
A121: =A119+1 -> 26 | B121: Izdelava elektro kabelskega jaška dim. BC fi. 0,8 x 1.0m globine, komplet | C121: kos | D121: 2 | F121: =E121*D121 -> 0
A123: =A121+1 -> 27 | B123: Izdelava in dobava lahkega LTŽ pokrova 600/600mm opremljen z napisom ELEKTRO, nosilnost 150kN, izvedba zaključka jaška v travni površini BREZ vidnega betonskega roba, betonski rob zaključiti pod koto 45° na stranico pokrova | C123: kos | D123: 2 | F123: =E123*D123 -> 0
A125: =A123+1 -> 28 | B125: Strojni in ročni izkop zemlje 70% III. IN 30% IV ktg za kabelski jašek dim BC fi 0,8 x1,0m preboji in tesnenjem za kabelsko kanalizacijo 1xfi.110mm in 1x75mm, dobava in vgrajevanje betona C25/30 in opaža za temelj, skupaj s litoželeznim pokrovom. Vključno z odvozom izkopanega materiala | C125: kom | D125: 2 | F125: =IF((D125*E125)=0," ",(D125*E125))
A127: =A125+1 -> 29 | B127: Izdelava grelne inštalacije za pitnik vode, kompletno z tipali in drobnim materialom | C127: kpl | D127: 1 | F127: =IF((D127*E127)=0," ",(D127*E127))
A129: =A127+1 -> 30 | B129: Dobava in polaganje kabla PP00Y 4x2.5mm2 v cev PVC fi. 29mm od razdelilcev kandelabrov do svetilke | C129: m | D129: 70 | F129: =IF((D129*E129)=0," ",(D129*E129))
A131: =A129+1 -> 31 | B131: Dobava in polaganje cevi PVC cevi fi 29mm od razdelilcev kandelabra do svetilke | C131: m | D131: 70 | F131: =IF((D131*E131)=0," ",(D131*E131))
A133: =A131+1 -> 32 | B133: Povrnitev trase v staro stanje (fino planiranje) | C133: m2 | D133: 23 | F133: =IF((D133*E133)=0," ",(D133*E133))
A135: =A133+1 -> 33 | B135: Vris kabelske kanalizacije v podzemni kataster | C135: kpl | D135: 1 | F135: =IF((D135*E135)=0," ",(D135*E135))
A137: =A135+1 -> 34 | B137: Projektantski nadzor | C137: ur | D137: 12 | F137: =IF((D137*E137)=0," ",(D137*E137))
B139: SKUPAJ ZUNANJA UREDITEV - ELETRIČNE INŠTALACIJE Z POTREBNIMI GRADBENIMI DELI | F139: =SUM(F18:F137) -> 0

Sheet Vodovod_1C
A1: PONUDBENI PREDRAČUN : VODOVODNE INŠTALACIJE_1C
A3: SPLOŠNO:
A5: V ceno po enoti mere je zajeta dobava in montaža materiala ter opreme s pom. deli in drobnim materialom (rezanje, dolbljenje, kronsko vrtanje z udarnim kladivom, preboji vključeni v ceni).
A7: Vsa oprema in material se mora dobaviti z vsemi ustreznimi certifikati, atesti, garancijami, navodili za obratovanje, vzdrževanje, posluževanje in servisiranje. (v skladu z veljavno zakonodajo in zahtevami naročnika).
A9: Pri opremi in materialu je potrebno upoštevati stroške meritev, preiskusa in zagona, vključno s pridobitvijo ustreznih certifikatov in potrdil s strani pooblaščenih institucij.
A11: Pri izvedbi je potrebno upoštevati stroške vseh pripravljalnih in zaključnih del (vključno z usklajevanjem z ostalimi izvajalci na objektu), ažurno evidentiranje eventuelnih za izdelavo PID dokumentacije ter vse transportne, skladiščne, zavarovalne in ostale splošne stroške.
A14: Zap. št. | B14: Opis del | C14: EM | D14: Količina | E14: Cena/EM | F14: Skupaj
A16: 1. | B16: CEVOVOD KARDOŠEVA ULICA IN V5
A18: 1 | B18: Strojno rezanje asfalta z odstranitvijo asfalta in odvozom na deponijo | C18: m' | D18: 8 | F18: =IF((D18*E18)=0," ",(D18*E18))
A20: =A18+1 -> 2 | B20: Strojno-ročni izkop kanala za vodovodni vod z nakladanjem in odvozom na deponijo do 3 km | C20: m³ | D20: 3 | F20: =IF((D20*E20)=0," ",(D20*E20))
F21: =IF((D21*E21)=0," ",(D21*E21))
A22: =A20+1 -> 3 | B22: Strojno-ročni izkop gradbene jame za vodovodni vod in vodomerni jašek z odlaganjem ob rob gradbene jame | C22: m³ | D22: 10.2 | F22: =IF((D22*E22)=0," ",(D22*E22))
F23: =IF((D23*E23)=0," ",(D23*E23))
A24: 4 | B24: Planiranje dna izkopa vodovodnega kanala | C24: m' | D24: 10.2 | F24: =IF((D24*E24)=0," ",(D24*E24))
F25: =IF((D25*E25)=0," ",(D25*E25))
A26: =A24+1 -> 5 | B26: Dobava in vgrajevanje peska granulacije 0-4 mm (okrogla zrnca) za posteljico, ob cevi in nad cevjo | C26: m³ | D26: 1.6 | F26: =IF((D26*E26)=0," ",(D26*E26))
F27: =IF((D27*E27)=0," ",(D27*E27))
A28: =A26+1 -> 6 | B28: Dobava in vgrajevanje gramoza z zasipavanjem po plasteh in utrditvijo do ustrezne zbitosti | C28: m³ | D28: 2.75 | F28: =IF((D28*E28)=0," ",(D28*E28))
F29: =IF((D29*E29)=0," ",(D29*E29))
A30: =A28+1 -> 7 | B30: Zasip z materialom od izkopa | C30: m² | D30: 8.5 | F30: =IF((D30*E30)=0," ",(D30*E30))
A32: =A30+1 -> 8 | B32: Jašek za vodomer 1/1 | C32: kom | D32: 1 | F32: =IF((D32*E32)=0," ",(D32*E32))
F33: =IF((D33*E33)=0," ",(D33*E33))
A34: =A32+1 -> 9 | B34: Cev PE 100 PN16 Ø32 RC PROTECT | C34: m' | D34: 15 | F34: =IF((D34*E34)=0," ",(D34*E34))
F35: =IF((D35*E35)=0," ",(D35*E35))
A36: =A34+1 -> 10 | B36: opozorilni trak | C36: m' | D36: 15 | F36: =IF((D36*E36)=0," ",(D36*E36))
F37: =IF((D37*E37)=0," ",(D37*E37))
A38: =A36+1 -> 11 | B38: Cev zaščitna 63 | C38: m' | D38: 15 | F38: =IF((D38*E38)=0," ",(D38*E38))
A40: =A38+1 -> 12 | B40: Manšeta gumi 63-32 | C40: kom | D40: 2 | F40: =IF((D40*E40)=0," ",(D40*E40))
A42: =1+A40 -> 13 | B42: Spojka alk. 1" 2/2 | C42: kom | D42: 1 | F42: =IF((D42*E42)=0," ",(D42*E42))
A44: =A42+1 -> 14 | B44: Čep alk. 1" | C44: kom | D44: 2 | F44: =IF((D44*E44)=0," ",(D44*E44))
A46: =A44+1 -> 15 | B46: Tlačni preizkus položenega cevovoda | C46: kom | D46: 1 | F46: =IF((D46*E46)=0," ",(D46*E46))
A48: =A46+1 -> 16 | B48: Odvzem vzorca s poročilom | C48: kom | D48: 1 | F48: =IF((D48*E48)=0," ",(D48*E48))
F49: =IF((D49*E49)=0," ",(D49*E49))
A50: =A48+1 -> 17 | B50: Geodetski posnetek | C50: kom | D50: 1 | F50: =IF((D50*E50)=0," ",(D50*E50))
F51: =IF((D51*E51)=0," ",(D51*E51))
A52: =A50+1 -> 18 | B52: Nadzor upravljavca vodovoda (inženir) | C52: kpl | D52: 1 | F52: =IF((D52*E52)=0," ",(D52*E52))
B54: =B16 -> CEVOVOD KARDOŠEVA ULICA IN V5 | F54: =SUM(F18:F53) -> 0
