Workbook
Name EQS_IzvozVExcel: #REF!
Name PodPoglavje_1.1: #REF!
Name PodPoglavje_1.2: #REF!
Name PodPoglavje_2.1: #REF!
Name PodPoglavje_2.2: #REF!
Name PodPoglavje_2.3: #REF!
Name PodPoglavje_2.4: #REF!
Name PodPoglavje_2.5: #REF!
Name PodPoglavje_2.6: #REF!
Name PodPoglavje_3.1: #REF!
Name PodPoglavje_3.2: #REF!
Name PodPoglavje_3.3: #REF!
Name PodPoglavje_3.4: #REF!
Name PodPoglavje_3.5: #REF!
Name PodPoglavje_4.1: #REF!
Name PodPoglavje_4.2: #REF!
Name PodPoglavje_4.3: #REF!
Name PodPoglavje_4.4: #REF!
Name PodPoglavje_4.5: #REF!
Name PodPoglavje_4.6: #REF!
Name PodPoglavje_5.1: #REF!
Name PodPoglavje_5.2: #REF!
Name PodPoglavje_5.3: #REF!
Name PodPoglavje_5.4: #REF!
Name PodPoglavje_6.1: #REF!
Name PodPoglavje_6.2: #REF!
Name PodPoglavje_6.3: #REF!
Name PodPoglavje_7.1: #REF!
Name PodPoglavje_7.2: #REF!
Name PodPoglavje_7.3: #REF!
Name Poglavje_1: #REF!
Name Poglavje_2: #REF!
Name Poglavje_3: #REF!
Name Poglavje_4: #REF!
Name Poglavje_5: #REF!
Name Poglavje_6: #REF!
Name Poglavje_7: #REF!
Name Zacetek: #REF!

Sheet PRVA STRAN
A1: ATRIJ Gradbeni inženiring d.o.o. | C1: št.projekta: 19049 | D1: št.načrta: L38-19
A2: Gajska ulica 39, 9233 Odranci
A3: e-mail:atrij@atrij.si
B10: OBJEKT:
B12: Obnova vaškega doma Kupšinci - Garaže Kupšinci
B18: INVESTITOR:
B20: Mestna občina Murska Sobota
B21: Kardoševa 2
B22: 9000 Murska Sobota
B28: POPIS DEL
B36: Izdelala: Ksenija Žižek, inž.vok.
B38: Odranci, november 2020

Sheet SKUPNA REKAPITULACIJA
A1: ATRIJ Gradbeni inženiring d.o.o. | D1: št.projekta: 19049
A2: Gajska ulica 39, 9233 Odranci | D2: št.načrta: L38-19
A3: e-mail:atrij@atrij.si
B5: Predmet naročila : Obnova vaškega doma Kupšinci - Garaže Kupšinci
B8: Naročnik : Mestna občina Murska Sobota
B9: Kardoševa ulica 2, 9000 Murska Sobota
B11: Ponudnik / Vodilni partner ( naziv in naslov ) :
B15: SKUPNA REKAPITULACIJA
A17: 1. | B17: GRADBENA DELA | D17: ='GRADBENA DELA'!F153 -> 0
A18: 2. | B18: OBRTNIŠKA DELA | D18: ='OBRTNIŠKA DELA'!F96 -> 0
A19: 3. | B19: ZUNANJA UREDITEV | D19: ='ZUNANJA UREDITEV'!F128 -> 0
A20: 4. | B20: ELEKTROINŠTALACIJSKA DELA | D20: ='ELEKTRO INSTALACIJE'!H98 -> 0
A21: 5. | B21: STROJNE INŠTALACIJE | D21: ='STROJNE INSTALACIJE'!F112 -> 0
A22: 6. | B22: OSTALA DELA | D22: ='OSTALA DELA'!F22 -> 0
A23: 7. | B23: NEPREDVIDENA DELA -5 % | D23: =(D17+D18+D19+D20+D21)*0.05 -> 0
B24: SKUPAJ BREZ DDV | D24: =SUM(D17:D23) -> 0
B25: POPUST | C25: 0 | D25: =C25*D24/100 -> 0
B26: SKUPAJ S POPUSTOM BREZ DDV | D26: =D24-D25 -> 0
B27: DDV 22% | D27: =D26*0.22 -> 0
B28: SKUPAJ Z DDV | D28: =SUM(D26:D27) -> 0

Sheet GRADBENA DELA
A1: ATRIJ Gradbeni inženiring d.o.o. | F1: št.projekta: 19049
A2: Gajska ulica 39, 9233 Odranci | F2: št.načrta: L38-19
A3: e-mail:atrij@atrij.si
A5: št. postavke | B5: opis | C5: Enota | D5: Količina | E5: Cena v € | F5: Znesek v € brez DDV
B7: Splošno: Vsa gradbena dela se morajo izvajati po veljavnih tehničnih predpisih, normativih, standardih in zakonodajo. Vgrajeni materiali morajo ustrezati določilom veljavnih standardov in predpisov s tega področja, ter morajo imeti izjavo o lastnostih, oziroma v skladu s zakonom o gradbenih proizvodih. V enoto cene je potrebno zajeti uporabo delovnih odrov, prevoz na gradbišče, ter vertikalni in horizontalni transport na gradbišču in eventuelno uporabo avtodvigala na gradbišču.
B8: Opomba: V cene je potrebno zajeti delovne odre!
A10: 1. | B10: GRADBENA DELA
A11: 1.1 | B11: RUŠITVENA DELA
B12: Splošno: Vsa rušitvena dela se morajo izvajati po veljavnih tehničnih predpisih, normativih, standardih in zakonodaji. V enoto cene je potrebno zajeti uporabo delovnih odrov, prevozov, zaščito gradbišča ter vertikalni in horizontalni transport na gradbišču.
A14: 1.1.1 | B14: Rušitev in odstranitev komplet lesene lope s streho enokapnico, tlorisnih dimenzij 3,60 m x 6,70 m, višine 4,00 m, komplet s prenosi materialov do kamiona, nakladanjem na kamion, odvozom odpadnega materiala na stalno deponijo do 5 km in razkladanjem ter z vsemi pomožnimi deli, prenosi in prevozi. | C14: kpl | D14: 1 | F14: =D14*E14 -> 0
A16: 1.1.2 | B16: Rušenje oz. odstranitev betonske talne plošče lope, komplet s prenosom ruševin iz objekta, z nakladanjem na kamion, razkladanjem, odvozom na stalno deponijo do pooblaščenega zbiralca, ter vsemi pomožnimi deli, prenosi in prevozi. 24 m2 | C16: m3 | D16: 4 | F16: =SUM(D16*E16) -> 0
A18: =A11 -> 1.1 | B18: =B11 -> RUŠITVENA DELA | F18: =SUM(F14:F16) -> 0
A20: 1.2 | B20: ZEMELJSKA DELA
A22: 1.2.1 | B22: Izvedba zakoličbe novega objekta, varovanje zakoličbe in postavitev prečnih profilov, komplet z vsemi pomožnimi deli, prenosi in prevozi. | C22: m2 | D22: 101 | F22: =D22*E22 -> 0
A24: 1.2.2 | B24: Strojno-ročni izkop zemlje III.-IV. kategorije oz obstoječega tamponskega nasutja debeline do 50 cm, komplet z nakladanjem na kamion, odvozom materiala na gradbiščno deponijo ob objektu in razkladanjem ter vsemi pomožnimi deli, prenosi in prevozi. | C24: m3 | D24: 68 | F24: =D24*E24 -> 0
A26: 1.2.3 | B26: Izkop pasovnih temeljev objekta z vsemi pomožnimi deli in prenosi. Izkop kombiniran 60% strojno, 40% ročno. zemlja III. kat, komplet z nakladanjem na kamion, razkladanjem in odvozom zemlje na stalno deponijo do 5 km, ter z vsemi pomožnimi deli, prenosi in prevozi. | C26: m3 | D26: 16 | F26: =SUM(D26*E26) -> 0
A28: 1.2.4 | B28: Planiranje dna gradbene jame, komplet s potrebnim koprimiranjem ter vsemi pomožnimi deli, prenosi in prevozi. | C28: m2 | D28: 155 | F28: =D28*E28 -> 0
A30: 1.2.5 | B30: Dobava in polaganje politlaka 300g na izravnano podlago pod nasutje med nastavke temeljev in zasipom ob objektu, komplet z vsemi pomožnimi deli, prenosi in prevozi. | C30: m2 | D30: 155 | F30: =SUM(D30*E30) -> 0
A32: 1.2.6 | B32: Dobava in vgrajevanje krogelnega nasutja granulacije 16-32 mm med nastavke pasovnih temeljev debelini 0,30 m, komplet s komprimiranjem do projektirane kote dna talne plošče, obračunom v komprimiranem stanju ter z vsemi pomožnimi deli, prenosi in prevozi. | C32: m3 | D32: 26 | F32: =SUM(D32*E32) -> 0
A34: 1.2.7 | B34: Dobava in vgrajevanje gramoza - frakcije 0-63 mm oz. zasip ob objektu, komplet s komprimiranjem v plasteh 20 cm do zbitosti (gostota 95-98% po Proctorju in dinamični deformacijski modul Evd ≥ 40 MPa) do projektirane kote dvorišča 180,40 nmv, obračunom v komprimiranem stanju ter z vsemi pomožnimi deli, prenosi in prevozi. | C34: m3 | D34: 24 | F34: =SUM(D34*E34) -> 0
A36: 1.2 | B36: =B20 -> ZEMELJSKA DELA | F36: =SUM(F22:F34) -> 0
A38: 1.3 | B38: BETONSKA DELA
A40: 1.3.1 | B40: Dobava in vgrajevanje cementnega betona C16/20 (SIST EN 206:2013, SIST 1026:2016) v pasovne temelje objekta, prereza 0.20 - 0.40 m3/m2/m1, komplet z vsemi pomožnimi deli, prenosi in prevozi. | C40: m3 | D40: 16 | F40: =SUM(D40*E40) -> 0
A42: 1.3.2 | B42: Dobava in vgrajevanje cementnega betona C25/30 XC2 CI 0,2 Dmax32 S4 PV-I (SIST EN 206:2013, SIST 1026:2016) v AB nastavke pasovnih temeljev, širine 20 oz. 30 cm, prereza 0.20 - 0.30 m3/m2, komplet z vsemi pomožnimi deli, prenosi in prevozi. | C42: m3 | D42: 7 | F42: =SUM(D42*E42) -> 0
A44: 1.3.3 | B44: Dobava in vgrajevanje cementnega betona C12/15 (SIST EN 206:2013, SIST 1026:2016) v opažne betonske zidake, komplet z armaturo 2x Ø8 na vrsto, z vsemi pomožnimi deli, prenosi in prevozi. Zidaki so zajeti v zidarskih delih. | C44: m3 | D44: 3.5 | F44: =D44*E44 -> 0
A46: 1.3.4 | B46: Dobava in vgrajevanje podložnega cementnega betona C12/15 Dmax 32 S4 (SIST EN 206:2013 in SIST 1026:2016) prereza 0.08 - 0.12 m3/m2, komplet z vsemi pomožnimi deli, prenosi in prevozi. | C46: m3 | D46: 10 | F46: =SUM(D46*E46) -> 0
A48: 1.3.5 | B48: Dobava in vgrajevanje cementnega betona C30/37 XD3/XF4 CI 0,2 Dmax32 S4 PV-I (SIST EN 206:2013, SIST 1026:2016) v AB talno ploščo objekta deb. 15 cm, prereza 0.12 - 0.20 m3/m2, komplet z dilatacijskim rezom globine 5 cm (dolžine 15,60 m), z vsemi pomožnimi deli, prenosi in prevozi. | C48: m3 | D48: 13 | F48: =SUM(D48*E48) -> 0
A50: 1.3.6 | B50: Strojna laserska horizontalna izravnava sveže AB plošče pred izvedbo tal M - kvarca in metličenja svežega betona, s strojno zagladitvijo površine, komplet z vsemi pomožnimi deli, prenosi in prevozi. | C50: m2 | D50: 84 | F50: =SUM(D50*E50) -> 0
A52: 1.3.7 | B52: Dobava in finalna obdelava betona talne plošče s TAL-M kvarcom komplet z vsemi pomožnimi deli, prenosi in prevozi. Vgradnja na sveži beton. | C52: m2 | D52: 84 | F52: =SUM(D52*E52) -> 0
A54: 1.3.8 | B54: Dobava in polaganje plastificiranega EPS traku STIROTRAK, kot ločilni sloj med AB ploščo in obodnimi stenami. Dim. traku 1/15 cm. Prosto polaganje, kpl. Z vsemi pomožnimi deli, prenosi in prevozi. (npr. Fragmat Elastificirani EPS trak Stirotrak) | C54: m' | D54: 58 | F54: =D54*E54 -> 0
A56: 1.3.9 | B56: Dobava in vgrajevanje cementnega betona C25/30 XC1 CI 0,2 Dmax32 S4 (SIST EN 206:2013, SIST 1026:2016) v AB vertikalne vezi objekta, prereza 0.04 - 0.12 m3/m2/m1, komplet z vsemi pomožnimi deli, prenosi in prevozi. | C56: m3 | D56: 5 | F56: =SUM(D56*E56) -> 0
A58: 1.3.10 | B58: Dobava in vgrajevanje cementnega betona C25/30 XC1 CI 0,2 Dmax32 S4 (SIST EN 206:2013, SIST 1026:2016) v AB STROPNO ploščo - nižji del, deb. 20 cm, prereza 0.20 - 0.30 m3/m2, komplet z vsemi pomožnimi deli, prenosi in prevozi. | C58: m3 | D58: 6 | F58: =SUM(D58*E58) -> 0
A60: 1.3.11 | B60: Dobava in vgrajevanje cementnega betona C25/30 XC1 CI 0,2 Dmax32 S4 (SIST EN 206:2013, SIST 1026:2016) v AB STROPNO ploščo nad garažo deb. 20 cm, prereza 0.20 - 0.30 m3/m2, komplet z vsemi pomožnimi deli, prenosi in prevozi. | C60: m3 | D60: 14 | F60: =SUM(D60*E60) -> 0
A62: 1.3.12 | B62: Dobava in vgrajevanje cementnega betona C25/30 XC1 CI 0,2 Dmax32 S4 (SIST EN 206:2013, SIST 1026:2016) v AB stebre podstrešja dim. 20/20 cm, prereza 0.04 - 0.12 m3/m2/m1, komplet z vsemi pomožnimi deli, prenosi in prevozi. | C62: m3 | D62: 0.7 | F62: =SUM(D62*E62) -> 0
A64: 1.3.13 | B64: Dobava in vgrajevanje cementnega betona C25/30 XC1 CI 0,2 Dmax32 S4 (SIST EN 206:2013, SIST 1026:2016) v AB nosilce, prereza 0.12 - 0.20 m3/m2/m1, komplet z vsemi pomožnimi deli, prenosi in prevozi. | C64: m3 | D64: 2.5 | F64: =SUM(D64*E64) -> 0
A66: 1.3.14 | B66: Dobava in vgrajevanje cementnega betona C25/30 XC1 CI 0,2 Dmax32 S4 (SIST EN 206:2013, SIST 1026:2016) v AB horizontalne vezi, prereza 0.12 - 0.20 m3/m2/m1, komplet z vsemi pomožnimi deli, prenosi in prevozi. | C66: m3 | D66: 3 | F66: =SUM(D66*E66) -> 0
A68: 1.3.15 | B68: Dobava, vezanje, krivljenje in polaganje srednje komplicirane armatura S500 (SIST EN 10080:2005), komplet z vsemi pomožnimi deli, prenosi in prevozi.
B69: - srednje komplicirana armatura
B70: - prerez do 12 mm | C70: kg | D70: 1600 | F70: =D70*E70 -> 0
B71: - prerez fi 14, 16, 18 | C71: kg | D71: 560 | F71: =D71*E71 -> 0
...

Sheet OBRTNIŠKA DELA
A1: ATRIJ Gradbeni inženiring d.o.o. | F1: št.projekta: 19049
A2: Gajska ulica 39, 9233 Odranci | F2: št.načrta: L38-19
A3: e-mail:atrij@atrij.si
A5: št. postavke | B5: opis | C5: Enota | D5: Količina | E5: Cena v € | F5: Znesek v € brez DDV
A7: 2. | B7: OBRTNIŠKA DELA
B8: Splošno: Vsa obrtniška dela se morajo izvajati po veljavnih tehničnih predpisih, normativih, standardih in zakonodajo. Vgrajeni materiali morajo ustrezati določilom veljavnih standardov in predpisov s tega področja, ter morajo imeti izjavo o lasnostih, oziroma v skladu s zakonom o gradbenih proizvodih. V enoto cene je potrebno zajeti uporabo delovnih odrov, prevoz na gradbišče, ter vertikalni in horizontalni transport na gradbišču in eventuelno uporabo avtodvigala na gradbišču.
A10: 2.1 | B10: LESENA STREŠNA KONSTRUKCIJA IN KROVSKO-KLEPARSKA DELA
A12: 2.1.1 | B12: Dobava in montaža strešne konstrukcije iz lesa C24 (SIST EN 14081-1:2006), komplet z zaščito lesa proti črvom, plesni in dvakratni premaz proti požaru, z vsem pritrdilnim, veznim in sidrnim materialom ter z vsemi pomožnimi deli, prenosi in prevozi; V ceno je potrebno zajeti skobljanje lesa na območju napušča. Les na območju predhodnega skobljanja zaščiten z 1 x osnovni in 2 x lak zaščito. (poraba lesa 0,05 m3/m2). | C12: m2 | D12: 122 | F12: =SUM(D12*E12) -> 0
A14: 2.1.2 | B14: Dobava in letvanje celotne lesene strešne konstrukcije z letvami dim. 5/4, dobava in polaganje kontra letev 8/5, polaganjem paropropustne folije, komplet z zaščito lesa proti črvom, plesni in dvakratni premaz proti požaru, perforirano mrežico (mrežica barve kritine), z vsem pritrdilnim in veznim materialom ter z vsemi pomožnimi deli, prenosi in prevozi. | C14: m2 | D14: 159 | F14: =SUM(D14*E14) -> 0
A16: 2.1.3 | B16: Dobava in pokrivanje strešine z opečno kritino iz engobiranega bobrovca, komplet s kapnimi strešniki, 3/4. strešniki, strešniki za zračnike (levi in desni), z zračniki (14 levi + 14 desni - skupaj 28 kom), vsem pritrdilnim in veznim materialom ter z vsemi pomožnimi deli, prenosi in prevozi, v skladu z navodili proizvajalca. | C16: m2 | D16: 159 | F16: =SUM(D16*E16) -> 0
A18: 2.1.4 | B18: Dobava in pokrivanje slemen s slemenjaki iz engobiranih slemenjakov, komplet z vsem pritrdilnim in veznim materialom ter z vsemi pomožnimi deli, prenosi in prevozi (z začetnim slemenjakom, objemkami, z prezračevalnim trakom, ščetko, z izvedbo tesnenja v delih preboja na streho), v skladu z navodili proizvajalca. | C18: m' | D18: 13 | F18: =SUM(D18*E18) -> 0
A20: 2.1.5 | B20: Dobava in montaža točkovnih snegolovov iz pocinkane barvane pločevine debeline 0.6 mm, komplet z vsem pritrdilnim in veznim materialom ter z vsemi pomožnimi deli, prenosi in prevozi, snegolovi barve kritine, v skladu z navodili proizvajalca. | C20: m' | D20: 318 | F20: =SUM(D20*E20) -> 0
A22: 2.1.6 | B22: Naprava in montaža polkrožnih žlebov strehe r.š. 35 cm iz pocinkane barvane pločevine debeline 0.6 mm, komplet s kljukami, vsem pritrdilnim in veznim materialom, ter z vsemi pomožnimi deli in prenosi. Pločevina v barvi kritine. | C22: m' | D22: 26 | F22: =SUM(D22*E22) -> 0
A24: 2.1.7 | B24: Naprava in montaža odkapne pločevine pod opečno kritino r.š. 25 cm iz pocinkane barvane pločevine debeline 0.6 mm komplet z vsem pritrdilnim in veznim materialom ter z vsemi pomožnimi deli in prenosi. Pločevina v barvi kritine. | C24: m' | D24: 26 | F24: =SUM(D24*E24) -> 0
A26: 2.1.8 | B26: Naprava in montaža odkapne pločevine pod paropropustno folijo r.š. 25 cm iz pocinkane barvane pločevine debeline 0.6 mm komplet z vsem pritrdilnim in veznim materialom ter z vsemi pomožnimi deli in prenosi. Pločevina v barvi kritine. | C26: m' | D26: 26 | F26: =SUM(D26*E26) -> 0
A27: 2.1.9 | B27: Dobava in montaža veterne (čelne) obrobe iz pocinkane in obojestrankso obarvane jeklene pločevine v debeline 0.6 mm in razvite širine 33 cm, komplet z vsem pritrdilnim in veznim materialom ter vsemi pomožnimi deli,prenosi in prevozi | C27: m' | D27: 24 | F27: =SUM(D27*E27) -> 0
A29: 2.1.10 | B29: Naprava in montaža zbirnega kotlička iz pocinkane barvane pločevine debeline 0.6 mm za cevi fi 10 cm, komplet z vsem pritrdilnim, veznim in sidrnim materialom, pomožnimi deli in prenosi. Pločevina v barvi kritine. | C29: kom | D29: 4 | F29: =SUM(D29*E29) -> 0
A31: 2.1.11 | B31: Naprava in montaža okroglih odtočnih cevi fi 10 cm iz pocinkane barvane pločevine debeline 0.6 mm, komplet z vsem pritrdilnim, veznim in sidrnim ter z vsemi pomožnimi deli in prenosi. Pločevina v barvi kritine. | C31: m' | D31: 19 | F31: =SUM(D31*E31) -> 0
A33: 2.1.12 | B33: Naprava in montaža okroglih kolen fi 10 cm iz pocinkane barvane pločevine debeline 0.6 mm, komplet z vsem pritrdilnim, veznim in sidrnim , ter z vsemi pomožnimi deli in prenosi. Pločevina v barvi kritine. | C33: kom | D33: 8 | F33: =SUM(D33*E33) -> 0
A34: 2.1 | B34: =B10 -> LESENA STREŠNA KONSTRUKCIJA IN KROVSKO-KLEPARSKA DELA | F34: =SUM(F12:F33) -> 0
A37: 2.2 | B37: ALU DELA
B39: Opomba: Vse elemente stavbnega pohištva je potrebno preveriti na samem objektu! Vgradnja stavbnega pohištva mora biti po RAL sistemu.
A40: 2.2.1 | B40: Dobava in montaža notranjih kovinskih vrat s kotnim podbojem iz pocinkane jeklene pločevine, debeline 1,5 mm, z osnovnim praškastim premazom. Vratno krilo dvostensko, debeline 40 mm in s trojnim utorom, pocinkana pločevina je debeline 0,6 mm. Dim. svetle prehodne odprtine 936/1600 mm, komplet z okovjem in kljuko, odpiranjem po shemi ter vsemi pomožnimi deli, prenosi in prevozi. NV 01. Npr. kovinska notranja vrata Hőrmann ZK | C40: kom | D40: 1 | F40: =SUM(D40*E40) -> 0
A42: 2.2.2 | B42: Dobava in montaža enokrilnih Alu zunanjih vhodnih vrat s podbojem (kot npr. ALUk 77ID), svetle odprtine 900/2100 mm, izdelanih iz Alu profilov (skupna toplotna prehodnost podboja in vrat je 1,60 W/m2K, v ceno je zajeti tudi dodatni profil 250 mm na spodnji strani zaradi tlaka, komplet z okovjem in kljuko, odpiranjem po shemi ter vsemi pomožnimi deli, prenosi in prevozi. ZV 01. Barva: Antracit zunaj, znotraj bela | C42: kom | D42: 1 | F42: =SUM(D42*E42) -> 0
A44: 2.2.3 | B44: Dobava in montaža enokrilnih Alu zunanjih vhodnih vrat s podbojem (kot npr. ALUk 77ID), svetle odprtine 1000/2100 mm, izdelanih iz Alu profilov (skupna toplotna prehodnost podboja in vrat je 1,60 W/m2K, v ceno je zajeti tudi dodatni profil 250 mm na spodnji strani zaradi estriha, komplet z okovjem in kljuko, odpiranjem po shemi ter vsemi pomožnimi deli, prenosi in prevozi. ZV 02. Barva: Antracit zunaj, znotraj bela | C44: kom | D44: 1 | F44: =SUM(D44*E44) -> 0
A46: 2.2.4 | B46: Dobava in vgraditev zunanjih okenskih polic iz Alu barvane pločevine debeline 2 mm, širine 20 cm, komplet z bočnimi zaljučki ob fasadi, z vsem pritrdilnim in veznim materialom ter vsemi pomožnimi deli, prenosi in prevozi.
B47: - dolžina 110 cm | C47: kom | D47: 3 | F47: =SUM(D47*E47) -> 0
B48: - dolžina 120 cm | C48: kom | D48: 2 | F48: =SUM(D48*E48) -> 0
B49: - dolžina 300 cm | C49: kom | D49: 1 | F49: =SUM(D49*E49) -> 0
A50: 2.2.5 | B50: Dobava in montaža sekcijskih vrat dim. 3500 x 3200 mm, z vratnim krilom - sestavljenim iz jeklenih lamel višine 625/750 z vtisnjeno strukturo STUCCO, dvostensko toplotno izolirano (PU pena brez prisotnosti FCKW), s plastičnim osnovnim premazom v sivo beli barvi RAL 9002 znotraj. Segmenti vrat z zaščito pred ukleščenjem prstov, zunaj in znotraj. Okvir: stranska vodila z zaščito pred posegom z roko od strani. Varovalo pred padcem vrat: lovilna naprava oz. varovalo v primeru zloma vzmeti, glede na izvedbo vrat. Zaklepanje: pomični zapah, alternativno vrtljivi zapah. Agregat torzijske vzmeti nameščen za preklado, zglobni nosilci vodilnih kolesc, z nastavljivimi plastičnimi tekalnimi kolesci s krogličnimi tečaji. Nosilne vrvi potekajo v notranjosti med vratnim krilom in vodilom; to pomeni, da ni nobenih štrlečih konstrukcijskih elementov. Vrata z motornim pogonom, opremljena s protivlomnim varovalom pred dvigovanjem. Tesnila EPDM: talno tesnilo z dvojno tesnilno zaveso, stranske priležne letve iz plastike s tesnilno zaveso, vmesna tesnila med vsemi segmenti vrat in zgornje prekladno tesnilo. Montaža na: zid, beton ali kovinsko podkonstrukcijo. Barve lamel RAL: 7016. V ceno všteti montažo vrat in motorja, sprejemnik HE3 BS, oddajnik 5 kanalni HS5 BS črn, L okovje, pogon WA400, A445, IP65, 400 V direkt na gred, verigo za odpiranje v sili, vsa pomožna dela, prenose in prevoze. (npr. sekcijska vrata Hormann SPU F42). | C50: kom | D50: 2 | F50: =SUM(D50*E50) -> 0 | G50: =SUM(F50*22%) -> 0
A51: 2.2 | B51: =B37 -> ALU DELA | F51: =SUM(F40:F50) -> 0
A52: 2.3 | B52: PVC DELA
B53: Opomba: Vse elemente stavbnega pohištva je potrebno preveriti na samem objektu! Vgradnja stavbnega pohištva mora biti po RAL sistemu.
A54: 2.3.1 | B54: Dobava in montaža enodelnega okna dimenzije 1100/1400, izdelanega iz PVC profilov in zasteklitvijo s troslojnim termoizolacijskim steklom, skupna toplotna prehodnost okvirja in stekla Uw=1,10 W/m2K), komplet z okovjem in kljuko, vsemi pomožnimi deli, prenosi in prevozi. Odpiranje po shemi. | C54: kom | D54: 2 | F54: =SUM(D54*E54) -> 0
B55: Barva zunaj antracit, znotraj bela, O-01, O-02
A57: 2.3.2 | B57: Dobava in montaža dvodelnega okna O-03 dimenzije 3000/1400, sestavljenega iz fiksnega dela in enokrilnega dela (po shemi), izdelanega iz PVC profilov in zasteklitvijo s troslojnim termoizolacijskim steklom, skupna toplotna prehodnost okvirja in stekla Uw=1,10 W/m2K), komplet z okovjem in kljuko, vsemi pomožnimi deli, prenosi in prevozi. Odpiranje po shemi. | C57: kom | D57: 1 | F57: =SUM(D57*E57) -> 0
B58: Barva zunaj antracit, znotraj bela
A60: 2.3.3 | B60: Dobava in montaža enodelnega okna dimenzije 1200/1400, izdelanega iz PVC profilov in zasteklitvijo s troslojnim termoizolacijskim steklom, skupna toplotna prehodnost okvirja in stekla Uw=1,10 W/m2K), komplet z okovjem in kljuko, vsemi pomožnimi deli, prenosi in prevozi. Odpiranje po shemi. | C60: kom | D60: 2 | F60: =SUM(D60*E60) -> 0
B61: Barva zunaj antracit, znotraj bela, O-04
A62: 2.3.4 | B62: Dobava in montaža enodelnega okna dimenzije 1100/1200, izdelanega iz PVC profilov in zasteklitvijo s troslojnim termoizolacijskim steklom, skupna toplotna prehodnost okvirja in stekla Uw=1,10 W/m2K), komplet z okovjem in kljuko, vsemi pomožnimi deli, prenosi in prevozi. Odpiranje po shemi. | C62: kom | D62: 1 | F62: =SUM(D62*E62) -> 0
...

Sheet ELEKTRO INSTALACIJE
A1: v1
B3: POPIS MATERIALA IN DEL ZA ELEKTRIČNE INŠTALACIJE IN ELEKTRIČNO OPREMO
B6: 1. Instalacije
B7: Dobava, polaganje in označevanje instalacijskega materiala:
B9: Z.št. | C9: Opis | D9: Proizvajalec, tip | E9: Enota | F9: Količina | G9: Cena/Enoto | H9: Cena
B10: 1 | C10: dvoplaščna, rebrasta, zaščitna cev | D10: DWPØ80mm | E10: m | F10: 25 | H10: =F10*G10 -> 0
B11: =(B10+1) -> 2 | C11: samogasna, gibljiva, zaščitna cev | D11: RFSØ16 mm | E11: m | F11: 450 | H11: =F11*G11 -> 0
B12: =(B11+1) -> 3 | C12: samogasna, gibljiva, zaščitna cev | D12: RFSØ25 mm | E12: m | F12: 50 | H12: =F12*G12 -> 0
B13: =(B12+1) -> 4 | C13: plastična, zaščitna cev s priborom za montažo, oz. plastični-mini, zaščitni kanal s pokrovom | D13: PN Ø16, NIK | E13: m | F13: 175 | H13: =F13*G13 -> 0
B14: =(B13+1) -> 5 | C14: energetski kabel | D14: NYM-J 2x1,5 mm2 | E14: m | F14: 30 | H14: =F14*G14 -> 0
B15: =(B14+1) -> 6 | C15: energetski kabel | D15: NYM-J 3x1,5 mm2 | E15: m | F15: 350 | H15: =F15*G15 -> 0
B16: =(B15+1) -> 7 | C16: energetski kabel | D16: NYM-J 4x1,5 mm2 | E16: m | F16: 60 | H16: =F16*G16 -> 0
B17: =(B16+1) -> 8 | C17: energetski kabel | D17: NYM-J 5x1,5 mm2 | E17: m | F17: 80 | H17: =F17*G17 -> 0
B18: =(B17+1) -> 9 | C18: energetski kabel | D18: NYM-J 3x2,5 mm2 | E18: m | F18: 290 | H18: =F18*G18 -> 0
B19: =(B18+1) -> 10 | C19: energetski kabel | D19: NYM-J 5x2,5 mm2 | E19: m | F19: 45 | H19: =F19*G19 -> 0
B20: =(B19+1) -> 11 | C20: energetski kabel | D20: FG16(O)R16 5x10mm2 | E20: m | F20: 25 | H20: =F20*G20 -> 0
B21: =(B20+1) -> 12 | C21: zaščitni vodnik | D21: H07VV-K 6 mm2 | E21: m | F21: 180 | H21: =F21*G21 -> 0
B22: =(B21+1) -> 13 | C22: zaščitni vodnik | D22: H07VV-K 10 mm2 | E22: m | F22: 60 | H22: =F22*G22 -> 0
B23: =(B22+1) -> 14 | C23: podometna doza za izenačitev potenciala, komplet z zbiralko | E23: kos | F23: 1 | H23: =F23*G23 -> 0
B24: =(B23+1) -> 15 | C24: drobni, montažni material (doze, sponke…) | E24: komp. | F24: 1 | H24: =F24*G24 -> 0
B25: =(B24+1) -> 16 | C25: meritve električne instalacije in izdelava merilnega protokola | E25: komp. | F25: 1 | H25: =F25*G25 -> 0
G27: SKUPAJ | H27: =SUM(H10:H25) -> 0
B30: 2. Instalacijska oprema
B31: Dobava, montaža, vezava in označevanje stikalnih in priključnih naprav električne instalacije. OPOMBA: za vsa podometna stikala in vtičnice, montirane v nizu se uporabljajo skupni okviri!
B33: Z.št. | C33: Opis | D33: Proizvajalec, tip | E33: Enota | F33: Količina | G33: Cena/Enoto | H33: Cena
B34: 1 | C34: podometna vtičnica z zaščito, zaščitnim kontaktom, komplet z okvirjem in nosilcem | D34: TEM Modul | E34: kos | F34: 4 | H34: =F34*G34 -> 0
B35: =(B34+1) -> 2 | C35: podometna vtičnica z zaščito, zaščitnim kontaktom, pokrovom, IP44, komplet z okvirjem in nosilcem | D35: TEM Modul | E35: kos | F35: 10 | H35: =F35*G35 -> 0
B36: =(B35+1) -> 3 | C36: podometno, navadno stikalo, komplet z okvirjem in nosilcem | D36: TEM Modul | E36: kos | F36: 4 | H36: =F36*G36 -> 0
B37: =(B36+1) -> 4 | C37: podometno, serijsko stikalo, komplet z okvirjem in nosilcem | D37: TEM Modul | E37: kos | F37: 2 | H37: =F37*G37 -> 0
B38: =(B37+1) -> 5 | C38: podometna, petpolna, CEE vtičnica, 16A, IP44 | D38: EM | E38: kos | F38: 3 | H38: =F38*G38 -> 0
G40: SKUPAJ | H40: =SUM(H34:H38) -> 0
B43: 3. Razsvetljava
B44: Dobava in montaža svetilk vključno s predstikalno napravo, veznim in montažnim priborom, sijalkami ter funkcionalnim preizkusom.
B46: Z.št. | C46: Opis | D46: Proizvajalec, tip | E46: Enota | F46: Količina | G46: Cena/Enoto | H46: Cena
B47: 1 | C47: nadgradna svetilka v plastičnem ohišju, z zaščitno, opalno kapo, elektronsko predstikalno napravo, senzorjem premikanja (PIR) LED 12W, 1300lm, 4000K, IP 54 | D47: AWEX EDGE S 12W 4000K mains modewith motion sensor | E47: kos | F47: 1 | H47: =F47*G47 -> 0
B48: =B47+1 -> 2 | C48: nadgradna, svetilka v poliesterskem ohišju, dim.:1600x92x90mm, IP65, IK03, s prizmatično zaščitno kapo, zapirali iz nerjavečega jekla, LED izvori svetlobe 51,4W, 6400lm, 4000K, kompletno s predstikalno napravo | D48: npr: Thorn AQFPRO L LED6400-840 PC WB HF | E48: kos | F48: 11 | H48: =F48*G48 -> 0
B49: =B48+1 -> 3 | C49: svetilka v aluminijastem ohišju z nosilcem za stensko montažo, dim.:181x236x48mm, z asimetrično karakteristiko, ULOR=0, LED izvori svetlobe 45W,4500lm, 4000K, 50000h L70 at 25°C, kompletno s predstikalno napravo | D49: THORN LEDFIT S 45W A/S CL1 L840 | E49: kos | F49: 1 | H49: =F49*G49 -> 0
G51: SKUPAJ | H51: =SUM(H47:H49) -> 0
B54: 4. Stikalni bloki
B55: Dobava, montaža, vezava in označevanje opreme, ki se vgradi v stikalni blok:
...

Sheet STROJNE INSTALACIJE
A2: Številka postavke | B2: Opis | C2: Enota | D2: Količina | E2: Cena na enoto v € | F2: Znesek v € brez DDV
B4: STROJNE INŠTALACIJE(37-20)
B6: Proizvodi, ki so v popisu določeni z navedbo proizvajalca so lahko tudi od drugih proizvajalcev, vendar morajo ustrezati parametrom, zapisanim v rubriki "Opis" ter morajo biti enakega, oz. višjega kavalitetnega razreda
B7: Opisi pri posameznih pozicijah se nanašajo na dobavo in montažo
B8: Upoštevajo se stroški nastavitev, vreguliranja, poskusnega zagona, dezinfekcije…
B9: Upoštevajo se stroški tlačnih preizkusov, izdelave obratovalnih navodil in shem, priučevanja osebja, izvedbene dokumentacije
B10: Upoštevajo se stroški za pripravljalna in zaključna dela, stroški transporta, stroški zavarovanja, ostali nenavedeni stroški
B12: Ves vgrajeni material mora biti I. kvalitete, izdelan po standardih (SIST, DIN..), imeti mora atest
B13: Investitorju je potrebno izročiti vse garancijske liste ter navodila za uporabo in vzdrževanje posameznih ter navodila za uporabo in vzdrževanje posameznih vgrajenih elementov v slovenskem jeziku.
B14: Za vsa odstopanja od projekta je potrebno pridobiti soglasje odgov. projektanta ali predstavnika nadzora.
B15: Vsa gradbena dela, ki bodo nastala zaradi izvedbe strojno instalacijskih del, so predmet izvedbe gradbenikov, električarska dela pa so predmet izvedbe električarjev.
A17: 1. | B17: Ogrevanje, prezračevanje
A19: 1.1 | B19: Ogrevanje
B21: 1. Dobava in montaža električnega radiatorja, konvektorja na naravno konvekcijo
B22: za montažo na zid, kot Vaillant VER
B23: vključno z nastavljivim termostatom s funkcijo
B24: protizamrzovalne zaščite, varnostnim termostatom,
B25: zaščite IPX 4, montažnim materialom
B26: - VER 150(1500W) | C26: kom | D26: 3 | F26: =D26*E26 -> 0
A30: 1.2 | B30: Prezračevanje
B32: 1. Dobava in montaža prezračevalnega sistema garaže, ki se setoji iz:
B33: - zidni aksialni ventilator kot Systemair AW315E4 SILEO (1650m3/h, 45Pa)(IP44, 145W, 230V, regulator vrtljalev), vključno brezstopenjski regulator vrtljajev | C33: kom | D33: 1
B34: - nadtlačna žaluzija VK30 | C34: kom | D34: 1
B35: - kompletni montažni material | C35: kom | D35: 1
B36: Komplet: | C36: kom | D36: 1 | F36: =D36*E36 -> 0
B38: 2. Po končani montaži po potrebi izvesti meritve.
B39: Komplet: | C39: kom | D39: 1 | F39: =D39*E39 -> 0
A44: 2 | B44: Vodovod, kanalizacija
B46: Sanitarna oprema po izbiri arhitekta, oziroma investitorja!
B48: 1. Dobava in montaža umivalnika, ki se sestoji iz: - 1 kom umivalnika iz sanitarne keramike - 1 kom armature za umivalnik - 2 kom regulacijski ventil DN15 - 1 kom odlivni ventil R 5/4" s sifonom vključno pritrdilni in tesnilni material - 1 kom milnik - 1 kom držala brisač - 1 kom ogledalo 600/400, z etažerom, pritrdilnim materialom
B49: Komplet | C49: kom | D49: 1 | F49: =D49*E49 -> 0
B52: 2. Dobava in montaža iztočne armature s cevnim nastavkom DN20, montažni material
B53: - DN15 | C53: kom | D53: 1 | F53: =D53*E53 -> 0
B54: - DN20 | C54: kom | D54: 1 | F54: =D54*E54 -> 0
B57: 3. Dobava in montaža talni sifon LŽ z mehansko smradno zaporo sestavljen iz telesa in rešetke 200/200
B58: - fi75 | C58: kom | D58: 3 | F58: =D58*E58 -> 0
B60: 3. Dobava in montaža podometne inox omarice z zaporno pipo, odštevalnim vodomerom, montažnim materialom, ki se sestoji iz:
B61: - krogelna navojna pipa inox DN25PN16 | C61: kom | D61: 1
B62: - krogelna navojna pipa inox DN20PN16 | C62: kom | D62: 1
B63: - izpustna navojna pipa DN15(PN16) s cevnim nastavkom DN20 | C63: kom | D63: 2
...

Sheet ZUNANJA UREDITEV
A1: ATRIJ Gradbeni inženiring d.o.o. | F1: št.projekta: 19049
A2: Gajska ulica 39, 9233 Odranci | F2: št.načrta: L38-19
A3: e-mail:atrij@atrij.si
A5: Številka postavke | B5: Opis | C5: Enota | D5: Količina | E5: Cena na enoto v € | F5: Znesek v € brez DDV
A7: 3. | B7: ZUNANJA UREDITEV
A9: 3.1 | B9: Meteorna kanalizacija
A11: 3.1.1 | B11: Izvedba zakoličbe predvidene meteorne kanalizacije, varovanje zakoličbe, postavitev prečnih profilov, komplet z vsemi pomožnimi deli, prenosi in prevozi.
B12: - meteorna kanalizacija | C12: m1 | D12: 57 | F12: =SUM(D12*E12) -> 0
A14: 3.1.2 | B14: Strojno ročni izkop zemlje IV. kategorije (oz. obstoječega gramoznega nasutja) za meteorno kanalizacijo, z odlaganjem materiala na rob izkopa, ter z vsemi pomožnimi deli, prenosi in prevozi. - strojni izkop 90 %, ročni izkop 10 %
B15: - meteorna kanalizacija | C15: m3 | D15: 32 | F15: =SUM(D15*E15) -> 0
A17: 3.1.3 | B17: Planiranje dna izkopa s pripravo posteljice TIP 1 (SIST EN 1610) za položitev cevi, komplet z vsemi pomožnimi deli, prenosi in prevozi.
B18: - meteorna kanalizacija | C18: m2 | D18: 40 | F18: =SUM(D18*E18) -> 0
A20: 3.1.4 | B20: Dobava in vgrajevanje frakcije (4 - 8) za posteljico debeline 10 cm in okrog cevi, komplet z vsemi pomožnimi deli, prenosi in prevozi.
B21: - meteorna kanalizacija | C21: m3 | D21: 4 | F21: =SUM(D21*E21) -> 0
A23: 3.1.5 | B23: Dobava in polaganje PVC cevi 8kN temenskega pritiska po SIST EN 1401-1 na že pripravljeno posteljico TIP1 pod 0,5% padcem, komplet s tesnili, spojnimi in fazonskimi elementi, komplet z vsemi pomožnimi deli, prenosi in prevozi.
B24: - meteorna kanalizacija cev DN 110 ; | C24: m1 | D24: 32 | F24: =SUM(D24*E24) -> 0
B25: - meteorna kanalizacija cev DN 125 ; | C25: m1 | D25: 12 | F25: =SUM(D25*E25) -> 0
B26: - meteorna kanalizacija cev DN 160 ; | C26: m1 | D26: 10 | F26: =SUM(D26*E26) -> 0
B27: - meteorna kanalizacija cev DN 200 ; | C27: m1 | D27: 5.5 | F27: =SUM(D27*E27) -> 0
A29: 3.1.6 | B29: Dobava in vgradnja PE peskolovov DN 400, komplet z izkopom, zasipom z gramoznim nasutjem in nabijanjem po plasteh 20 cm do zbitosti 40 MPa, dobavo in montažo pokrovom iz nodularne litine NL 500-7 po standardu ISO 1083 in narejenim v skladu s standardom SIST EN 124 za razred A15 (kvadratne oblike 350 x 350 mm z antikorozijsko zaščito - bitumen), priključkom na PVC cevi ter vsemi pomožnimi deli, prenosi in prevozi. | C29: kom | D29: 4 | F29: =SUM(D29*E29) -> 0
A31: 3.1.7 | B31: Dobava in vgradnja PE revizijskih jaškov DN 625 za meteorno kanalizacijo, komplet z izkopom, zasipom z gramoznim nasutjem in nabijanjem po plasteh 20 cm do zbitosti 80 Mpa, dobavo in montažo pokrova iz nodularne litine NL 500-7 po standardu ISO 1083 in narejeno v skladu s standardom SIST EN 124 za razred A15 (kvadratne konkavne oblike 600 x 600 mm z antikorozijsko zaščito - bitumen), prostorom za vzvod, s katerim dvignemo rešetko, betonskim prstanom C25/30, priključkom na PVC cevi ter vsemi pomožnimi deli, prenosi in prevozi.
B32: - meteorna kanalizacija jašek višine 500 -1000 mm | C32: kom | D32: 1 | F32: =D32*E32 -> 0
A34: 3.1.8 | B34: Dobava in vgradnja PE revizijskih jaškov DN 625 za meteorno kanalizacijo, komplet z izkopom, zasipom z gramoznim nasutjem in nabijanjem po plasteh 20 cm do zbitosti 80 Mpa, dobavo in montažo pokrova iz nodularne litine NL 500-7 po standardu ISO 1083 in narejeno v skladu s standardom SIST EN 124 za razred C250 (kvadratne konkavne oblike 600 x 600 mm z antikorozijsko zaščito - bitumen), prostorom za vzvod, s katerim dvignemo rešetko, betonskim prstanom C25/30, priključkom na PVC cevi ter vsemi pomožnimi deli, prenosi in prevozi.
B35: - meteorna kanalizacija jašek višine 500 -1000 mm | C35: kom | D35: 2 | F35: =D35*E35 -> 0
A37: 3.1.9 | B37: Dobava in vgradnja linijske kanalete iz PE-PP reciklirane umetne mase, po DIN V19580/EN 1433, z LTŽ rešetko - širina rege 14 mm, črna, s pritrdili, obremenitveni razred C250, naležna, d/š/v 1000x160x135 mm v asfalt. Komplet z enostranskim polnim pokrovom, z izkopom, temeljem iz pustega betona C20/25, zasipom z gramoznim nasutjem in nabijanjem po plasteh 20 cm do zbitosti 80 Mpa ter vsemi pomožnimi deli, prenosi in prevozi. (npr. RECYFIX STANDARD 100, raz. obr. C 250 tip 01 z LTŽ rešetko velikost rege 80/14, črna, s pritrdili). Vgradnja po navodilih proizvajalca. | C37: m1 | D37: 8 | F37: =SUM(D37*E37) -> 0
A39: 3.1.10 | B39: Dobava in vgradnja linijske kanalete iz PE-PP reciklirane umetne mase, po DIN V19580/EN 1433, z LTŽ rešetko - širina rege 14 mm, črna, s pritrdili, obremenitveni razred C250, naležna, d/š/v 500x160x135 mm v asfalt. Komplet z enostranskim polnim pokrovom ter priključkom na PVC cev, z izkopom, temeljem iz pustega betona C20/25, zasipom z gramoznim nasutjem in nabijanjem po plasteh 20 cm do zbitosti 80 Mpa, ter vsemi pomožnimi deli, prenosi in prevozi. (npr. RECYFIX STANDARD 100, raz. obr. C 250 tip 01 z LTŽ rešetko velikost rege 80/14, črna, s pritrdili). Vgradnja po navodilih proizvajalca. | C39: m1 | D39: 0.5 | F39: =SUM(D39*E39) -> 0
A41: 3.1.10 | B41: Dobava in kompletna naprava linijsko cevnega ponikovalnika dolžine 3,6 m, širine 1,50, globine 1,50 m, komplet z izkopom zemljine, dobavo in polaganje politlaka 500g (okrog nasutja), polaganjem betonske perforirane cevi fi 100 s krajnimi pokrovi, dobavo in zasipom z rečnimi kroglami 23/64 mm, končni zasip z izkopano zemljo, utrjevanjem, zasejanjem s travnim semenom, ter z vsemi pomožnimi deli, prenosi in prevozi. Izvedba ponikovalnika po detalju. | C41: kom | D41: 1 | F41: =SUM(D41*E41) -> 0
A43: 3.1.11 | B43: Preskus tesnosti vseh jaškov vključno s priključki po SIST EN1610 z zrakom - preskus po metodi LC 100 mbar nadtlaka, talna voda od 1,5 m naprej. Preskus tesnosti mora izvesti akreditiran (registriran,usposobljen in od izvajalca neodvisen) preskusni laboratorij. Izvajalec preskusov mora poročilu priložiti veljavno akreditacijsko listino (potrdilo o usposobljenosti laboratorija) ter veljavno dokazilo o umerjenosti merilnih instrumentov (kalibracijski certifikat).
B44: - meteorna kanalizacija - preskus tesnosti jaškov | C44: kom | D44: 3 | F44: =SUM(D44*E44) -> 0
A46: 3.1.12 | B46: Preskus tesnosti cevovoda po cevnih odsekih od jaška do jaška vključno z vsemi priključki po SIST EN1610 z zrakom - preskus po metodi LC 100 mbar nadtlaka, talna voda od 1,5 m naprej. Preskus tesnosti mora izvesti akreditiran (registriran,usposobljen in od izvajalca neodvisen) preskusni laboratorij. Izvajalec preskusov mora poročilu priložiti veljavno akreditacijsko listino (potrdilo o usposobljenosti laboratorija) ter veljavno dokazilo o umerjenosti merilnih instrumentov (kalibracijski certifikat).
B47: - meteorna kanalizacija - preskus tesnosti cevi | C47: m1 | D47: 57 | F47: =SUM(D47*E47) -> 0
A49: 1.3.13 | B49: Zasip kanalskega rova po položitvi cevi z materialom od izkopa s komprimiranjem po plasteh 20 cm do zbitosti 80 Mpa, komplet z vsemi pomožnimi deli, prenosi in prevozi.
B50: - meteorna kanalizacija | C50: m3 | D50: 24 | F50: =SUM(D50*E50) -> 0
A52: 3.1.14 | B52: Odvoz viška materiala od izkopa kanalizacije, komplet z nakladanjem na kamion, razkladanjem, odvozom na gradbiščno deponijo ob objektu, ter vsemi pomožnimi deli, prenosi in prevozi.
B53: - meteorna kanalizacija | C53: m3 | D53: 8 | F53: =SUM(D53*E53) -> 0
A55: 3.1.15 | B55: Naprava geodetskega posnetka položene kanalizacije
B56: - meteorna kanalizacija | C56: m1 | D56: 54 | F56: =SUM(D56*E56) -> 0
A58: =A9 -> 3.1 | B58: =B9 -> Meteorna kanalizacija | F58: =SUM(F11:F57) -> 0
A60: 3.2 | B60: Vodovod
B62: Opomba: Dobava in polaganje cevi in jaškov vodovoda zajeto v strojnih inštalacijah!
...

Sheet OSTALA DELA
A1: ATRIJ Gradbeni inženiring d.o.o. | F1: št.projekta: 19049
A2: Gajska ulica 39, 9233 Odranci | F2: št.načrta: L38-19
A3: e-mail:atrij@atrij.si
A5: št. postavke | B5: opis | C5: Enota | D5: Količina | E5: Cena v € | F5: Znesek v € brez DDV
A7: 6. | B7: OSTALA DELA
A9: 6.1 | B9: OSTALA DELA
A11: 6.1.0 | B11: Pripravljalna dela pred pričetkom del, komplet z načrtom organizacije in ureditve gradbišča, ograjo gradbišča, postavitev začasnih objektov na gradbišču za potrebe izvajalca, začasnih deponij in skladišč, ureditev dovoznih poti, izvajanje ukrepov za varno izvajanje del in zaščito pred prašenjem, odtranitvijo vseh začasnih objektov in ograj po končanju del z gradbišča ter vsemi pomožnimi deli, prenosi in prevozi. | C11: kpl | D11: 1 | F11: =D11*E11 -> 0
A13: 6.1.1 | B13: Dobava oz. izdelava in montaža gradbiščne table po navodilih evropskih skladov, komplet z vsem pritrdilnim in veznim materialom ter vsemi pomožnimi deli, prenosi in prevozi. | C13: kom | D13: 1 | F13: =SUM(D13*E13) -> 0
A15: 6.1.2 | B15: Izdelava geodetskega načrta in priprava geodetske dokumentacije izvedenega stanja objekta z okolico za projekt izvedenih del. | C15: kpl | D15: 1 | F15: =SUM(D15*E15) -> 0
A17: 6.1.3 | B17: Geotehnični nadzor in izdelava končnega geotehničnega poročila o pogojih temeljenja | C17: kom | D17: 1 | F17: =D17*E17 -> 0
A20: 6.1.4 | B20: Nadzor na objektu s strani odgovornega projektanta. | C20: ur | D20: 20 | F20: =SUM(D20*E20) -> 0
A22: 6. | B22: OSTALA DELA | F22: =SUM(F11:F21) -> 0
