Workbook

Sheet REKAPITULACIJA
A1: POPIS DEL S PREDIZMERAMI | H1: v.4
A3: Investitor: | C3: Mestna občina Murska Sobota, Kardoševa 2, 9000 Murska Sobota
A4: Objekt: | C4: Cestni in komunalni priključki za Regijski promocijski center (EXPO) v Murski Soboti - SKUPNA REKAPITULACIJA
A5: PZI | C5: ML0266 | H5: 42644
A7: Popis del je sestavljen v skladu z veljavnimi in priporočenimi TSC in se uporablja za vse postavke (tudi brez šifre ali z napačno šifro). Smiselno se uporabijo tudi Splošni in posebni tehnični pogoji za opremo cest - tender SCS YU ISBN 86-81171-10-5 iz leta 1989 ali Gradbene norme GNG iz leta 1984. Vse postavke zajemajo dobavo vseh glavnih in pomožnih materialov, tudi če ti niso posebej navedeni, vse prenose, prevoze, deponiranje in skladiščenje do mesta vgradnje. Uporabljati samo materiale, ki imajo Izjavo ali Certifikat o skladnosti. Prav tako zajemajo uporabo različnega orodja, strojev in naprav z vsemi prevozi, prenosi in premiki opreme do in od gradbišča ter po samem gradbišču. Izvajalec mora zavarovati gradbišče, material in opremo, postaviti gradbiščno in opozorilne table in preprečevati dostop nepooblaščenim osebam ter skrbeti za varnost pri delu. Pri gradnji mora upoštevati veljavno zakonodajo in standarde SIST glede na vrsto materiala, način in mesto (v)gradnje.
B9: SKUPNA REKAPITULACIJA*
B11: Vrsta del | F11: Neto | G11: DDV (0%, 22%) | H11: Skupaj
B12: FAZA 1 | F12: =IF('POPIS F1'!G242=0,"",'POPIS F1'!G242) | G12: =IF(AND('POPIS F1'!F243=0,'POPIS F1'!F244=0),"",IF('POPIS F1'!F243=0,'POPIS F1'!G244,'POPIS F1'!G243)) | H12: =IF('POPIS F1'!G245=0,"",'POPIS F1'!G245)
B13: FAZA 2 | F13: ='POPIS F2'!G43 | G13: ='POPIS F2'!G44 | H13: ='POPIS F2'!G45
B14: FAZA 3 | F14: ='POPIS F3'!G48 | G14: ='POPIS F3'!G49 | H14: ='POPIS F3'!G50
B15: VSOTA VSEH FAZ | F15: =IF(SUM(F12:F14)=0,"",SUM(F12:F14)) | G15: =IF(SUM(G12:G14)=0,"",SUM(G12:G14)) | H15: =IF(SUM(H12:H14)=0,"",SUM(H12:H14))
A17: * | B17: OPOMBA: Dokument lahko vsebuje matematične napake. Pred oddajo ponudbe je potrebno preveriti točnost izračunov in povezav med celicami. V primeru odkritja teh napak je ponudnik dolžan oddati pravilen izračun in obvestiti naročnika.

Sheet POPIS F1
A1: POPIS DEL S PREDIZMERAMI | G1: v.4
A3: Investitor: | C3: Mestna občina Murska Sobota, Kardoševa 2, 9000 Murska Sobota
A4: Objekt: | C4: Cestni in komunalni priključki za Regijski promocijski center (EXPO) v Murski Soboti - FAZA 1
A5: PZI | C5: ML0266 | D5: 3 - Načrt ceste | G5: 42644
A7: Popis del je sestavljen v skladu z veljavnimi in priporočenimi TSC in se uporablja za vse postavke (tudi brez šifre ali z napačno šifro). Smiselno se uporabijo tudi Splošni in posebni tehnični pogoji za opremo cest - tender SCS YU ISBN 86-81171-10-5 iz leta 1989 ali Gradbene norme GNG iz leta 1984. Vse postavke zajemajo dobavo vseh glavnih in pomožnih materialov, tudi če ti niso posebej navedeni, vse prenose, prevoze, deponiranje in skladiščenje do mesta vgradnje. Uporabljati samo materiale, ki imajo Izjavo ali Certifikat o skladnosti. Prav tako zajemajo uporabo različnega orodja, strojev in naprav z vsemi prevozi, prenosi in premiki opreme do in od gradbišča ter po samem gradbišču. Izvajalec mora zavarovati gradbišče, material in opremo, postaviti gradbiščno in opozorilne table in preprečevati dostop nepooblaščenim osebam ter skrbeti za varnost pri delu. Pri gradnji mora upoštevati veljavno zakonodajo in standarde SIST glede na vrsto materiala, način in mesto (v)gradnje.
A9: 1. | B9: PREDDELA | H9: 1 | I9: 1.
A11: Zap. št. | B11: Šifra | C11: Tekst | D11: Enota | E11: Količina | F11: Cena po enoti | G11: Cena | H11: 1.
A12: 1.1 | B12: 11111 | C12: Obnova in zavarovanje zakoličbe trase ceste. | D12: km | E12: 0.11 | G12: =IF(F12="","",ROUND(E12*F12,2)) | H12: 1. | I12: 1
A13: 1.2 | B13: 11121 | C13: Postavitev in zavarovanje prečnih profilov | D13: kos | E13: 6 | G13: =IF(F13="","",ROUND(E13*F13,2)) | H13: 1. | I13: 2
A14: 1.3 | B14: 12211 | C14: Demontaža prometnih znakov s temeljem oz. temeljnim nastavkom. | D14: kos | E14: 2 | G14: =IF(F14="","",ROUND(E14*F14,2)) | H14: 1. | I14: 3
A15: 1.4 | B15: 12211 | C15: Demontaža prometnih znakov z drogov, kandelabrov ... | D15: kos | E15: 2 | G15: =IF(F15="","",ROUND(E15*F15,2)) | H15: 1. | I15: 4
A16: 1.5 | B16: 12212 | C16: Demontaža cestnih smernikov | D16: kos | E16: 2 | G16: =IF(F16="","",ROUND(E16*F16,2)) | H16: 1. | I16: 5
A17: 1.6 | C17: Rezanje asfalta v debelini do 10 cm - zaobljen rob vozišča v širini min 10 cm, odvoz na stalno deponijo za asfalte | D17: m | E17: 33 | G17: =IF(F17="","",ROUND(E17*F17,2)) | H17: 1. | I17: 6
A18: 1.7 | B18: 12221 | C18: Rezkanje obstoječega asf. vozišča - po celotni debelini (do 10 cm) | D18: m2 | E18: 520 | G18: =IF(F18="","",ROUND(E18*F18,2)) | H18: 1. | I18: 7
A19: 1.8 | C19: Strojno široki izkop rezkanega asfalta in uporabnega nezaglinjenega tampona vozišča z deponiranjem v bližini na gradbišču ali takojšnja vgradnja v plasti pod zgornji ustroj z mešanjem z novim gramoznim materialom in s komprimiranjem po plasteh | D19: m3 | E19: 104 | G19: =IF(F19="","",ROUND(E19*F19,2)) | H19: 1. | I19: 8
A20: 1.9 | C20: Rušenje bet. jaška namakalnega sistema z odvozom in demontaža vgrajene armature, odvoz na stalno deponijo | D20: kos | E20: 1 | G20: =IF(F20="","",ROUND(E20*F20,2)) | H20: 1. | I20: 9
A21: 1.10 | C21: Odstranitev in izkop cipres, grmovja in manjših dreves s trase | D21: m2 | E21: 3 | G21: =IF(F21="","",ROUND(E21*F21,2)) | H21: 1. | I21: 10
A22: 1.11 | B22: 12225 | C22: Zakoličba vseh obstoječih komunalnih zemeljskih vodov. Ocenjeno. | D22: pav | E22: 4 | G22: =IF(F22="","",ROUND(E22*F22,2)) | H22: 1. | I22: 11
A23: 1.12 | C23: Projektantski nadzor v času gradnje | D23: ur | E23: 8 | G23: =IF(F23="","",ROUND(E23*F23,2)) | H23: 1. | I23: 12
E24: . | F24: Vsota: | G24: =IF(SUM(G12:G23)=0,"",SUM(G12:G23))
A26: 2. | B26: ZEMELJSKA DELA IN TEMELJENJE | H26: 2 | I26: 2.
A28: Zap. št. | B28: Šifra | C28: Tekst | D28: Enota | E28: Količina | F28: Cena po enoti | G28: Cena | H28: 2.
A29: 2.1 | B29: 21111 | C29: Površinski izkopi plodne zemljine (humusa) in dele brežin v debelini min 20 cm z deponiranjem v bližini - vsa se porabi za humusiranje | D29: m3 | E29: 120 | G29: =IF(F29="","",ROUND(E29*F29,2)) | H29: 2. | I29: 1
A30: 2.2 | B30: 21212 | C30: Široki izkopi obstoječe cestne konstrukcije v deb. 30 cm z odvozom na gradbiščno deponijo | D30: m3 | E30: 92.2 | G30: =IF(F30="","",ROUND(E30*F30,2)) | H30: 2. | I30: 2
A31: 2.3 | C31: Profiliranje in dodatni izkop obstoječega jarka, odvoz na deponijo, brežine 1:1.5 | D31: m | E31: 10 | G31: =IF(F31="","",ROUND(E31*F31,2)) | H31: 2. | I31: 3
A32: 2.4 | B32: 22111 | C32: Planum naravnih temeljnih tal v lahki zemljini | D32: m2 | E32: 1200 | G32: =IF(F32="","",ROUND(E32*F32,2)) | H32: 2. | I32: 4
A33: 2.5 | C33: Zasip spodnjih delov izkopa z rezkanim asfaltom in delno obstoječim tamponom z vozišča z gradbične deponije, planiranje in valjanje | D33: m3 | E33: 104 | G33: =IF(F33="","",ROUND(E33*F33,2)) | H33: 2. | I33: 5
A34: 2.6 | C34: Dobava in zasip z gramozom TP64 do kote tampona s komprimiranjem po plasteh (primešanje frezanega asfalta in obst. tampona - odšteto) | D34: m3 | E34: 200.5 | G34: =IF(F34="","",ROUND(E34*F34,2)) | H34: 2. | I34: 6
A35: 2.7 | B35: 25113 | C35: Humuziranje brežin brez valjanja v debelini min 10 cm, porabiti ves humus z deponije, max. 50 cm | D35: m3 | E35: 107.3 | G35: =IF(F35="","",ROUND(E35*F35,2)) | H35: 2. | I35: 7
A36: 2.8 | C36: Rekultivacija območja vozišča z reditvijo zelenice - humusiranje min. 20 cm | D36: m2 | E36: 63.5 | G36: =IF(F36="","",ROUND(E36*F36,2)) | H36: 2. | I36: 8
E37: . | F37: Vsota: | G37: =IF(SUM(G29:G36)=0,"",SUM(G29:G36))
A39: 3. | B39: VOZIŠČNE KONSTRUKCIJE | H39: 3 | I39: 3.
A41: Zap. št. | B41: Šifra | C41: Tekst | D41: Enota | E41: Količina | F41: Cena po enoti | G41: Cena | H41: 3.
A42: 3.1 | B42: 31112 | C42: Izdelava nevezane nosilne plasti tampona iz drobljenega gramoza v debelini min 20 cm - TD32 | D42: m3 | E42: 233.82 | G42: =IF(F42="","",ROUND(E42*F42,2)) | H42: 3. | I42: 1
A43: 3.2 | B43: 31124 | C43: Valjanje tampona na Me ≥ 60 Mpa. | D43: m2 | E43: 320 | G43: =IF(F43="","",ROUND(E43*F43,2)) | H43: 3. | I43: 2
A44: 3.3 | B44: 31124 | C44: Valjanje tampona na Me ≥ 80 Mpa. | D44: m2 | E44: 850 | G44: =IF(F44="","",ROUND(E44*F44,2)) | H44: 3. | I44: 3
A45: 3.4 | C45: Pobrizg očiščenega asfalta z bitumensko emulzijo 0,5 kg/m2 - pri dvoslojnih asfaltih | D45: m2 | E45: 120 | G45: =IF(F45="","",ROUND(E45*F45,2)) | H45: 3. | I45: 4
A46: 3.5 | C46: Pobrizg stika na obstoječem asfaltu z bitumensko emulzijo | D46: m | E46: 49.5 | G46: =IF(F46="","",ROUND(E46*F46,2)) | H46: 3. | I46: 5
A47: 3.6 | B47: 31572 | C47: Izdelava nosilne plasti bituminizirane zmesi AC 22 base B 50/70 A4 v debelini 6 cm | D47: m2 | E47: 120 | G47: =IF(F47="","",ROUND(E47*F47,2)) | H47: 3. | I47: 6
A48: 3.7 | C48: Izdelava obrabne in zaporne plasti bituminizirane zmesi AC 8 surf B 50/70 A5 v debelini 5 cm - hodnik in kolesarska steza | D48: m2 | E48: 50 | G48: =IF(F48="","",ROUND(E48*F48,2)) | H48: 3. | I48: 7
...

Sheet 4-1 popis F1
B1: POPIS MATERIALA IN DEL ZA ELEKTRIČNE INŠTALACIJE
B2: IN ELEKTRIČNO OPREMO - JAVNA RAZSVETLJAVA
C4: Investitor: | D4: MESTNA OBČINA MURSKA SOBOTA, KARDOŠEVA 2, 9000 MURSKA SOBOTA
C5: Objekt: | D5: Cestni in komunalni priključki za Regijski promocijski center (EXPO) v Murski Soboti
C6: Št. projekta: | D6: ML0266
C7: Št. načrta: | D7: M-67/16
C8: Št. mape: | D8: 4/1
B10: 1. Pripravljalna dela za potrebe JR
B12: Z. št. | C12: Opis | D12: Tip | E12: Enota | F12: Količina | G12: Cena/Enoto | H12: Cena
B13: 1 | C13: trasiranje | E13: m | F13: 150 | H13: =(F13*G13) -> 0
B14: 2 | C14: priprava materiala in del | E14: m | F14: 150 | H14: =(F14*G14) -> 0
B15: 3 | C15: Zakoličba stojnih mest svetilk, ter zavarovanje profilov | E15: kos | F15: 4 | H15: =(F15*G15) -> 0
G16: SKUPAJ | H16: =SUM(H13:H15) -> 0
B18: 2. Gradbena dela za potrebe JR
B20: Z. št. | C20: Opis | D20: Tip | E20: Enota | F20: Količina | G20: Cena/Enoto | H20: Cena
B21: 1 | C21: ročni izkop kabelskega jarka poprečne globine 1m, širine 0,4m, v zemljišču III kategorije | E21: m | F21: 30 | H21: =(F21*G21) -> 0
B22: 2 | C22: strojni izkop jarka poprečne globine 1m, širine 0,4m, v zemljišču III kategorije | E22: m | F22: 120 | H22: =(F22*G22) -> 0
B23: 3 | C23: izkop za potrebe postavitve montažnega temelja (0,8x0,8x1,2m), kompletno z zasutjem in končno ureditvijo | E23: kos | F23: 4 | H23: =(F23*G23) -> 0
B24: 4 | C24: izdelava peščene blazine iz mivke III. kategorije za kabel.jarek širine 0,4 m, komplet z dobavo materiala | E24: m | F24: 150 | H24: =(F24*G24) -> 0
B25: 5 | C25: delno ročno in delno strojno zasutje kabelskega jarka globine 1m, širine 0,4 m v višini 0,5 m z izkopanim materialom in v višini 0,3 m z gramozom pod povoznimi površinami, nabijanjem po plasteh | E25: m | F25: 150 | H25: =(F25*G25) -> 0
B26: 6 | C26: končna ureditev trase s planiranjem | E26: m2 | F26: 60 | H26: =(F26*G26) -> 0
B27: 7 | C27: dobava in polaganje plastične, rebraste, zaščitne cevi (dvoslojna) PC-E Ø63, na dno kabelskega jarka | E27: m | F27: 175 | H27: =(F27*G27) -> 0
B28: 8 | C28: dobava in polaganje plastične, rebraste, zaščitne cevi (dvoslojna) PC-E Ø110, na dno kabelskega jarka | E28: m | F28: 15 | H28: =(F28*G28) -> 0
B29: 9 | C29: dobava in polaganje opozorilnega traku z napisom "POZOR ELEKTROENERGETSKI KABEL" | E29: m | F29: 300 | H29: =(F29*G29) -> 0
G30: SKUPAJ | H30: =SUM(H21:H29) -> 0
B32: 3. Montažna dela za potrebe JR
B34: Z. št. | C34: Opis | D34: Tip | E34: Enota | F34: Količina | G34: Cena/Enoto | H34: Cena
B35: 1 | C35: dobava in polaganje energetskega kabla NAY2Y-J 4x16mm2 v cevi položene v kabelski jarek | E35: m | F35: 175 | H35: =(F35*G35) -> 0
B36: 2 | C36: dobava in polaganje pocinkanega jeklenega traka FeZn 25x4 mm | E36: m | F36: 175 | H36: =(F36*G36) -> 0
B37: 3 | C37: dobava in montaža križne sponke FeZn, premaz z bitumnom | E37: kos | F37: 12 | H37: =(F37*G37) -> 0
B38: 4 | C38: dobava in postavitev tipskega, montažnega, armirano, betonskega temelja s sidri in sidrno ploščo, dimenzij: 0,8x0,8x1,2m | E38: kos | F38: 4 | H38: =(F38*G38) -> 0
B39: 5 | C39: dobava in montaža tipskega, jeklenega kandelabra, antikorozijsko zaščitenega z galvanizacijo, višine h=7m, s siderno ploščo za pritrditev na montažni betonski temelj | E39: kos | F39: 4 | H39: =(F39*G39) -> 0
B40: 6 | C40: samo dobava svetilke s podatki: OHIŠJE: - Ohišje iz tlačno litega aluminija - Stopnja zaščite pred vdorom vode in trdih delcev ≥ I 65 - odpornost na mehanske poškodbe, najmanj ≥ IK08 - pritrditev direktno na steber, komplet z vsem montažnim priborom - sistem pritrjevanja svetilke mora omogočati nastavitev kota svetilke v območju od -15˚ do +15˚. Največji korak spreminjanja kota nastavitve nagiba je 5˚ OPTIČNI DEL: - LED izvori svetlobe - delež svetlobnega toka nad vodoravnico (ULOR) mora biti pri nagibu 0 stopinj enak nič - vgrajen sistem za zmanjšanje bleščanja - barvna temperatura ≥3.000 K; ≤ 4.200 K - svetilka mora dosegati svetlobno-tehnične karakteristike za ceste kategorije Me5 (Lsr≥0,5, U0≥0,35 Ui≥0,4, TI≤15) pri naslednjih podatkih: | D40: npr:Grah Automotive LSL 30 | E40: kos | F40: 4 | H40: =(F40*G40) -> 0
C41: - širina vozišča: 6m - število voznih pasov: 2 - cestna obloga: R3 - q0: 0,08 - višina svetlobnega vira: 7m - razmik med svetilkami: cca30m - previs svetilke: -0,5m - nagib: 0 - orientacija: 0 - faktor vzdrževanja: 0,08 ELEKTRIČNI DEL - Svetilke morajo biti opremljene s termično zaščito - redukcija na 50% (± 10%) s klasičnim signalom 230VAC OSTALO - življenska doba ≥ 60.000ur - zaščitni razred: II - ENEC certifikat
B42: 7 | C42: dobava in montaža priključnega seta za trifazni prehod, primeren za priključitev max. 3 kablov 4x16mm2, komplet s taljivim vložkom D01, 6A | E42: kos | F42: 4 | H42: =(F42*G42) -> 0
B43: 8 | C43: instalacija (ožičenje) kandelabrov in sicer od priključne omarice v svetilki do same svetilke s kablom NYM 4x1,5 mm2 | E43: kos | F43: 4 | H43: =(F43*G43) -> 0
B44: 9 | C44: 1x prostostoječa, poliestrska omarica z dvema vratoma, komplet s strešico, samostojnim, sestavljivim podstavkom, klučavnicami in ostalim drobnim materialom, dimenzij (brez podstavka) (1000x1400x300) (npr: Schrack) z vgrajeno vsebino: R-RAZVODNA: -2x tripolno varovalčno stikalo velikosti 00, komplet z NV varovalnimi vložki -2x tripolno varovalčno stikalo velikosti 00, -2x tripolno varovalčno stikalo velikosti 01, -1x tripolna prenapetostna zaščita razredaB R-JR: -1x tripolno glavno stikalo 40A -3x enopolni varovalčni odklopnik (Tytan), komplet s pripadajočo taljivo varovalko -1x tripolnii varovalčni odklopnik (Tytan), komplet s pripadajočo taljivo varovalko -1x ASTRO ura enokanalna -1x digitalna stikalna ura -1x rele z tremi preklopnimi kontakti, AC3, 4kW -1x krmilno stiklao 1,0,2 primerno za montažo na letev -1x-nadometna vtičnica s pokrovom -vezni in drugi drobni material -1x vezni in drugi drobni material | E44: kompl | F44: 1 | H44: =(F44*G44) -> 0
B45: 10 | C45: dodatna antikorozijska zaščita dela droga in vijakov v zemlji z bitumenskim premazom | E45: kos | F45: 4 | H45: =(F45*G45) -> 0
G46: SKUPAJ | H46: =SUM(H35:H45) -> 0
B48: 4. Zaključna dela za potrebe JR
...

Sheet 4-2 popis F1
B1: POPIS MATERIALA IN DEL ZA ELEKTRIČNE INŠTALACIJE
B2: IN ELEKTRIČNO OPREMO - NN KBV
C4: Investitor: | D4: MESTNA OBČINA MURSKA SOBOTA, KARDOŠEVA 2, 9000 MURSKA SOBOTA
C5: Objekt: | D5: Cestni in komunalni priključki za Regijski promocijski center (EXPO) v Murski Soboti
C6: Št. projekta: | D6: ML0266
C7: Št. načrta: | D7: M-67/16
C8: Št. mape: | D8: 4/2
B10: 1. Pripravljalna dela za potrebe KBV
B12: Z. št. | C12: Opis | D12: Tip | E12: Enota | F12: Količina | G12: Cena/Enoto | H12: Cena
B13: 1 | C13: trasiranje | E13: m | F13: 320 | H13: =IF(G13="","",ROUND(F13*G13,2))
G14: SKUPAJ | H14: =SUM(H13:H13) -> 0
B16: 2. Gradbena dela za potrebe KBV
B18: Z. št. | C18: Opis | D18: Tip | E18: Enota | F18: Količina | G18: Cena/Enoto | H18: Cena
B19: 1 | C19: strojni izkop jarka poprečne globine 1m, širine 0,3m, v zemljišču III kategorije | E19: m | F19: 320 | H19: =IF(G19="","",ROUND(F19*G19,2))
B20: =B19+1 -> 2 | C20: izkop za potrebe postavitve montažnega temelja 1,2x0,4x0,8m), kompletno z zasutjem in končno ureditvijo | E20: kos | F20: 1 | H20: =IF(G20="","",ROUND(F20*G20,2))
B21: =B20+1 -> 3 | C21: izdelava peščene blazine iz mivke | E21: m3 | F21: 10 | H21: =IF(G21="","",ROUND(F21*G21,2))
B22: =B21+1 -> 4 | C22: delno ročno in delno strojno zasutje kabelskega jarka, nabijanje po plasteh ter končna ureditev okolice izkopa | E22: komp. | F22: 320 | H22: =IF(G22="","",ROUND(F22*G22,2))
B23: =B22+1 -> 5 | C23: dobava in polaganje plastične, rebraste, zaščitne cevi (dvoslojna), Ø110, na dno kabelskega jarka | E23: m | F23: 50 | H23: =IF(G23="","",ROUND(F23*G23,2))
B24: =B23+1 -> 6 | C24: izdelava podbetonov za postavitev temeljev, jaškov, instalacijskih jaškov ter stikalnih blokov | E24: m3 | F24: 0.2 | H24: =IF(G24="","",ROUND(F24*G24,2))
B25: =B24+1 -> 7 | C25: dobava in postavitev montažnega jaška iz poliamida z vsebnostjo 30% steklenih vlaken, s pokrovom in dnom jaška, Inox okvirjem, dim. 60x60x90cm | D25: npr: Prebilplast | E25: kos | F25: 2 | H25: =IF(G25="","",ROUND(F25*G25,2))
B26: =B25+1 -> 8 | C26: dobava in polaganje opozorilnega traku z napisom "POZOR ELEKTROENERGETSKI KABEL" | E26: m | F26: 640 | H26: =IF(G26="","",ROUND(F26*G26,2))
G27: SKUPAJ | H27: =SUM(H19:H26) -> 0
B29: 3. Montažna dela za potrebe KBV
B31: Z. št. | C31: Opis | D31: Tip | E31: Enota | F31: Količina | G31: Cena/Enoto | H31: Cena
B32: 1 | C32: dobava in polaganje energetskega kabla NA2XY-J 4x150+2,5mm2 | E32: m | F32: 330 | H32: =IF(G32="","",ROUND(F32*G32,2))
B33: =B32+1 -> 2 | C33: dobava in polaganje pocinkanega jeklenega traku FeZn 25x4 mm, kompletno s križnimi sponkami | E33: m | F33: 50 | H33: =IF(G33="","",ROUND(F33*G33,2))
B34: =B33+1 -> 3 | C34: Stikalni blok KPMO: prostostoječa, poliestrska omarica z dvema vratoma, komplet s strešico, samostojnim, sestavljivim podstavkom, klučavnicami, montažno ploščo in ostalim drobnim materialom, dimenzij (brez podstavka) (1200x1200x300) z vgrajeno vsebino: -1x tripolno varovalčno stikalo velikosti 02, komplet z NV varovalnimi vložki -1x tripolno varovalčno stikalo velikosti 02, komplet z NV varovalnimi vložki -1x tripolna prenapetostna zaščita razreda C -3x tokovni transforamtor, 100/5A -1x merilne sponke -2x umerjena, polindirektna, merilna garnitura -1x bakrene zbiralke, In=400A, vezni in drugi drobni material | E34: kompl | F34: 1 | H34: =IF(G34="","",ROUND(F34*G34,2))
G35: SKUPAJ | H35: =SUM(H32:H34) -> 0
B37: 4. Zaključna dela za potrebe KBV
B39: Z.št. | C39: Opis | D39: Tip | E39: Enota | F39: Količina | G39: Cena/Enoto | H39: Cena
B40: 1 | C40: geodetski posnetek trase kablovoda in lokacij jaškov ter vris objektov v kataster | E40: m | F40: 320 | H40: =IF(G40="","",ROUND(F40*G40,2))
B41: =B40+1 -> 2 | C41: funkcionalni preizkus in pregled električne inštalacije ter označevanje | E41: komplet | F41: 1 | H41: =IF(G41="","",ROUND(F41*G41,2))
B42: =B41+1 -> 3 | C42: kontrolne meritve: -električnih parametrov kablovodov in izdelava merilnega protokola -ozemljitvena upornost in izdelava merilnega protokola | E42: komplet | F42: 1 | H42: =IF(G42="","",ROUND(F42*G42,2))
B43: =B42+1 -> 4 | C43: priprava za projektno dokumentacijo (PID), dokazila o zanesljivosti objekta in ostale tehnične dokumentacije | E43: komplet | F43: 1 | H43: =IF(G43="","",ROUND(F43*G43,2))
G45: SKUPAJ | H45: =SUM(H40:H43) -> 0
G47: VREDNOST DEL
G48: vrednost materiala in del po popisu | H48: =SUM(H45+H35+H27+H14) -> 0
G49: davek na dodano vrednost (22%) | H49: =H48*22% -> 0
G50: SKUPAJ Z DDV | H50: =SUM(H48+H49) -> 0

Sheet POPIS F1 TUJA
A1: POPIS DEL S PREDIZMERAMI | G1: v.4
A3: Investitor: | C3: Mestna občina Murska Sobota, Kardoševa 2, 9000 Murska Sobota
A4: Objekt: | C4: Cestni in komunalni priključki za Regijski promocijski center (EXPO) v Murski Soboti - FAZA 1 TUJA DELA
A5: PZI | C5: ML0266 | D5: 3 - Načrt ceste | G5: 42644
A7: Popis del je sestavljen v skladu z veljavnimi in priporočenimi TSC in se uporablja za vse postavke (tudi brez šifre ali z napačno šifro). Smiselno se uporabijo tudi Splošni in posebni tehnični pogoji za opremo cest - tender SCS YU ISBN 86-81171-10-5 iz leta 1989 ali Gradbene norme GNG iz leta 1984. Vse postavke zajemajo dobavo vseh glavnih in pomožnih materialov, tudi če ti niso posebej navedeni, vse prenose, prevoze, deponiranje in skladiščenje do mesta vgradnje. Uporabljati samo materiale, ki imajo Izjavo ali Certifikat o skladnosti. Prav tako zajemajo uporabo različnega orodja, strojev in naprav z vsemi prevozi, prenosi in premiki opreme do in od gradbišča ter po samem gradbišču. Izvajalec mora zavarovati gradbišče, material in opremo, postaviti gradbiščno in opozorilne table in preprečevati dostop nepooblaščenim osebam ter skrbeti za varnost pri delu. Pri gradnji mora upoštevati veljavno zakonodajo in standarde SIST glede na vrsto materiala, način in mesto (v)gradnje.
A9: 10. | B9: TUJA DELA (Telekom, Telemach) | H9: 10 | I9: 10.
A11: Zap. Št. | B11: Šifra | C11: Tekst | D11: Enota | E11: Količina | F11: Cena po enoti | G11: Cena | H11: 10.
A12: 10.0 | C12: Spodnja dela ponudnik ponudi za izvedbo, vendar ne bremenijo naročnika MO MOMS, izvedejo pa se na račun družb Telemach in Telekom, če jih ena ali druga družba naroči ponudniku oziroma izvajalcu: | H12: 10. | I12: 0
A13: 10.1 | C13: Dela v režiji Telemach: Izvedba zaščite obst. 2x PVC DN110 cevi zaradi izvedbe kanalizacije s položitvijo nove PVC DN110 cevi oz. uporabo obstoječe, s polnim obbetoniranjem na uvozih, zajet izkop in odvoz na stalno deponijo ter zasip z gramozom s komprimiranjem po plasteh do tampona in tampon v ustrezni debelini s komprimiranjem kot ostalo območje, sanacija oz. položitev ustreznega novega opozorilnega traku | D13: m | E13: 510 | G13: =IF(F13="","",ROUND(E13*F13,2)) | H13: 10. | I13: 1
A14: 10.2 | C14: Dela v režiji Telemach: Izvedba prestavitve obst. jaškov iz BC DN600 in LTŽ 600x600 zaradi izvedbe kanalizacije, uporaba obst. ali nove BC DN600 cevi in pokrova, zajet izkop in odvoz na stalno deponijo ter zasip z gramozom s komprimiranjem po plasteh do tampona in tampon v ustrezni debelini s komprimiranjem kot ostalo območje | D14: kos | E14: 4 | G14: =IF(F14="","",ROUND(E14*F14,2)) | H14: 10. | I14: 2
A15: 10.3 | C15: Dela v režiji Telekom: Dobava in izvedba TK jaška iz BC DN80 z bet pokrovom in LTŽ C600x600 mm pokrovom globine 1 m, komplet z izkopom, odvozom in zasip z gramozom in tamponom kot je obst. konstrukcija na mestu vgradnje | D15: kos | E15: 2 | G15: =IF(F15="","",ROUND(E15*F15,2)) | H15: 10. | I15: 3
A16: 10.4 | C16: Dela v režiji Telekom: Dobava in izvedba TK kanalizacije iz TK-PVC DN110 cevi in opozorilnega traku, s polnim obbetoniranjem na uvozih, zajet izkop in odvoz na stalno deponijo ter zasip z gramozom s komprimiranjem po plasteh do tampona in tampon v ustrezni debelini s komprimiranjem kot ostalo območje | D16: m | E16: 160 | G16: =IF(F16="","",ROUND(E16*F16,2)) | H16: 10. | I16: 4
E17: . | F17: Vsota: | G17: =IF(SUM(G12:G16)=0,"",SUM(G12:G16))
B19: VSOTA | G19: =G17
B20: POPUST | D20: 0 | E20: % | G20: =IF(G19="","",ROUND(G19*D20/100,2))
B21: S POPUSTOM | G21: =IF(G19="","",G19-G20)
B22: NEPREDVIDENA DELA | D22: 5 | E22: % | G22: =IF(G21="","",ROUND(G21*D22/100,2))
B23: NETO | G23: =IF(G21="","",G21+G22)
B24: DDV | D24: 22 | E24: % | G24: =IF(G23="","",ROUND(G23*D24/100,2))
B25: SKUPAJ | G25: =IF(G23="","",G23+G24)

Sheet POPIS F2
A1: POPIS DEL S PREDIZMERAMI | G1: v.3
A3: Investitor: | C3: Mestna občina Murska Sobota, Kardoševa 2, 9000 Murska Sobota
A4: Objekt: | C4: Cestni in komunalni priključki za Regijski promocijski center (EXPO) v Murski Soboti - FAZA 2
A5: PZI | C5: ML0266 | D5: 3 - Načrt ceste | G5: 42644
A7: Popis del je sestavljen v skladu z veljavnimi in priporočenimi TSC in se uporablja za vse postavke (tudi brez šifre ali z napačno šifro). Smiselno se uporabijo tudi Splošni in posebni tehnični pogoji za opremo cest - tender SCS YU ISBN 86-81171-10-5 iz leta 1989 ali Gradbene norme GNG iz leta 1984. Vse postavke zajemajo dobavo vseh glavnih in pomožnih materialov, tudi če ti niso posebej navedeni, vse prenose, prevoze, deponiranje in skladiščenje do mesta vgradnje. Uporabljati samo materiale, ki imajo Izjavo ali Certifikat o skladnosti. Prav tako zajemajo uporabo različnega orodja, strojev in naprav z vsemi prevozi, prenosi in premiki opreme do in od gradbišča ter po samem gradbišču. Izvajalec mora zavarovati gradbišče, material in opremo, postaviti gradbiščno in opozorilne table in preprečevati dostop nepooblaščenim osebam ter skrbeti za varnost pri delu. Pri gradnji mora upoštevati veljavno zakonodajo in standarde SIST glede na vrsto materiala, način in mesto (v)gradnje.
A9: 1. | B9: VODOVOD | H9: 1 | I9: 1.
A11: Zap. Št. | B11: Šifra | C11: Tekst | D11: Enota | E11: Količina | F11: Cena po enoti | G11: Cena | H11: 1.
A12: 1.1 | C12: Obnova in zavarovanje zakoličbe osi vodovoda - obvezno v dogovoru z upravljavcem | D12: m | E12: 100 | G12: =IF(F12="","",ROUND(E12*F12,2)) | H12: 1. | I12: 1
A13: 1.2 | B13: 21111 | C13: Površinski izkopi plodne zemljine (humusa) z odvozom na stalni gradbiščni deponiji | D13: m3 | E13: 90 | G13: =IF(F13="","",ROUND(E13*F13,2)) | H13: 1. | I13: 2
A14: 1.3 | B14: 21521 | C14: Izkopi za kanale vodovoda globine 1,0 do 1,5 m v lahki zemljini z odvozom na gradbiščno deponijo | D14: m3 | E14: 45 | G14: =IF(F14="","",ROUND(E14*F14,2)) | H14: 1. | I14: 3
A15: 1.4 | C15: Ročni izkop za kanale vodovoda globine 1,0 do 1,5 m v lahki zemljini na območju obst. vodovoda | D15: m3 | E15: 1 | G15: =IF(F15="","",ROUND(E15*F15,2)) | H15: 1. | I15: 4
A16: 1.5 | B16: 22111 | C16: Planum naravnih temeljnih tal v lahki zemljini | D16: m2 | E16: 90 | G16: =IF(F16="","",ROUND(E16*F16,2)) | H16: 1. | I16: 5
A17: 1.6 | C17: Dvostransko razpiranje jarkov, obračun obeh strani na m2 | D17: m2 | E17: 130 | G17: =IF(F17="","",ROUND(E17*F17,2)) | H17: 1. | I17: 6
A18: 1.7 | B18: 22111 | C18: Dobava in planiranje peska na dno jarka v debelini 10 cm | D18: m3 | E18: 9 | G18: =IF(F18="","",ROUND(E18*F18,2)) | H18: 1. | I18: 7
A19: 1.8 | C19: Zasip cevi s peskom in 10 cm nad temenom | D19: m3 | E19: 18 | G19: =IF(F19="","",ROUND(E19*F19,2)) | H19: 1. | I19: 8
A20: 1.9 | C20: Dobava in zasip vodovoda z gramozom in komprimiranje po plasteh | D20: m3 | E20: 16.23375 | G20: =IF(F20="","",ROUND(E20*F20,2)) | H20: 1. | I20: 9
A21: 1.10 | C21: Dobava, transport in polaganje cevi iz nodularne litine (16 bar) DN 150 | D21: m | E21: 100 | G21: =IF(F21="","",ROUND(E21*F21,2)) | H21: 1. | I21: 10
A22: 1.11 | C22: Dobava, transport in montaža NL fazonskih kosov s spojnim in tesnilnim materialom za brezvijačno spajanje (npr. sistem Hawle BAIO ali podoben), PN16 - za spodnje postavke. | H22: 1. | I22: 11
A23: 1.12 | C23: MMB DN150/80 (npr. Hawle 542) | D23: kos | E23: 1 | G23: =IF(F23="","",ROUND(E23*F23,2)) | H23: 1. | I23: 12
A24: 1.13 | C24: EV zasun DN80 bajonet/ obojka (npr. Hawle HSM 451 1) | D24: kos | E24: 1 | G24: =IF(F24="","",ROUND(E24*F24,2)) | H24: 1. | I24: 13
A25: 1.14 | C25: Lok 30° DN150 (npr. Hawle MMK 543) | D25: kos | E25: 2 | G25: =IF(F25="","",ROUND(E25*F25,2)) | H25: 1. | I25: 14
A26: 1.15 | C26: Demontaža in ponovna montaža - Kapa DN150/ 6/4" (npr. Hawle 806 DN150/G6/4") in čep FeZn 6/4" | D26: kos | E26: 1 | G26: =IF(F26="","",ROUND(E26*F26,2)) | H26: 1. | I26: 15
A27: 1.16 | C27: S kos kratki DN80 (npr. Hawle 531) | D27: kos | E27: 1 | G27: =IF(F27="","",ROUND(E27*F27,2)) | H27: 1. | I27: 16
A28: 1.17 | C28: N kos DN80/80 (npr. Hawle MMN 548) | D28: kos | E28: 1 | G28: =IF(F28="","",ROUND(E28*F28,2)) | H28: 1. | I28: 17
A29: 1.18 | C29: NH lomljivi DN 80 z ventilom, 2x C spojka, višina 1250 z drenažnim elementom (npr. Hawle 492S 2C) | D29: kos | E29: 1 | G29: =IF(F29="","",ROUND(E29*F29,2)) | H29: 1. | I29: 18
A30: 1.19 | C30: Tlačni preizkus vodovoda, kloriranje in preizkus izdatnosti (hidrantov). | D30: m | E30: 100 | G30: =IF(F30="","",ROUND(E30*F30,2)) | H30: 1. | I30: 19
A31: 1.20 | C31: Dobava in položitev opozorilnega traku "VODOVOD", min. 30 cm nad temenom cevi ali armature | D31: m | E31: 100 | G31: =IF(F31="","",ROUND(E31*F31,2)) | H31: 1. | I31: 20
A32: 1.21 | C32: Nadzor upravljavca vodovoda in prevzem novega vodovoda | D32: ur | E32: 4 | G32: =IF(F32="","",ROUND(E32*F32,2)) | H32: 1. | I32: 21
E33: . | F33: Vsota: | G33: =IF(SUM(G12:G32)=0,"",SUM(G12:G32))
A35: 2. | B35: REKAPITULACIJA
A37: Zap. št. | C37: Vrsta del | G37: Cena
A38: 1. | B38: VODOVOD | G38: =G33
B39: VSOTA | G39: =IF(SUM(G38:G38)=0,"",ROUND(SUM(G38:G38),2))
B40: POPUST | D40: 0 | E40: % | G40: =IF(G39="","",ROUND(G39*D40/100,2))
B41: S POPUSTOM | G41: =IF(G39="","",G39-G40)
B42: NEPREDVIDENA DELA | D42: 5 | E42: % | G42: =IF(G41="","",ROUND(G41*D42/100,2))
B43: NETO | G43: =IF(G41="","",G41+G42)
B44: DDV (obrnjena davčna stopna po 76a. členu) | D44: 0 | E44: % | G44: =IF(G43="","",ROUND(G43*D44/100,2))
B45: SKUPAJ | G45: =IF(G43="","",G43+G44)

Sheet POPIS F3
A1: POPIS DEL S PREDIZMERAMI | G1: v.3
A3: Investitor: | C3: Mestna občina Murska Sobota, Kardoševa 2, 9000 Murska Sobota
A4: Objekt: | C4: Cestni in komunalni priključki za Regijski promocijski center (EXPO) v Murski Soboti - FAZA 3
A5: PZI | C5: ML0266 | D5: 3 - Načrt ceste | G5: 42644
A7: Popis del je sestavljen v skladu z veljavnimi in priporočenimi TSC in se uporablja za vse postavke (tudi brez šifre ali z napačno šifro). Smiselno se uporabijo tudi Splošni in posebni tehnični pogoji za opremo cest - tender SCS YU ISBN 86-81171-10-5 iz leta 1989 ali Gradbene norme GNG iz leta 1984. Vse postavke zajemajo dobavo vseh glavnih in pomožnih materialov, tudi če ti niso posebej navedeni, vse prenose, prevoze, deponiranje in skladiščenje do mesta vgradnje. Uporabljati samo materiale, ki imajo Izjavo ali Certifikat o skladnosti. Prav tako zajemajo uporabo različnega orodja, strojev in naprav z vsemi prevozi, prenosi in premiki opreme do in od gradbišča ter po samem gradbišču. Izvajalec mora zavarovati gradbišče, material in opremo, postaviti gradbiščno in opozorilne table in preprečevati dostop nepooblaščenim osebam ter skrbeti za varnost pri delu. Pri gradnji mora upoštevati veljavno zakonodajo in standarde SIST glede na vrsto materiala, način in mesto (v)gradnje.
A9: 1. | B9: PREDDELA | H9: 1 | I9: 1.
A11: Zap. št. | B11: Šifra | C11: Tekst | D11: Enota | E11: Količina | F11: Cena po enoti | G11: Cena | H11: 1.
A12: 1.1 | C12: Rezanje asfalta v debelini do 10 cm - zaobljen rob vozišča v širini min 10 cm, odvoz na stalno deponijo za asfalte | D12: m | E12: 7 | G12: =IF(F12="","",ROUND(E12*F12,2)) | H12: 1. | I12: 1
E13: . | F13: Vsota: | G13: =IF(SUM(G12:G12)=0,"",SUM(G12:G12))
A15: 2. | B15: VOZIŠČNE KONSTRUKCIJE | H15: 2 | I15: 2.
A17: Zap. št. | B17: Šifra | C17: Tekst | D17: Enota | E17: Količina | F17: Cena po enoti | G17: Cena | H17: 2.
A18: 2.1 | C18: Fina planaža obst. tampona ceste (850 m2) z dodajanjem novega tampona TD32 | D18: m3 | E18: 26 | G18: =IF(F18="","",ROUND(E18*F18,2)) | H18: 2. | I18: 1
A19: 2.2 | B19: 31124 | C19: Valjanje tampona na Me ≥ 80 Mpa. | D19: m2 | E19: 850 | G19: =IF(F19="","",ROUND(E19*F19,2)) | H19: 2. | I19: 2
A20: 2.3 | C20: Pobrizg očiščenega asfalta z bitumensko emulzijo 0,5 kg/m2 - pri dvoslojnih asfaltih | D20: m2 | E20: 545 | G20: =IF(F20="","",ROUND(E20*F20,2)) | H20: 2. | I20: 3
A21: 2.4 | C21: Pobrizg stika na obstoječem asfaltu z bitumensko emulzijo | D21: m | E21: 37 | G21: =IF(F21="","",ROUND(E21*F21,2)) | H21: 2. | I21: 4
A22: 2.5 | B22: 31572 | C22: Izdelava nosilne plasti bituminizirane zmesi AC 22 base B 50/70 A4 v debelini 6 cm | D22: m2 | E22: 545 | G22: =IF(F22="","",ROUND(E22*F22,2)) | H22: 2. | I22: 5
A23: 2.6 | C23: Izdelava obrabne in zaporne plasti bituminizirane zmesi AC 8 surf B 50/70 A5 v debelini 5 cm - hodnik in kolesarska steza | D23: m2 | E23: 200 | G23: =IF(F23="","",ROUND(E23*F23,2)) | H23: 2. | I23: 6
A24: 2.7 | B24: 32273 | C24: Izdelava obrabne in zaporne plasti bituminizirane zmesi AC 11 surf B 50/70 A3 v debelini 4 cm | D24: m2 | E24: 545 | G24: =IF(F24="","",ROUND(E24*F24,2)) | H24: 2. | I24: 7
A25: 2.8 | C25: Izdelava mulde vzdolž cestišča v šir. 50 cm iz AC surf v debelini 5 cm – kot vozišče | D25: m2 | E25: 15 | G25: =IF(F25="","",ROUND(E25*F25,2)) | H25: 2. | I25: 8
A26: 2.9 | B26: 36111 | C26: Izdelava bankine iz gramoza ali naravno zdrobljenega kamnitega materiala, široke 0.3 m ob hodniku. | D26: m2 | E26: 22.2 | G26: =IF(F26="","",ROUND(E26*F26,2)) | H26: 2. | I26: 9
A27: 2.10 | B27: 36112 | C27: Izdelava bankine iz gramoza ali naravno zdrobljenega kamnitega materiala, široke 0.5 m. | D27: m2 | E27: 44.5 | G27: =IF(F27="","",ROUND(E27*F27,2)) | H27: 2. | I27: 10
E28: . | F28: Vsota: | G28: =IF(SUM(G18:G27)=0,"",SUM(G18:G27))
A30: 3. | B30: PROMETNA OPREMA | H30: 3 | I30: 3.
A32: Zap. Št. | B32: Šifra | C32: Tekst | D32: Enota | E32: Količina | F32: Cena po enoti | G32: Cena | H32: 3.
A33: 3.1 | B33: 61111 | C33: Izdelava tankoslojne neprekinjene označbe z enokomponentno belo barvo, strojno, debelina plasti 200 μm, širina črte 10 cm | D33: m | E33: 80 | G33: =IF(F33="","",ROUND(E33*F33,2)) | H33: 3. | I33: 1
A34: 3.2 | B34: 61112 | C34: Izdelava tankoslojne prekinjene ali neprekinjene označbe z enokomponentno belo barvo, strojno, debelina plasti 200 μm, širina črte 12 cm | D34: m | E34: 99 | G34: =IF(F34="","",ROUND(E34*F34,2)) | H34: 3. | I34: 2
A35: 3.3 | B35: 62825 | C35: Izdelava druge tankoslojne označbe na vozišču, ročno, z enokomponentno belo barvo. | D35: m2 | E35: 2 | G35: =IF(F35="","",ROUND(E35*F35,2)) | H35: 3. | I35: 3
E36: . | F36: Vsota: | G36: =IF(SUM(G33:G35)=0,"",SUM(G33:G35))
A38: 4. | B38: REKAPITULACIJA
A40: Zap. št. | C40: Vrsta del | G40: Cena
A41: 1. | B41: PREDDELA | G41: =G13
A42: 2. | B42: VOZIŠČNE KONSTRUKCIJE | G42: =G28
A43: 3. | B43: PROMETNA OPREMA | G43: =G36
B44: VSOTA | G44: =IF(SUM(G41:G43)=0,"",ROUND(SUM(G41:G43),2))
B45: POPUST | D45: 0 | E45: % | G45: =IF(G44="","",ROUND(G44*D45/100,2))
B46: S POPUSTOM | G46: =IF(G44="","",G44-G45)
B47: NEPREDVIDENA DELA | D47: 5 | E47: % | G47: =IF(G46="","",ROUND(G46*D47/100,2))
B48: NETO | G48: =IF(G46="","",G46+G47)
B49: DDV | D49: 22 | E49: % | G49: =IF(G48="","",ROUND(G48*D49/100,2))
B50: SKUPAJ | G50: =IF(G48="","",G48+G49)
