Workbook
Name Excel_BuiltIn_Print_Titles_4: '[1]NEPREDVIDENA GR.DELA'!#REF!
Name Excel_BuiltIn_Print_Titles_4: '[1]NEPREDVIDENA GR.DELA'!#REF!

Sheet GLAVNA REKAPITULACIJA
A2: Investitor: | C2: Mestna občina Murska Sobota, Kardoševa 2, 9000 Murska Sobota
A5: Objekt: | C5: VRATA V POMURJE – UREDITEV OKOLICE
A7: Projekt: | C7: Projekt za izvedbo - investicijsko-vzdrževalna dela
A9: Štev. proj.: | C9: 225/17
A11: Datum: | C11: sprememba, oktober 2017
A14: projektant: | C14: Studio Kalamar d.o.o., Slovenska cesta 19, 1000 Ljubljana
A16: odgovorni vodja projekta: | D16: Andrej Kalamar, u.d.i.a. ZAPS 0091 A
E18: REKAPITULACIJA
A26: SKUPAJ GRADBENO OBRTNIŠKA DELA: | H26: ='REKAPITULACIJA GO'!$F$45 -> 0
A28: + 22% DDV | H28: =+H26*22% -> 0
A33: SKUPAJ: | H33: =SUM(H26:H32) -> 0

Sheet REKAPITULACIJA GO
A2: Investitor: | C2: Mestna občina Murska Sobota, Kardoševa 2, 9000 Murska Sobota
A5: Objekt: | C5: VRATA V POMURJE – UREDITEV OKOLICE
A7: Štev. proj.:
A9: Datum: | C9: sprememba, oktober 2017
C11: REKAPITULACIJA
B13: A. ZEMELJSKA DELA IN ZGORNJI USTROJ
A15: I. | B15: Peš poti | F15: ='PEŠ POTI'!$F$54 -> 0
A17: II. | B17: Interventna pot | F17: ='INTERVENTNA POT'!$F$44 -> 0
A19: III. | B19: Utrjene površine | F19: ='UTRJENE POVRŠINE'!$F$43 -> 0
A21: IV. | B21: Piknik prostori | F21: ='PIKNIK PROSTORI'!$F$53 -> 0
A23: V. | B23: Ostala dela | F23: ='OSTALA DELA'!$F$14 -> 0
B25: B. GRADBENA DELA
A27: VI. | B27: Betonska | F27: ='BETONSKA '!$F$44 -> 0
A29: VII. | B29: Tesarska | F29: ='TESARSKA '!$F$44 -> 0
A31: VIII. | B31: Ključavničarska | F31: =KLJUČAVNIČARSKA!$F$29 -> 0
B33: C. ZUNANJA OPREMA
A35: IX. | B35: Urbana oprema | F35: ='URBANA OPREMA'!$F$78 -> 0
B37: D. HORTIKULTURA
A39: X. | B39: Zasaditev | F39: =ZASADITEV!$G$93 -> 0
B41: E. ELEKTRO DELA
A43: XI. | B43: Električne inštalacije in električna oprema | F43: =ELEKTRO!$G$78 -> 0
B45: SKUPAJ | F45: =SUM(F13:F43) -> 0

Sheet OPOMBE
B1: UVODNE OPOMBE POPISA
B4: Opis
B7: Splošne opomba:
B10: OPOMBA! Vsi eventualni komercialni nazivi omenjeni v popisu del, so uporabljeni le kot referenčni proizvodi!!
B13: 1) Izvajalec del mora upoštevati splošna določila v ponudbi in pri izvajanju del, ki veljajo v RS.
B15: 2.) Pred oddajo ponudbe priporočamo ogled prostorov in seznanitev z lokacijo!
B17: 3) Pomembna opomba:
B18: Popis je veljaven le v kombinaciji z vsemi grafičnimi prilogami, risbami, načrti, tehničnim poročilom, sestavami konstrukcij, shemami oken in vrat in ostalimi sestavinami projekta (strojne, elektro instalacije in načrti gradbenih konstrukcij).
B19: V popis so vnešeni le osnovni podatki o sestavnih delih objekta. Natančnejši opisi, način in kvaliteta izdelave, barve, velikost elementov, načini pritrjevanja, načini stikovanja z ostalimi elementi objekta, morebitna požarna varnost konstrukcij ali gradbenih elementov in podobno so razvidni iz prej naštetih sestavin projekta.
B20: Ponudba mora vsebovati ves pritrditveni material, vgradnjo zaključnih profilov, pločevin in kotnikov, izdelavo vseh potrebnih podkonstrukcij, dodatnega izsekavanja AB in zidanih sten, ponovnega odpiranja montažnih sten in podobna dela potrebna za vgradnjo posameznega elementa objekta, izdelavo vseh drobnih gradbenih, obrtniških in instalacijskih del ter ostalega četudi to ni neposredno navedeno popisu GOI del, a je kljub temu razvidno iz grafičnih prilog in ostalih prej naštetih sestavnih delov projekta.
B21: Nujna je tudi kombinacija popisa s požarnim elaboratom, ki opredeljuje požarno varnost posameznih konstrukcij in gradbenih elementov objekta.
B22: Uporaba popisa brez vseh prej omenjenih sestavin projekta NI DOVOLJENA. Ponudba, ki se sklicuje zgolj na tekstualni del popisa ni veljavna oziroma je smatrana kot pomanjkljiva.
... B70: - izvedba predhodnega koordinacijskega sestanka projektanov gradbenih konstrukcij in strojnih instalacije z izvajalcem in nadzoromv cilju dokončne določitve lokacij in načina izvedbe prebojev v obstoječi AB konstrukciji

Sheet PEŠ POTI
A1: I) | B1: PEŠ POTI:
A3: 1 | B3: PREDDELA
A5: 1.1 | B5: Zakoličba projektiranih osi | C5: m1 | D5: 813 | E5: 0 | F5: =PRODUCT(D5:E5) -> 0
A7: 1.2 | B7: Postavljanje in zavarovanje prečnih profilov | C7: kos | D7: 41 | E7: 0 | F7: =PRODUCT(D7:E7) -> 0
B9: SKUPAJ PREDDELA: | F9: =SUM(F5:F7) -> 0
A12: 2 | B12: ZEMELJSKA DELA IN TEMELJENJE
A14: 2.1 | B14: Široki izkop zemljine III.ktg z odrivom na začasno deponijo na gradbišču. | C14: m3 | D14: 976 | E14: 0 | F14: =PRODUCT(D14:E14) -> 0
A16: 2.2 | B16: Planum naravnih temeljnih tal v lahki zemljini | C16: m2 | D16: 2439 | E16: 0 | F16: =PRODUCT(D16:E16) -> 0
A18: 2.4 | B18: Nakladanje in odvoz odvečnega materiala do 10 km ter stroški deponiranja in grobo razprostiranje na deponiji. | C18: m3 | D18: 976 | E18: 0 | F18: =PRODUCT(D18:E18) -> 0
A20: 2,5 | B20: Nabava, dobava in polaganje proti koreninske zastirke. | C20: m2 | D20: 2439 | E20: 0 | F20: =PRODUCT(D20:E20) -> 0
B22: SKUPAJ ZEMELJSKA DELA: | F22: =SUM(F14:F20) -> 0
A25: 3 | B25: VOZIŠČNE KONSTRUKCIJE
A27: 3.1 | B27: Izdelava nevezane nosilne plasti iz enakomerno zrnatega drobljenca TD32 v deb. 30cm z dobavo, dovozom in vgraditvijo materiala | C27: m3 | D27: 732 | E27: 0 | F27: =PRODUCT(D27:E27) -> 0
A29: 3.2 | B29: Izdelava zgornje zaporne plasti iz granuliranega drobca (4-16 mm) v debelini od 7 do 10 cm | C29: m2 | D29: 2033 | E29: 0 | F29: =PRODUCT(D29:E29) -> 0
A31: 3,3 | B31: Dobava in vgraditev predfabriciranega robnika iz cementnega betona prereza 5x20cm , vključno s potrebnim podložnim betonom. | C31: m1 | D31: 1626 | E31: 0 | F31: =PRODUCT(D31:E31) -> 0
B33: SKUPAJ VOZIŠČNE KONSTRUKCIJE: | F33: =SUM(F27:F31) -> 0
A35: 5 | B35: OPREMA
A37: 5.1 | B37: Postavitev potopnih stebričev za kontrolo dostopa vozil na območje. | C37: kos | D37: 4 | E37: 0 | F37: =PRODUCT(D37:E37) -> 0
B40: SKUPAJ OPREMA | F40: =SUM(F37) -> 0
B44: REKAPITULACIJA:
A46: 1. | B46: PREDDELA | F46: =$F$9 -> 0
A48: 2. | B48: ZEMELJSKA DELA IN TEMELJENJE | F48: =$F$22 -> 0
A50: 3. | B50: VOZIŠČNE KONSTRUKCIJE | F50: =$F$33 -> 0
A52: 5. | B52: OPREMA | F52: =$F$40 -> 0
B54: SKUPAJ | F54: =SUM(F45:F52) -> 0

Sheet INTERVENTNA POT
A1: III) | B1: INTERVENTNA POT:
A3: 1 | B3: PREDDELA
A5: 1.1 | B5: Zakoličba projektiranih osi | C5: m1 | D5: 254 | E5: 0 | F5: =PRODUCT(D5:E5) -> 0
A7: 1.2 | B7: Postavljanje in zavarovanje prečnih profilov | C7: kos | D7: 13 | E7: 0 | F7: =PRODUCT(D7:E7) -> 0
B9: SKUPAJ PREDDELA: | F9: =SUM(F4:F7) -> 0
A11: 2 | B11: ZEMELJSKA DELA IN TEMELJENJE
A13: 2.1 | B13: Široki izkop zemljine III.ktg z odrivom na začasno deponijo na gradbišču. | C13: m3 | D13: 470 | E13: 0 | F13: =PRODUCT(D13:E13) -> 0
A15: 2.2 | B15: Planum naravnih temeljnih tal v lahki zemljini | C15: m2 | D15: 1234 | E15: 0 | F15: =PRODUCT(D15:E15) -> 0
A17: 2.4 | B17: Nakladanje in odvoz odvečnega materiala do 10 km ter stroški deponiranja in grobo razprostiranje na deponiji. | C17: m3 | D17: 470 | E17: 0 | F17: =PRODUCT(D17:E17) -> 0
A19: 2.6 | B19: Nabava, dobava in polaganje proti koreninske zastirke. | C19: m2 | D19: 1234 | E19: 0 | F19: =PRODUCT(D19:E19) -> 0
B21: SKUPAJ ZEMELJSKA DELA: | F21: =SUM(F13:F19) -> 0
A23: 3 | B23: VOZIŠČNE KONSTRUKCIJE
A25: 3.1 | B25: Izdelava nevezane nosilne plasti iz enakomerno zrnatega drobljenca TD32 v deb. 45cm z dobavo, dovozom in vgraditvijo materiala | C25: m3 | D25: 555 | E25: 0 | F25: =PRODUCT(D25:E25) -> 0
A27: 3.2 | B27: Izdelava zgornje zaporne plasti iz granuliranega drobca (4-16 mm) v debelini od 7 do 10 cm | C27: m2 | D27: 1175 | E27: 0 | F27: =PRODUCT(D27:E27) -> 0
A29: 3.3 | B29: Dobava in vgraditev predfabriciranega robnika iz cementnega betona prereza 8x20cm , vključno s potrebnim podložnim betonom. | C29: m1 | D29: 254 | E29: 0 | F29: =PRODUCT(D29:E29) -> 0
A31: 3.4 | B31: Dobava in vgraditev AB podstavka za postavitev montažnih sanitarij. Vidni beton C25/30, armatura Q283. | C31: m3 | D31: 9 | E31: 0 | F31: =PRODUCT(D31:E31) -> 0
B32: SKUPAJ VOZIŠČNE KONSTRUKCIJE: | F32: =SUM(F25:F31) -> 0
B36: REKAPITULACIJA:
A38: 1. | B38: PREDDELA | F38: =$F$9 -> 0
A40: 2. | B40: ZEMELJSKA DELA IN TEMELJENJE | F40: =$F$21 -> 0
A42: 3. | B42: VOZIŠČNE KONSTRUKCIJE | F42: =$F$32 -> 0
B44: SKUPAJ | F44: =SUM(F38:F42) -> 0

Sheet UTRJENE POVRŠINE
A1: IV) | B1: UTRJENE POVRŠINE
A3: 1 | B3: PREDDELA
A5: 1.1 | B5: Zakoličba projektiranih osi | C5: m1 | D5: 74.5 | E5: 0 | F5: =PRODUCT(D5:E5) -> 0
A7: 1.2 | B7: Postavljanje in zavarovanje prečnih profilov | C7: kos | D7: 8 | E7: 0 | F7: =PRODUCT(D7:E7) -> 0
B9: SKUPAJ PREDDELA: | F9: =SUM(F5:F7) -> 0
A11: 2 | B11: ZEMELJSKA DELA IN TEMELJENJE
A13: 2.1 | B13: Široki izkop zemljine III.ktg z odrivom na začasno deponijo na gradbišču. | C13: m3 | D13: 636 | E13: 0 | F13: =PRODUCT(D13:E13) -> 0
A15: 2.2 | B15: Planum naravnih temeljnih tal v lahki zemljini | C15: m2 | D15: 1273 | E15: 0 | F15: =PRODUCT(D15:E15) -> 0
A17: 2.4 | B17: Nakladanje in odvoz odvečnega materiala do 10 km ter stroški deponiranja in grobo razprostiranje na deponiji. | C17: m3 | D17: 636 | E17: 0 | F17: =PRODUCT(D17:E17) -> 0
A19: 2.6 | B19: Nabava, dobava in polaganje proti koreninske zastirke. | C19: m2 | D19: 1273 | E19: 0 | F19: =PRODUCT(D19:E19) -> 0
B21: SKUPAJ ZEMELJSKA DELA: | F21: =SUM(F13:F19) -> 0
A23: 3 | B23: VOZIŠČNE KONSTRUKCIJE
A25: 3.1 | B25: Izdelava nevezane nosilne plasti iz enakomerno zrnatega drobljenca TD32 v deb. 45cm z dobavo, dovozom in vgraditvijo materiala | C25: m3 | D25: 570 | E25: 0 | F25: =PRODUCT(D25:E25) -> 0
A27: 3.2 | B27: Izdelava zgornje zaporne plasti iz granuliranega drobca (4-16 mm) v debelini od 7 do 10 cm | C27: m2 | D27: 1212 | E27: 0 | F27: =PRODUCT(D27:E27) -> 0
A29: 3.6 | B29: Dobava in vgraditev predfabriciranega robnika iz cementnega betona prereza 8x20cm , vključno s potrebnim podložnim betonom. | C29: m1 | D29: 158 | E29: 0 | F29: =PRODUCT(D29:E29) -> 0
B31: SKUPAJ VOZIŠČNE KONSTRUKCIJE: | F31: =SUM(F25:F29) -> 0
B35: REKAPITULACIJA:
A37: 1. | B37: PREDDELA | F37: =$F$9 -> 0
A39: 2. | B39: ZEMELJSKA DELA IN TEMELJENJE | F39: =$F$21 -> 0
A41: 3. | B41: VOZIŠČNE KONSTRUKCIJE | F41: =$F$31 -> 0
B43: SKUPAJ | F43: =SUM(F37:F41) -> 0

Sheet PIKNIK PROSTORI
A1: VII) | B1: PIKNIK PROSTOR:
A3: 1 | B3: PREDDELA
A5: 1.1 | B5: Zakoličba projektiranih osi | C5: m1 | D5: 40 | E5: 0 | F5: =PRODUCT(D5:E5) -> 0
A7: 1.2 | B7: Postavljanje in zavarovanje prečnih profilov | C7: kos | D7: 16 | E7: 0 | F7: =PRODUCT(D7:E7) -> 0
B9: SKUPAJ PREDDELA: | F9: =SUM(F5:F8) -> 0
A12: 2 | B12: ZEMELJSKA DELA IN TEMELJENJE
A14: 2.1 | B14: Široki izkop zemljine III.ktg z odrivom na začasno deponijo na gradbišču. | C14: m3 | D14: 120 | E14: 0 | F14: =PRODUCT(D14:E14) -> 0
A16: 2.2 | B16: Planum naravnih temeljnih tal v lahki zemljini | C16: m2 | D16: 227 | E16: 0 | F16: =PRODUCT(D16:E16) -> 0
A18: 2.4 | B18: Nakladanje in odvoz odvečnega materiala do 10 km ter stroški deponiranja in grobo razprostiranje na deponiji. | C18: m3 | D18: 120 | E18: 0 | F18: =PRODUCT(D18:E18) -> 0
A20: 2.6 | B20: Nabava, dobava in polaganje proti koreninske zastirke. | C20: m2 | D20: 227 | E20: 0 | F20: =PRODUCT(D20:E20) -> 0
B22: SKUPAJ ZEMELJSKA DELA: | F22: =SUM(F14:F20) -> 0
A26: 3 | B26: VOZIŠČNE KONSTRUKCIJE
A28: 3.1 | B28: Izdelava nevezane nosilne plasti iz enakomerno zrnatega drobljenca TD32 v deb. 30cm z dobavo, dovozom in vgraditvijo materiala | C28: m3 | D28: 75 | E28: 0 | F28: =PRODUCT(D28:E28) -> 0
A30: 3.2 | B30: Izdelava zgornje zaporne plasti iz granuliranega drobca (4-16 mm) v debelini od 7 do 10 cm | C30: m2 | D30: 38 | E30: 0 | F30: =PRODUCT(D30:E30) -> 0
A32: 3.3 | B32: Izdelava zgornje zaporne plasti iz granuliranega prodca (8 -32 mm) v debelini 10 cm | C32: m2 | D32: 38 | E32: 0 | F32: =PRODUCT(D32:E32) -> 0
A34: 3.4 | B34: Dobava in vgraditev predfabriciranega robnika iz cementnega betona prereza 5x20cm , vključno s potrebnim podložnim betonom. | C34: m1 | D34: 187 | E34: 0 | F34: =PRODUCT(D34:E34) -> 0
A36: 3.5 | B36: Nabava, dobava in vgraditev betonskih pranih plošč dimenzije 40 x 40 cm, debeline 5 cm. Plošče se polagajo na podlogo iz 2x sejanega peska -separacije 0-4 mm v debelini 5 cm. | C36: m2 | D36: 151 | E36: 0 | F36: =PRODUCT(D36:E36) -> 0
A38: 3.5 | B38: Nabava, dobava in vgraditev betonskih pranih plošč dimenzije 40 x 40 cm, debeline 5 cm. Plošče se polagajo na podlogo iz 2x sejanega peska -separacije 0-4 mm v debelini 5 cm. Plošče se polagajo v nizih dolgih 1,20 m (3 plošče), z vmesnimi travnimi presledki širine 20 cm. | C38: m2 | D38: 29 | E38: 0 | F38: =PRODUCT(D38:E38) -> 0
B41: SKUPAJ VOZIŠČNE KONSTRUKCIJE: | F41: =SUM(F28:F38) -> 0
B45: REKAPITULACIJA:
A47: 1. | B47: PREDDELA | F47: =$F$9 -> 0
A49: 2. | B49: ZEMELJSKA DELA IN TEMELJENJE | F49: =$F$22 -> 0
A51: 3. | B51: VOZIŠČNE KONSTRUKCIJE | F51: =$F$41 -> 0
B53: SKUPAJ | F53: =SUM(F47:F51) -> 0

Sheet OSTALA DELA
A1: VIII) | B1: OSTALA DELA:
A2: 2 | B2: ZEMELJSKA DELA IN TEMELJENJE
A4: 2.1 | B4: strojna izravnava zelenih površin, fino planiranje, humusiranje s pripeljanim humusom v sloju debeline 20 cm, zasejanje travnega semena (1kg/50 m2) in nega do ozelenitve. (dobava humusa ni del cene, humus zagotovi naročnik in se že nahaja na lokaciji ureditve) | C4: m2 | D4: 29486 | E4: 0 | F4: =PRODUCT(D4:E4) -> 0
A6: 2.2 | B6: Strojno planiranje brežin zaliva in vgraditev substrata ter zasaditev obvodnega čistilnega rastlinja. Debelina substrata 30 cm | C6: m2 | D6: 7680 | E6: 0 | F6: =PRODUCT(D6:E6) -> 0
A8: 2.3 | B8: Strojno planiranja dna otroškega zaliva | C8: m2 | D8: 790 | E8: 0 | F8: =PRODUCT(D8:E8) -> 0
A10: 2.4 | B10: Nabava, dobava in vgrajevanje skalnih balvanov (na suho), kot zaščita za odnašanje mivke iz zaliva. | C10: m3 | D10: 180 | E10: 0 | F10: =PRODUCT(D10:E10) -> 0
A12: 2.5 | B12: Nabav, dobava in vgrajevanje vodne mivke v otroški zaliv. Debelina sloja mivke je od 30 do 40 cm. | C12: m3 | D12: 160 | E12: 0 | F12: =PRODUCT(D12:E12) -> 0
B14: SKUPAJ OSTALA DELA: | F14: =SUM(F4:F12) -> 0

Sheet BETONSKA 
A1: IX. | B1: Betonska dela
B4: Opis | C4: E/M | D4: količina | E4: cena/enoto | F4: skupaj
B7: OPOMBA:pri izvajanju betonskih, armirano betonskih del je upoštevati vse pogoje, katere navaja in predpisuje Pravilnik o tehničnih normativih za beton in armiran beton in projekt, katerega izdela izvajalec. Armatura se izdeluje v skladu z načrtom gradbenih konstrukcij in statike, pri čemer je upoštevati vse pogoje in navodila za izdelavo. Posebej je treba upoštevati:
B8: 1. Opaži morajo biti čisti in v celoti pripravljeni za betoniranje (močenje). Črpni beton se ne sme vgrajevati z višine večje od 1 m. Betonirati se lahko prične šele po pregledu podlage, odrov, opažev in armature.
B9: 2. Armaturo je potrebno pred montažo očistiti od eventualnih nečistoč, upoštevati je debelino zaščitne plasti betona.
B10: 3. Pred naročilom je upoštevati navedene oznake betona. Po končanem betoniranju je vgrajen beton potrebno zaščititi in negovati v skladu s pravili stroke. Za vidne konstrukcije se smatrajo vse tiste konstrukcije, ki po končani izdelavi ostanejo neometane.
B11: 4. Dopustna odstopanja za pravokotnost, dimenzije in ravnost posameznih betonskih ali AB konstrukcij so določene s pravilniki.
B12: 5. Upoštevati je vse zunanje in notranje transporte, prekladnja, prenose in čiščenja po zaključku posameznih faz.
B15: Kvalitete betonov:
B16: - temelji urbane opreme, čaše temeljev stebrov, C25/30
B17: - stopniščna rama, talna plošča postavitvene pločadi metličen armirani beton C25/30,XC4,XD2,XA1,XF1,CI 0,2,S4 Dmax 16/31,5 PV-II
B18: - prefabricirani stebri: C30/37,XC4,XF2,Cl 0,2,Dmax16,S4,PV1, pokrivni sloj min 30mm, videz vidnega betona (vpoštevati pri opažih!)
A20: =1+COUNT(A$19:A19) -> 1 | B20: Dobava in vgrajevanje betona za zunanjo stopniščo ramo. Videz vidnega betona. Metličenje. Vgradnja protizdrsnih profilov (zarezovanje). Podložni beton debeline 10 cm pod temelji in talnimi ploščami | C20: m3 | D20: 3.75 | E20: 0 | F20: =+E20*D20 -> 0
A22: =1+COUNT(A$19:A21) -> 2 | B22: Dobava in montaža prefabriciranih betonskih stebrov prereza 20/30cm, L=3,5m, število kosov 44 | C22: m3 | D22: 9.25 | E22: 0 | F22: =+E22*D22 -> 0
A24: =1+COUNT(A$19:A23) -> 3 | B24: Dobava in montaža prefabriciranih betonskih temeljev velikosti 70/70cm, d=0,40m, spodnja kota temelja -60,0cm, z odprtino za steber š/d/v 22/32/25cm. Po nivelaciji se stebri zalijejo z betonom C25/30,XC1,Cl 0,2,Dmax16,S4. Število kosov 44. | C24: m3 | D24: 8.7 | E24: 0 | F24: =+E24*D24 -> 0
A26: =1+COUNT(A$19:A25) -> 4 | B26: Dobava in vgrajevanje betona prereza 0,12-0,20 m3/m2-m1 za temeljenje urbane opreme | C26: m3 | D26: 15 | E26: 0 | F26: =+E26*D26 -> 0
A28: =1+COUNT(A$19:A27) -> 5 | B28: Dobava in vgrajevanje betona prereza 0,20-0,40 m3/m2-m1 za temeljenje pergole | C28: m3 | D28: 2.5 | E28: 0 | F28: =+E28*D28 -> 0
A30: =1+COUNT(A$19:A29) -> 6 | B30: Zarezovanje fug v betonskih ploščah | C30: m1 | D30: 30 | E30: 0 | F30: =+E30*D30 -> 0
B32: Armatura ocenjena na 110kg/m3!
A34: 11. | B34: Dobava, polaganje in vezanje srednje komplicirane armature S500B do fi 12 mm. Obračun po armaturnem izvlečku. | C34: kg | D34: 1287 | E34: 0 | F34: =+E34*D34 -> 0
A37: 12. | B37: Dobava, polaganje in vezanje srednje komplicirane armature S500B nad fi 12 mm. Obračun po armaturnem izvlečku. | C37: kg | D37: 1716 | E37: 0 | F37: =+E37*D37 -> 0
A40: 13. | B40: Dobava, polaganje armaturnih mrež S500B. Obračun po armaturnem izvlečku. | C40: kg | D40: 1287 | E40: 0 | F40: =+E40*D40 -> 0
B44: BETONSKA DELA SKUPAJ: | F44: =SUM(F7:F42) -> 0

Sheet TESARSKA 
A1: X. | B1: Tesarska dela
B4: Opis | C4: E/M | D4: količina | E4: cena/enoto | F4: skupaj
B7: OPOMBA: pri izvajanju opažev je upoštevati vsa pripravljalna dela, razopaževanje in zlaganje. Opaži morajo biti pred uporabo pravilno negovani s premazi in odstranitev premazov upoštevana v posameznih cenah na enoto. Opaži za vidne betone morajo biti pripravljeni tako, da so po razopaženju betonske ploskve brez deformacij, gladke oziroma v strukturi, določeni s projektom . Posebej je treba upoštevati:
B8: 1. Varovalni odri, ki služijo varovanju življenja, izvajalcev ter ostalih na gradbišču se za čas izvajanja ne obračunavajo posebej, temveč jih je potrebno upoštevati v cenah za enoto posameznih postavk, v kolikor to ni v popisu posebej opisano in označeno.
B9: 2. V vseh postavkah tesarskih del je v ceni za enoto mere opažev obvezno zajeti potrebno opaževanje, razpaževanje, čiščenje, mazanje in zlaganje na primernih deponijah skupaj z vsemi trensporti in pomožnimi deli.
B10: 3. Opaži AB sten in ostalih konstrukcij se zapirajo šele po montaži podometne inštalacije ali po montaži opažev za utore.
B11: 4. Opaži morajo biti izdelani po merah iz projekta ali posameznih načtov z vsemi potrebnimi podporami z vodoravno in diagonalno povezavo tako, da so stabilni in vzdržijo vse obtežbe. Površine morajo biti ravne in čiste. Vidni opaž se smatra v primeru, ko konstrukcija po razopaževanju ostane neometana.
A15: =1+COUNT(A$1:A14) -> 1 | B15: Dobava, montaža in demontaža opaža roba talne plošče | C15: m2 | D15: 5.4 | E15: 0 | F15: =+E15*D15 -> 0
A17: =1+COUNT(A$1:A16) -> 2 | B17: Dobava, montaža in demontaža opaža točkovnih temeljev, štiristranski opaž | C17: m2 | D17: =9.6+(48*1.6*0.6) -> 55.68 | E17: 0 | F17: =+E17*D17 -> 0
A19: =1+COUNT(A$1:A18) -> 3 | B19: Dobava, montaža in demontaža posebnega opaža za prefabricirane plošče (piknik prostori). Vključno z vsakokratnim čiščenjem za doseganje kvalitete vidnega betona. | C19: m2 | D19: =(1*0.9)+(0.9*2+2)*0.1+(3.05*2+1.8)*0.1+3.05*0.9+(1.6*2+0.9*2)*0.1+1.6*0.9+(1.25*2+0.8*2)*0.1+(1.35*0.8)+(1*2.95)+(2.95*2+2)*0.1+(1.25*2+0.4*2)*0.1+1.25*0.4+(0.8*2+0.4*2)*0.1+0.4*0.8+(4*1)+(4*2+2)*0.1 -> 18.375 | E19: 0 | F19: =+E19*D19 -> 0
A21: =1+COUNT(A$1:A20) -> 4 | B21: Dobava, montaža in demontaža posebnega opaža za prefabricirane stebre. Vključno z vsakokratnim čiščenjem za doseganje kvalitete vidnega betona. | C21: m2 | D21: 3 | E21: 0 | F21: =+E21*D21 -> 0
A23: =1+COUNT(A$1:A22) -> 5 | B23: Dobava, montaža in demontaža posebnega opaža za prefabricirane temelje. | C23: m2 | D23: 1.5 | E23: 0 | F23: =+E23*D23 -> 0
A25: =1+COUNT(A$1:A24) -> 6 | B25: Dobava, montaža in demontaža opaža zunanjih stopnic, z opaženjem stopniščne rame, čela stopnic in bočnih strani stopnic. | C25: m2 | D25: =1.45+(2.4*0.16*13)+(2*2.4*0.7) -> 9.802 | E25: 0 | F25: =+E25*D25 -> 0
A28: =1+COUNT(A$1:A27) -> 7 | B28: Dobava in montaža raznega lesa - za opaže, podpiranje, robne letvice… Tu je zajeta količina lesa, katera ni detaljno zrisana, je pa nujno potrebna za kvalitetno izvedbo objekta! | C28: m3 | D28: 0.5 | E28: 0 | F28: =+E28*D28 -> 0
A30: =1+COUNT(A$1:A29) -> 8 | B30: Dobava in montaža lesene pergole po shemi
B31: - dimenzije: š/d/v 708/708/340 cm
B32: - prostor: pergola v zalivu z mivko
B33: - kritina: zrakoprepustna UV odporna HDPE mrežasta ponjava v trakovih - zajeto posebej
B34: - temeljenje: sidranje preko kovinskih nastavkov za lesene stebre- zajeto posebej
B35: - stebri: lamelirani stebri (BSH), prereza 160/160mm, h=280cm, globinsko impregnirani, 4 kosi
B36: - primarni nosilci: lamelirani nosilci (BSH), prereza 140/220mm, L=708cm, globinsko impregnirani, 2 kosa
B37: - sekundarni nosilci: lamelirani nosilci (BSH), prereza 80/160mm, L=708cm, globinsko impregnirani, 8 kosov
B38: - zavetrovanje s pocinkano jekleno pletenico, debelina po statiki, vključno s pritrdili in natezalci
B39: Vključno z vsemi razrezi in pritrdilnimi elementi.
B40: tlorisna površina 50,2 m2! | C40: kpl | D40: 1 | E40: 0 | F40: =+E40*D40 -> 0
B44: TESARSKA DELA SKUPAJ: | F44: =SUM(F6:F43) -> 0

Sheet KLJUČAVNIČARSKA
A1: XI. | B1: Ključavničarska dela
B4: Opis | C4: E/M | D4: količina | E4: cena/enoto | F4: skupaj
B7: Kvaliteta jeklenih konstrukcij:
B8: -jeklo S235 JR (JRG2), S355 JR (J0)
B9: -vijaki kv. 8.8 oz. 10.9
B11: Protikorozijska zaščita
B12: Pri načrtovanju in izvedbi protikorozijske zaščite z barvami je potrebno upoštevati določila skupine standardov SIST EN ISO 12944 (deli 1, 2, 3, 4, 5, 6, 7, 8) Barve in laki – Korozijska zaščita jeklenih konstrukcij z zaščitnimi premaznimi sistemi.
B13: Jekleno konstrukcijo je potrebno zaščititi z barvami, ki zagotavljajo visoko H trajnost (več kot 15 let) protikorozijske zaščite.
B14: Vplivi okolja in atmosfere sodijo v srednjo kategorijo C3 korozijske ogroženosti (urbano in industrijsko okolje z zmerno onesnaženostjo).
B15: S temi tehničnimi pogoji je predviden sledeči sistem protikorozijske zašite v skladu z Tabelo A.3 (H, C3) standarda SIST EN ISO 12944-5:
B16: · priprava površine: peskanje Sa2½
B17: · osnovni premaz: zink epoxi 40μm
B18: · vmesni + končni premaz: epoksi + poliuretan 160-200μm
B19: Izvajalec lahko predlaga svoj sistem zaščite, ki zagotavljajo enak ali podoben nivo protikorozijske zaščite in ustreza zgoraj navedenim standardom in zahtevam.
B20: Nianso zaključnega premaza (RAL) določi arhitekt v soglasju z investitorjem.
A23: =1+COUNT(A$21:A22) -> 1 | B23: Dobava in montaža podstavkov za lesene stebre pergole z jekleno palico za vgrajevanje v beton. Material nerjavna pločevina (AISI 304) velikosti 160/160mm
C24: kos | D24: 4 | E24: 0 | F24: =PRODUCT(D24:E24) -> 0
A26: =1+COUNT(A$21:A25) -> 2 | B26: Dobava in montaža cevne ograje zunanjih stopnic (sredinska postavitev) iz nerjavečega jekla fi 42,16mm debeline 3mm dolžine cca 480cm (po shemi), ročaj, stojke (5x), višina h=1,0m, vključno s pritrdilnimi ploščami, vijaki in sidranjem.
C27: kos | D27: 1 | E27: 0 | F27: =PRODUCT(D27:E27) -> 0
B29: SKUPAJ KLJUČAVNIČARSKA DELA: | F29: =SUM(F22:F28) -> 0

Sheet URBANA OPREMA
A1: XII. | B1: Urbana oprema
B4: Opis | C4: E/M | D4: količina | E4: cena/enoto | F4: skupaj
B7: Vsa urbana oprema je izdelana na podlagi zadnje veljavnih shem projektanta arhitekture! Vse vgradne mere vrat, oken je potrebno preveriti na gradbišču in vrata, okna pred izdelavo prilagoditi izmerjenim dimenzijam!
B12: URBANA OPREMA
A14: =1+COUNT(A$1:A13) -> 1 | B14: PIKNIK MIZA S STOLI
B15: Dobava in montaža betonske mize vključno z izkopi in temeljenjem.
B16: - prefabricirana armiranobetonska plošča š/d 100/400cm, debeline d=10cm, brušena, 2x luknja fi 70mm, 1 kos
B17: - armiranobetonske cevi premera fi=600, delno vkopana, 3 kosi
B18: - 2K epoksidno lepilo brez vsebnosti organskih topil za lepljenje prefabriciranih betonskih elementov enakovredno kot Mapei Eporip
B19: - betonsko jeklo v palicah fi=10mm, l=15cm vključno z vrtanjem, 12 kosov
B20: - armiranobetonske cevi premera fi=300, delno vkopana, z betonskimi pokrovi, 12 kosov
B21: Obračun po količini vgrajenega elementa, vključno z dobavo in montažo | C21: kos | D21: 4 | E21: 0 | F21: =+D21*E21 -> 0
A23: =1+COUNT(A$1:A22) -> 2 | B23: PIKNIK PULT S KURŠČEM
B24: Dobava in montaža betonske mize vključno z izkopi in temeljenjem.
B25: - prefabricirana armiranobetonska plošča š/d 90/305cm, debeline d=10cm, brušena, 1 kos
B26: - prefabricirana armiranobetonska plošča š/d 100/305cm, debeline d=10cm, brušena, 1 kos
B27: - prefabricirana armiranobetonska plošča š/d 90/100cm, debeline d=10cm, brušena, 1 kos
B28: - prefabricirana armiranobetonska plošča š/d 90/160cm, debeline d=10cm, brušena, 1 kos
B29: - prefabricirana armiranobetonska plošča š/d 40/125cm, debeline d=10cm, brušena, 1 kos
B30: - prefabricirana armiranobetonska plošča š/d 80/135cm, debeline d=10cm, brušena, 1 kos
B31: - prefabricirana armiranobetonska plošča š/d 135/160cm, debeline d=10cm, brušena, 1 kos
B32: - prefabricirana armiranobetonska plošča š/d 40/80cm, debeline d=10cm, brušena, 1 kos
B33: - armiranobetonske cevi premera fi=600, delno vkopana, 3 kosi
B34: - 2K epoksidno lepilo brez vsebnosti organskih topil za lepljenje prefabriciranih betonskih elementov enakovredno kot Mapei Eporip
B35: - betonsko jeklo v palicah fi=10mm, l=15cm vključno z vrtanjem, 36 kosov
B36: Obračun po količini vgrajenega elementa, vključno z dobavo in montažo | C36: kos | D36: 4 | E36: 0 | F36: =+D36*E36 -> 0
A38: =1+COUNT(A$1:A37) -> 3 | B38: ZUNANJE VODNO IGRALO
B39: Dobava in montaža igrala vključno z izkopi in temeljenjem.
B40: Igralo (enakovredno kot Aurednik) je sestavljeno iz:
B41: a) miza za igro z vodo in peskom velikosti ø 80 cm, rdeče-plastična tla in nerjavečega jekla robovi, z izlivom - plastični čep na jekleni vrvi. Miza je postavljena na 3 nogah iz okroglega cevnega profila (ø 42.4 x 2 mm) iz nerjavečega jekla.
B42: b) miza za igro z vodo in peskom velikosti 60 x 80 cm - z rdeče-plastična tla in nerjavečega jekla robovi, z izlivom - plastični čep na jekleni vrvi. Miza je postavljena na 4 nogah iz okroglega cevnega profila (ø 42.4 x 2 mm) iz nerjavečega jekla.
B43: c) miza za igro z vodo in peskom velikosti ø 60 cm, - z rdečim-plastična tla in nerjavečim robom, z izlivom - plastični čep na jekleni vrvi.
B44: Miza so postavljene na nogah iz okroglega cevnega profila (ø 42.4 x 2 mm) iz nerjavečega jekla. Igralne mize se razlikujejo v 3 višinskih sklopih (74/60/46 cm).
B45: d) majhno vodno kolo iz nerjavnega jekla -
B46: e) litoželezna vrtna črpalka za vodo s stojalom. Črpalka se vijači v betonski temelj. Črpalka ima priklop preko alkaten cevi, ki je položena v pesek. Črpalka je opremljena s ščitom proti pesku. Vključno z vsem priključnim materialom, temeljenjem in fitingi (spojkami). | C46: kos | D46: 1 | E46: 0 | F46: =+D46*E46 -> 0
A47: =1+COUNT(A$1:A46) -> 4 | B47: KOŠ ZA ODPADKE
B48: Dobava in montaža betonskega koša za odpadke s pokrovom
B49: Dimenzije (DxGxV): 38 x 38 x 90 cm
B50: Material: beton
B51: Volumen: 60 l
B52: Teža:90kg
B53: Koš pravokotne oblike omogoča enostavno zbiranje odpadkov na prostem. Telo koša je iz rečnega prodca, pokrov in pepelnik pa sta iz INOX materialov. Stabilen in odporen na vandalizem. V koš postavimo vrečo, ki jo nato enostavno zamenjamo, ko je polna. | C53: kos | D53: 7 | E53: 0 | F53: =+D53*E53 -> 0
A56: =1+COUNT(A$1:A55) -> 5 | B56: MREŽASTA PONJAVA ZA SENČENJE
B57: Dobava in montaža mrežaste ponjave za senčenje enakovredno kot Austronet 940
B58: material: HDPE
B59: UV odporen
B60: a) trak širine 1m (pergola), zarobljen, s predpripravljenimi neti za pritrjevanje | C60: m | D60: 66.5 | E60: 0 | F60: =+D60*E60 -> 0
B61: b) trak širine 1,5m (piknik prostor) zarobljen, s predpripravljenimi neti za pritrjevanje | C61: m | D61: 91.5 | E61: 0 | F61: =+D61*E61 -> 0
A63: =1+COUNT(A$1:A62) -> 6 | B63: MREŽA Z BOJAMI IN SIDRIŠČI
B64: Dobava in montaža zaščitne mreže za kopališče, vključno s sidrišči in bojami, dolžina zaščitene cone L=250m. Velikost okenc uskladiti z navodili lokalne ribiške družine! | C64: kpl | D64: 1 | E64: 0 | F64: =+D64*E64 -> 0
A66: =1+COUNT(A$1:A65) -> 7 | B66: VRV Z NATEZALCI
B67: Dobava in montaža jeklene vrvi z zategovalci (pergole nad piknik prostori)
B68: a) Vrv jeklena fi 2/3mm galvanizirana v pvc ovoju 6×7+FC, DIN 3055 | C68: m | D68: 100
B69: b) zategovalec z glavo oko-kavelj | C69: kos | D69: 24
B70: c) spone za jekleno vrv | C70: kos | D70: 1
B71: d) sidrišča (vključno z vrtanjem v betonski steber) | C71: kos | D71: 44
C73: kpl | D73: 1 | E73: 0 | F73: =+D73*E73 -> 0
A75: =1+COUNT(A$1:A74) -> 8 | B75: KOVINSKA KLOP Z LESENO OBLOGO
B76: Dobava in montaža klopi enakovredno kot model "Bank" dobavitelja Kremen-MB. Močna, stabilna in široka klop dimenzij š/d/v 60/200/46cm Ogrodje je sestavljeno iz masivnih 70 mm kotnih profilov, kateri so zvarjeni in galvansko obdelani z vročim cinkanjem. Vključno z izkopi, temeljenjem in sidranjem. Obloga je iz letev globinsko impregniraneg lesa iglavcev. | C76: kpl | D76: 8 | E76: 0 | F76: =+D76*E76 -> 0
B78: SKUPAJ URBANA OPREMA: | F78: =SUM(F21:F76) -> 0

Sheet ZASADITEV
A1: XIV. | B1: Zasaditev
C4: Opis | D4: E/M | E4: količina | F4: cena/enoto | G4: skupaj
A6: I) | B6: PREDDELA
A9: a) | B9: Čiščenje terena.
A12: =1+COUNT(A$1:A11) -> 1 | B12: Posek dreves z okleščenjem vej, razrezom in odvozom na deponijo (premer 15-25 cm) | D12: 32 | E12: kom | F12: 0 | G12: =F12*D12 -> 0
A14: =1+COUNT(A$1:A13) -> 2 | B14: Izkop panjev in odvoz na deponijo (premer 20-30 cm) | D14: 32 | E14: kom | F14: 0 | G14: =F14*D14 -> 0
A17: b) | B17: Zemeljska dela
A19: =1+COUNT(A$1:A18) -> 3 | B19: Nabava zemlje (živice) | D19: 25 | E19: m3 | F19: 0 | G19: =F19*D19 -> 0
A21: =1+COUNT(A$1:A20) -> 4 | B21: Dovoz 7m3 zemlje (živice) na razdalji do 30 km. | D21: 25 | E21: kom | F21: 0 | G21: =F21*D21 -> 0
A23: =1+COUNT(A$1:A22) -> 5 | B23: Planiranje zemlje (živice) | D23: 25 | E23: m3 | F23: 0 | G23: =F23*D23 -> 0
A26: c) | B26: Dobava sadik dreves
A28: =1+COUNT(A$1:A27) -> 6 | B28: Salix alba | C28: 150-200 cm | D28: 39 | E28: kom | F28: 0 | G28: =D28*F28 -> 0
A29: =1+COUNT(A$1:A28) -> 7 | B29: Tilia platyphyllos | C29: 150-200 cm | D29: 25 | E29: kom | F29: 0 | G29: =D29*F29 -> 0
A30: =1+COUNT(A$1:A29) -> 8 | B30: Prunus padus | C30: 150-200 cm | D30: 12 | E30: kom | F30: 0 | G30: =D30*F30 -> 0
A31: =1+COUNT(A$1:A30) -> 9 | B31: Fraxinus excelsior | C31: 150-200 cm | D31: 11 | E31: kom | F31: 0 | G31: =D31*F31 -> 0
A32: =1+COUNT(A$1:A31) -> 10 | B32: Acer pseudoplatanus | C32: 150-200 cm | D32: 19 | E32: kom | F32: 0 | G32: =D32*F32 -> 0
A33: =1+COUNT(A$1:A32) -> 11 | B33: Acer campestre | C33: 150-200 cm | D33: 10 | E33: kom | F33: 0 | G33: =D33*F33 -> 0
A34: =1+COUNT(A$1:A33) -> 12 | B34: Populus nigra | C34: 150-200 cm | D34: 15 | E34: kom | F34: 0 | G34: =D34*F34 -> 0
A35: =1+COUNT(A$1:A34) -> 13 | B35: Quercus robur | C35: 150-200 cm | D35: 17 | E35: kom | F35: 0 | G35: =D35*F35 -> 0
A36: =1+COUNT(A$1:A35) -> 14 | B36: Alnus glutinosa | C36: 150-200 cm | D36: 11 | E36: kom | F36: 0 | G36: =D36*F36 -> 0
B37: skupaj | D37: =SUM(D28:D36) -> 159
A38: d) | B38: Dobava sadik za živo mejo
A40: =1+COUNT(A$1:A39) -> 15 | B40: Carpinus betulus | C40: 40-60 cm | D40: 175 | E40: kom | F40: 0 | G40: =D40*F40 -> 0
B42: skupaj | D42: =SUM(D40:D40) -> 175
A44: e) | B44: Dobava pomožnega sadilnega materiala
A46: =1+COUNT(A$1:A45) -> 16 | B46: Dobava založnega gnojila (briketi) | D46: 150 | E46: kg | F46: 0 | G46: =D46*F46 -> 0
A47: =1+COUNT(A$1:A46) -> 17 | B47: Dobava označevalnih količkov | D47: 250 | E47: kom | F47: 0 | G47: =D47*F47 -> 0
A48: =1+COUNT(A$1:A47) -> 18 | B48: Dobava opornih količkov | D48: 170 | E48: kom | F48: 0 | G48: =D48*F48 -> 0
A49: =1+COUNT(A$1:A48) -> 19 | B49: Dobava traku za privezovanje | D49: 250 | E49: kom | F49: 0 | G49: =D49*F49 -> 0
B52: PREDDELA - SKUPAJ | G52: =SUM(G12:G51) -> 0
A55: II) | B55: ZATRAVITEV
A58: =1+COUNT(A$1:A56) -> 20 | B58: Odstranjevanje zaplevljene plasti (po potrebi) Dodajanje mešanice zemlje in mivke Frezanje, grobo in fino planiranje | D58: 750 | E58: ha | F58: 0 | G58: =D58*F58 -> 0
A60: =1+COUNT(A$1:A59) -> 21 | B60: Zatravitev | D60: 500 | E60: ha | F60: 0 | G60: =D60*F60 -> 0
B63: ZATRAVITEV-SKUPAJ | G63: =SUM(G57:G62) -> 0
A67: III) | B67: ZASADITEV VEGETACIJE
A69: f) | B69: Sajenje dreves
A70: =1+COUNT(A$1:A69) -> 22 | B70: ( Zakoličenje , izkop sadilne jame , priprava tal z odvozom izkopanega materiala, ureditev drenaže, dodajamje humuzne mešanice, dodajanje založnega gnojila, sajenje, zalivanje) | D70: 159 | E70: kom | F70: 0 | G70: =D70*F70 -> 0
A72: g) | B72: Sajenje žive meje
A73: =1+COUNT(A$1:A72) -> 23 | B73: (Zakoličenje, izkop sadilne jame 35x50x40cm,priprava tal z odvozom izkopanega materijala, ureditev drenaže,dodajanje humuzne mešanice, dodajanje založneha gnojila, sajenje, zalivanje) | D73: 175 | E73: kom | F73: 0 | G73: =D73*F73 -> 0
B76: ZASADITEV VEGETACIJE - SKUPAJ | G76: =SUM(G70:G75) -> 0
B80: REKAPITULACIJA
B84: Opis dela | E84: Znesek /EUR/
B87: PREDDELA | E87: =$G$52 -> 0
B89: ZATRAVITEV | G89: =$G$63 -> 0
B91: ZASADITEV VEGETACIJE | E91: =$G$76 -> 0
B93: SKUPAJ | G93: =E87+G89+E91 -> 0

Sheet ELEKTRO
A2: 1. Pripravljalna dela
A4: Z. št. | B4: Opis | C4: Tip | D4: Enota | E4: Količina | F4: Cena/Enoto | G4: Cena
A5: 1 | B5: trasiranje | D5: m | E5: 1920 | F5: 0 | G5: =(E5*F5) -> 0
A6: =A5+1 -> 2 | B6: zakoličba trase komunalnih naprav pri križanju obstoječih zemeljskih vodov, sodelovanje predstavnika upravljalcev | D6: kos | E6: 2 | F6: 0 | G6: =(E6*F6) -> 0
A7: =A6+1 -> 3 | B7: Zakoličba stojnih mest svetilk, ter ostale opreme | D7: kos | E7: 58 | F7: 0 | G7: =(E7*F7) -> 0
A8: =A7+1 -> 4 | B8: ostala nespecificirana oz. nepredvidena pripravljalna dela | D8: % | E8: 5 | G8: =SUM(G5:G7)*E8/100 -> 0
F10: SKUPAJ | G10: =SUM(G5:G8) -> 0
A12: 2. Gradbena dela
A14: Z. št. | B14: Opis | C14: Tip | D14: Enota | E14: Količina | F14: Cena/Enoto | G14: Cena
A15: 1 | B15: strojni izkop jarka poprečne globine 0,8m, širine 0,2m, v zemljišču III kategorije | D15: m | E15: 990 | F15: 0 | G15: =(E15*F15) -> 0
A16: =A15+1 -> 2 | B16: strojni izkop jarka poprečne globine 1m, širine 0,3m, v zemljišču III kategorije | D16: m | E16: 840 | F16: 0 | G16: =(E16*F16) -> 0
A17: =A16+1 -> 3 | B17: izkop za potrebe postavitve montažnega temelja (Ø0,6x1,0m), kompletno z zasutjem in končno ureditvijo | D17: kos | E17: 44 | F17: 0 | G17: =(E17*F17) -> 0
A18: =A17+1 -> 4 | B18: izdelava peščene blazine iz mivke | D18: m3 | E18: 19.6 | F18: 0 | G18: =(E18*F18) -> 0
A19: =A18+1 -> 5 | B19: delno ročno in delno strojno zasutje kabelskih jarkov, zasutje temeljev in jaškov ter končna ureditev okolice izkopa | D19: komp. | E19: 1 | F19: 0 | G19: =(E19*F19) -> 0
A20: =A19+1 -> 6 | B20: dobava in polaganje plastične, rebraste, zaščitne cevi (dvoslojna), Ø40, na dno kabelskega jarka | D20: m | E20: 39 | F20: 0 | G20: =(E20*F20) -> 0
A21: =A20+1 -> 7 | B21: dobava in polaganje plastične, rebraste, zaščitne cevi (dvoslojna), Ø63, na dno kabelskega jarka | D21: m | E21: 1106 | F21: 0 | G21: =(E21*F21) -> 0
A22: =A21+1 -> 8 | B22: dobava in polaganje plastične, rebraste, zaščitne cevi (dvoslojna), Ø110, na dno kabelskega jarka | D22: m | E22: 1822 | F22: 0 | G22: =(E22*F22) -> 0
A23: =A22+1 -> 9 | B23: dobava in postavitev betonskega temelja, BC, dim. Ø30x100cm | D23: kos | E23: 44 | F23: 0 | G23: =(E23*F23) -> 0
A24: =A23+1 -> 10 | B24: izdelava podbetonov za postavitev temeljev, jaškov, instalacijskih jaškov ter stikalnih blokov | D24: m3 | E24: 3 | F24: 0 | G24: =(E24*F24) -> 0
A25: =A24+1 -> 11 | B25: dobava in postavitev montažnega jaška iz poliamida z vsebnostjo 30% steklenih vlaken, s pokrovom in dnom jaška, Inox okvirjem, dim. 60x60x90cm | C25: npr: Prebilplast | D25: kos | E25: 10 | F25: 0 | G25: =(E25*F25) -> 0
A26: =A25+1 -> 12 | B26: dobava in polaganje opozorilnega traku z napisom "POZOR ELEKTROENERGETSKI KABEL" | D26: m | E26: 1920 | F26: 0 | G26: =(E26*F26) -> 0
A27: =A26+1 -> 13 | B27: drobna nespecificirana oz. nepredvidena gradbena dela in material | D27: % | E27: 5 | G27: =SUM(G15:G26)*E27/100 -> 0
F29: SKUPAJ | G29: =SUM(G15:G27) -> 0
A33: 3. Montažna dela
A36: Z. št. | B36: Opis | C36: Tip | D36: Enota | E36: Količina | F36: Cena/Enoto | G36: Cena
A37: 1 | B37: dobava in polaganje energetskega kabla NYY-J 5x2,5mm2 | D37: m | E37: 191 | F37: 0 | G37: =(E37*F37) -> 0
A38: =A37+1 -> 2 | B38: dobava in polaganje energetskega kabla NYY-J 5x4mm2 | D38: m | E38: 105 | F38: 0 | G38: =(E38*F38) -> 0
A39: =A38+1 -> 3 | B39: dobava in polaganje energetskega kabla NYY-J 4x16mm2 | D39: m | E39: 227 | F39: 0 | G39: =(E39*F39) -> 0
A40: =A39+1 -> 4 | B40: dobava in polaganje energetskega kabla NAYY-J 4x16+2,5mm2 | D40: m | E40: 1186 | F40: 0 | G40: =(E40*F40) -> 0
A41: =A40+1 -> 5 | B41: dobava in polaganje energetskega kabla NAYY-J 4x70+2,5mm2 | D41: m | E41: 256 | F41: 0 | G41: =(E41*F41) -> 0
A42: =A41+1 -> 6 | B42: dobava in polaganje energetskega kabla NAYY-J 4x150+2,5mm2 | D42: m | E42: 90 | F42: 0 | G42: =(E42*F42) -> 0
A43: =A42+1 -> 7 | B43: dobava in polaganje pocinkanega jeklenega traku FeZn 25x4 mm, kompletno s križnimi sponkami | D43: m | E43: 1920 | F43: 0 | G43: =(E43*F43) -> 0
A44: =A43+1 -> 8 | B44: vodnik za izenačitev potenciala, kompletno s kontaktnim materialom (kabelski čevelj, zarezna podložka...), dolžine 0,5m | C44: H07Z-K 16 mm2 | D44: kos | E44: 50 | F44: 0 | G44: =(E44*F44) -> 0
A45: =A44+1 -> 9 | B45: dobava, vgradnja in priklop potopnega, instalacijskega jaška, dim,.:400x300x251mm, s priključki 1xCEE 5/16A 400V, 6x 230V, IP 67 | C45: npr: podlahove-zasuvky STAKOHOME-SV-106 | D45: kos | E45: 4 | F45: 0 | G45: =(E45*F45) -> 0
A46: =A45+1 -> 10 | B46: dobava, vgradnja in priklop potopnega, instalacijskega jaška, dim.:170x170x170mm, s priključki 4x 230V, IP 67 | C46: npr: podlahove-zasuvky STAKOHOME-1990-2B | D46: kos | E46: 2 | F46: 0 | G46: =(E46*F46) -> 0
A47: =A46+1 -> 11 | B47: dobava in montaža alumunijastega kabdelabra, višine h=4m, gornji premer 60mm, s siderno ploščo, vijaki in vložki za pritrditev, antracit | D47: kos | E47: 44 | F47: 0 | G47: =(E47*F47) -> 0
A48: =A47+1 -> 12 | B48: dobava in montaža svetilke za natik na kandelaber Ø=60 mm, v alumunijastem ohišju, dim.: Ø370 x 430 x 290 mm, IP66, antracit, z opalnim senčnikom, LED 20W, 3000K, ULOR=0; elektronska predstikalna naprava, z možnostjo zatemnjevanja z drugo fazo od polne moči do 10 % | C48: npr: Thorn FLEX 24L25-730 OP CL1 W5M D60 ANT | D48: kos | E48: 44 | F48: 0 | G48: =(E48*F48) -> 0
A49: =A48+1 -> 13 | B49: dobava in montaža priključnega seta za trifazni prehod, primeren za priključitev max. 3 kablov 4x16+1,5mm2, komplet z 2x taljivim vložkom D01, 6A | D49: kos | E49: 44 | F49: 0 | G49: =(E49*F49) -> 0
A50: =A49+1 -> 14 | B50: instalacija (ožičenje) kandelabrov in sicer od priključne omarice v svetilki do same svetilke s kablom NYM 4x1,5 mm2 | D50: kos | E50: 44 | F50: 0 | G50: =(E50*F50) -> 0
A51: =A50+1 -> 15 | B51: Stikalni blok KPMO: prostostoječa, poliestrska omarica z dvema vratoma, komplet s strešico, samostojnim, sestavljivim podstavkom, klučavnicami, montažno ploščo in ostalim drobnim materialom, dimenzij (brez podstavka) (1200x1200x300) z vgrajeno vsebino: -1x tripolno varovalčno stikalo velikosti 02, komplet z NV varovalnimi vložki | D51: kompl | E51: 1 | F51: 0 | G51: =(E51*F51) -> 0
B52: -1x tripolno varovalčno stikalo velikosti 02, komplet z NV varovalnimi vložki -1x tripolna prenapetostna zaščita razreda C -3x tokovni transforamtor, 100/5A -1x merilne sponke -2x umerjena, polindirektna, merilna garnitura -1x bakrene zbiralke, In=400A, vezni in drugi drobni material
A53: =A51+1 -> 16 | B53: Stikalni blok R-kamen1 in R-kamen2: prostostoječa, poliestrska omarica z dvema vratoma, komplet s strešico, samostojnim, sestavljivim podstavkom, klučavnicami, montažno ploščo in ostalim drobnim materialom, dimenzij (brez podstavka) (1000x1000x300) z vgrajeno vsebino: -6x tripolna varovalčna letev velikosti 00, komplet z NV varovalnimi vložki | D53: kompl | E53: 2 | F53: 0 | G53: =(E53*F53) -> 0
B54: -1x tripolna varovalčna letev velikosti 01, komplet z NV varovalnimi vložki -1x CEE vtičnica, 5p 63A, IP44 -1x vtičnica, 3p 16A, IP44 -1x RCCD 25/0,03A -2x instalacijski odklopnik, 3p C16A -1x instalacijski odklopnik, 1p C16A -1x bakrene zbiralke, In=250A, vezni in drugi drobni material
A55: =A53+1 -> 17 | B55: Stikalni blok R-kamen3: prostostoječa, poliestrska omarica z vrati, komplet s strešico, samostojnim, sestavljivim podstavkom, klučavnico, montažno ploščo in ostalim drobnim materialom, dimenzij (brez podstavka) (500x750x300) z vgrajeno vsebino: -1x tripolno glavno stikalo 63A -1x štiripolno, zaščitno stikalo na diferenčni tok, 63/0,03A -8x enopolni, instalacijski odklopnik | D55: kompl | E55: 1 | F55: 0 | G55: =(E55*F55) -> 0
B56: -4x tripolni, instalacijski odklopnik -1x ASTRO ura dvokanalna -1x tripolni kontaktor, 4,5kW -1x krmilno stikalo -1x vezni in drugi drobni material
A57: =A55+1 -> 18 | B57: drobni, montažni material s pripadajočim delom ter ostala, nepredvidena, montažna in demontažna dela | D57: % | E57: 5 | G57: =SUM(G37:G55)*E57/100 -> 0
F59: SKUPAJ | G59: =SUM(G37:G57) -> 0
A64: 4. Zaključna dela
A67: Z.št. | B67: Opis | C67: Tip | D67: Enota | E67: Količina | F67: Cena/Enoto | G67: Cena
A68: 1 | B68: geodetski posnetek trase kablovoda in lokacij svetilk ter vris objektov v kataster | D68: m | E68: 1920 | F68: 0 | G68: =(E68*F68) -> 0
A69: =A68+1 -> 2 | B69: funkcionalni preizkus in pregled električne inštalacije ter označevanje | D69: komplet | E69: 1 | F69: 0 | G69: =(E69*F69) -> 0
A70: =A69+1 -> 3 | B70: kontrolne meritve: -električnih parametrov kablovodov in izdelava merilnega protokola -ozemljitvena upornost, merjena na vsakem kandelabru in izdelava merilnega protokola | D70: komplet | E70: 1 | F70: 0 | G70: =(E70*F70) -> 0
A71: =A70+1 -> 4 | B71: priprava projektne dokumentacije (PID), dokazila o zanesljivosti objekta in ostale tehnične dokumentacije | D71: komplet | E71: 1 | F71: 0 | G71: =(E71*F71) -> 0
A72: =A71+1 -> 5 | B72: ostala drobna, nepredvidena zaključna dela | D72: % | E72: 5 | G72: =SUM(G68:G71)*E72/100 -> 0
F74: SKUPAJ | G74: =SUM(G68:G72) -> 0
F77: VREDNOST DEL
F78: vrednost materiala in del po popisu | G78: =SUM(G74+G59+G29+G10) -> 0
